{"text_format":"1","workbook":"xlsx","n_sheets":3,"sheets":["X1","X2","成績表印刷"],"not_rendered":{"charts":0,"images":0,"macros":1,"external_links":0,"defined_names":6,"comments":0,"pivot_tables":0},"unopened":[],"bounds":{"document_bytes":16777216,"sheet_cells":100000,"rows_first":2000,"rows_last":500,"rows_between":2000,"halvings":0,"cell_chars":16384,"cell_head_chars":4096},"cells_cut":0,"cells_raw":0,"read":"whole","date_system":"1900"}

{"sheet":"X1","index":0,"n_rows":529,"n_cols":13,"rows_kept":529,"cut":false,"hidden":true,"merged":[[0,7,0,8],[1,1,1,11]]}
[null,"第6回多摩総支部対抗団体戦大会"]
[null,"　　第5ラウンド",null,null,null,null,null,null,null,null,null,null,"欠席者"]
[null,"No.","レーン番号","チーム\n吹き順","氏名\n（フルネーム）","フリガナ　　　　　　（フルネーム）","欠席　　・空き","No.","合計入力","距離","男・女","団体戦チーム名","欠席＝1"]
[null,1,{"$f":"VLOOKUP($B4,#REF!,2,FALSE)","v":{"$error":"#REF!"}},{"$f":"VLOOKUP($B4,#REF!,3,FALSE)","v":{"$error":"#REF!"}},{"$f":"VLOOKUP($B4,#REF!,5,FALSE)","v":{"$error":"#REF!"}},{"$f":"VLOOKUP($B4,#REF!,6,FALSE)","v":{"$error":"#REF!"}},{"$f":"IF(M4=1,\"欠席\",IF(M4=9,\"空ﾚｰﾝ\",\"-\"))","v":"-"},{"$f":"+C4","v":{"$error":"#REF!"}},null,{"$f":"VLOOKUP($B4,#REF!,13,FALSE)","v":{"$error":"#REF!"}},{"$f":"VLOOKUP($B4,#REF!,10,FALSE)","v":{"$error":"#REF!"}},{"$f":"VLOOKUP($B4,#REF!,17,FALSE)","v":{"$error":"#REF!"}},{"$f":"IFERROR(VLOOKUP($B4,#REF!,2,FALSE),\"-\")","v":"-"}]
[null,2,{"$f":"VLOOKUP($B5,#REF!,2,FALSE)","v":{"$error":"#REF!"}},{"$f":"VLOOKUP($B5,#REF!,3,FALSE)","v":{"$error":"#REF!"}},{"$f":"VLOOKUP($B5,#REF!,5,FALSE)","v":{"$error":"#REF!"}},{"$f":"VLOOKUP($B5,#REF!,6,FALSE)","v":{"$error":"#REF!"}},"-",{"$f":"+C5","v":{"$error":"#REF!"}},null,{"$f":"VLOOKUP($B5,#REF!,13,FALSE)","v":{"$error":"#REF!"}},{"$f":"VLOOKUP($B5,#REF!,10,FALSE)","v":{"$error":"#REF!"}},{"$f":"VLOOKUP($B5,#REF!,17,FALSE)","v":{"$error":"#REF!"}},{"$f":"IFERROR(VLOOKUP($B5,#REF!,2,FALSE),\"-\")","v":"-"}]
[null,3,{"$f":"VLOOKUP($B6,#REF!,2,FALSE)","v":{"$error":"#REF!"}},{"$f":"VLOOKUP($B6,#REF!,3,FALSE)","v":{"$error":"#REF!"}},{"$f":"VLOOKUP($B6,#REF!,5,FALSE)","v":{"$error":"#REF!"}},{"$f":"VLOOKUP($B6,#REF!,6,FALSE)","v":{"$error":"#REF!"}},"-",{"$error":"#REF!"},null,{"$f":"VLOOKUP($B6,#REF!,13,FALSE)","v":{"$error":"#REF!"}},{"$f":"VLOOKUP($B6,#REF!,10,FALSE)","v":{"$error":"#REF!"}},{"$f":"VLOOKUP($B6,#REF!,17,FALSE)","v":{"$error":"#REF!"}},{"$f":"IFERROR(VLOOKUP($B6,#REF!,2,FALSE),\"-\")","v":"-"}]
[null,4,{"$f":"VLOOKUP($B7,#REF!,2,FALSE)","v":{"$error":"#REF!"}},{"$f":"VLOOKUP($B7,#REF!,3,FALSE)","v":{"$error":"#REF!"}},{"$f":"VLOOKUP($B7,#REF!,5,FALSE)","v":{"$error":"#REF!"}},{"$f":"VLOOKUP($B7,#REF!,6,FALSE)","v":{"$error":"#REF!"}},"-",{"$error":"#REF!"},null,{"$f":"VLOOKUP($B7,#REF!,13,FALSE)","v":{"$error":"#REF!"}},{"$f":"VLOOKUP($B7,#REF!,10,FALSE)","v":{"$error":"#REF!"}},{"$f":"VLOOKUP($B7,#REF!,17,FALSE)","v":{"$error":"#REF!"}},{"$f":"IFERROR(VLOOKUP($B7,#REF!,2,FALSE),\"-\")","v":"-"}]
[null,5,{"$f":"VLOOKUP($B8,#REF!,2,FALSE)","v":{"$error":"#REF!"}},{"$f":"VLOOKUP($B8,#REF!,3,FALSE)","v":{"$error":"#REF!"}},{"$f":"VLOOKUP($B8,#REF!,5,FALSE)","v":{"$error":"#REF!"}},{"$f":"VLOOKUP($B8,#REF!,6,FALSE)","v":{"$error":"#REF!"}},"-",{"$error":"#REF!"},null,{"$f":"VLOOKUP($B8,#REF!,13,FALSE)","v":{"$error":"#REF!"}},{"$f":"VLOOKUP($B8,#REF!,10,FALSE)","v":{"$error":"#REF!"}},{"$f":"VLOOKUP($B8,#REF!,17,FALSE)","v":{"$error":"#REF!"}},{"$f":"IFERROR(VLOOKUP($B8,#REF!,2,FALSE),\"-\")","v":"-"}]
[null,6,{"$f":"VLOOKUP($B9,#REF!,2,FALSE)","v":{"$error":"#REF!"}},{"$f":"VLOOKUP($B9,#REF!,3,FALSE)","v":{"$error":"#REF!"}},{"$f":"VLOOKUP($B9,#REF!,5,FALSE)","v":{"$error":"#REF!"}},{"$f":"VLOOKUP($B9,#REF!,6,FALSE)","v":{"$error":"#REF!"}},"-",{"$error":"#REF!"},null,{"$f":"VLOOKUP($B9,#REF!,13,FALSE)","v":{"$error":"#REF!"}},{"$f":"VLOOKUP($B9,#REF!,10,FALSE)","v":{"$error":"#REF!"}},{"$f":"VLOOKUP($B9,#REF!,17,FALSE)","v":{"$error":"#REF!"}},{"$f":"IFERROR(VLOOKUP($B9,#REF!,2,FALSE),\"-\")","v":"-"}]
[null,7,{"$f":"VLOOKUP($B10,#REF!,2,FALSE)","v":{"$error":"#REF!"}},{"$f":"VLOOKUP($B10,#REF!,3,FALSE)","v":{"$error":"#REF!"}},{"$f":"VLOOKUP($B10,#REF!,5,FALSE)","v":{"$error":"#REF!"}},{"$f":"VLOOKUP($B10,#REF!,6,FALSE)","v":{"$error":"#REF!"}},"-",{"$error":"#REF!"},null,{"$f":"VLOOKUP($B10,#REF!,13,FALSE)","v":{"$error":"#REF!"}},{"$f":"VLOOKUP($B10,#REF!,10,FALSE)","v":{"$error":"#REF!"}},{"$f":"VLOOKUP($B10,#REF!,17,FALSE)","v":{"$error":"#REF!"}},{"$f":"IFERROR(VLOOKUP($B10,#REF!,2,FALSE),\"-\")","v":"-"}]
[null,8,{"$f":"VLOOKUP($B11,#REF!,2,FALSE)","v":{"$error":"#REF!"}},{"$f":"VLOOKUP($B11,#REF!,3,FALSE)","v":{"$error":"#REF!"}},{"$f":"VLOOKUP($B11,#REF!,5,FALSE)","v":{"$error":"#REF!"}},{"$f":"VLOOKUP($B11,#REF!,6,FALSE)","v":{"$error":"#REF!"}},"-",{"$error":"#REF!"},null,{"$f":"VLOOKUP($B11,#REF!,13,FALSE)","v":{"$error":"#REF!"}},{"$f":"VLOOKUP($B11,#REF!,10,FALSE)","v":{"$error":"#REF!"}},{"$f":"VLOOKUP($B11,#REF!,17,FALSE)","v":{"$error":"#REF!"}},{"$f":"IFERROR(VLOOKUP($B11,#REF!,2,FALSE),\"-\")","v":"-"}]
[null,9,{"$f":"VLOOKUP($B12,#REF!,2,FALSE)","v":{"$error":"#REF!"}},{"$f":"VLOOKUP($B12,#REF!,3,FALSE)","v":{"$error":"#REF!"}},{"$f":"VLOOKUP($B12,#REF!,5,FALSE)","v":{"$error":"#REF!"}},{"$f":"VLOOKUP($B12,#REF!,6,FALSE)","v":{"$error":"#REF!"}},"-",{"$error":"#REF!"},null,{"$f":"VLOOKUP($B12,#REF!,13,FALSE)","v":{"$error":"#REF!"}},{"$f":"VLOOKUP($B12,#REF!,10,FALSE)","v":{"$error":"#REF!"}},{"$f":"VLOOKUP($B12,#REF!,17,FALSE)","v":{"$error":"#REF!"}},{"$f":"IFERROR(VLOOKUP($B12,#REF!,2,FALSE),\"-\")","v":"-"}]
[null,10,{"$f":"VLOOKUP($B13,#REF!,2,FALSE)","v":{"$error":"#REF!"}},{"$f":"VLOOKUP($B13,#REF!,3,FALSE)","v":{"$error":"#REF!"}},{"$f":"VLOOKUP($B13,#REF!,5,FALSE)","v":{"$error":"#REF!"}},{"$f":"VLOOKUP($B13,#REF!,6,FALSE)","v":{"$error":"#REF!"}},"-",{"$error":"#REF!"},null,{"$f":"VLOOKUP($B13,#REF!,13,FALSE)","v":{"$error":"#REF!"}},{"$f":"VLOOKUP($B13,#REF!,10,FALSE)","v":{"$error":"#REF!"}},{"$f":"VLOOKUP($B13,#REF!,17,FALSE)","v":{"$error":"#REF!"}},{"$f":"IFERROR(VLOOKUP($B13,#REF!,2,FALSE),\"-\")","v":"-"}]
[null,11,{"$f":"VLOOKUP($B14,#REF!,2,FALSE)","v":{"$error":"#REF!"}},{"$f":"VLOOKUP($B14,#REF!,3,FALSE)","v":{"$error":"#REF!"}},{"$f":"VLOOKUP($B14,#REF!,5,FALSE)","v":{"$error":"#REF!"}},{"$f":"VLOOKUP($B14,#REF!,6,FALSE)","v":{"$error":"#REF!"}},"-",{"$error":"#REF!"},null,{"$f":"VLOOKUP($B14,#REF!,13,FALSE)","v":{"$error":"#REF!"}},{"$f":"VLOOKUP($B14,#REF!,10,FALSE)","v":{"$error":"#REF!"}},{"$f":"VLOOKUP($B14,#REF!,17,FALSE)","v":{"$error":"#REF!"}},{"$f":"IFERROR(VLOOKUP($B14,#REF!,2,FALSE),\"-\")","v":"-"}]
[null,12,{"$f":"VLOOKUP($B15,#REF!,2,FALSE)","v":{"$error":"#REF!"}},{"$f":"VLOOKUP($B15,#REF!,3,FALSE)","v":{"$error":"#REF!"}},{"$f":"VLOOKUP($B15,#REF!,5,FALSE)","v":{"$error":"#REF!"}},{"$f":"VLOOKUP($B15,#REF!,6,FALSE)","v":{"$error":"#REF!"}},"-",{"$error":"#REF!"},null,{"$f":"VLOOKUP($B15,#REF!,13,FALSE)","v":{"$error":"#REF!"}},{"$f":"VLOOKUP($B15,#REF!,10,FALSE)","v":{"$error":"#REF!"}},{"$f":"VLOOKUP($B15,#REF!,17,FALSE)","v":{"$error":"#REF!"}},{"$f":"IFERROR(VLOOKUP($B15,#REF!,2,FALSE),\"-\")","v":"-"}]
[null,13,{"$f":"VLOOKUP($B16,#REF!,2,FALSE)","v":{"$error":"#REF!"}},{"$f":"VLOOKUP($B16,#REF!,3,FALSE)","v":{"$error":"#REF!"}},{"$f":"VLOOKUP($B16,#REF!,5,FALSE)","v":{"$error":"#REF!"}},{"$f":"VLOOKUP($B16,#REF!,6,FALSE)","v":{"$error":"#REF!"}},"-",{"$error":"#REF!"},null,{"$f":"VLOOKUP($B16,#REF!,13,FALSE)","v":{"$error":"#REF!"}},{"$f":"VLOOKUP($B16,#REF!,10,FALSE)","v":{"$error":"#REF!"}},{"$f":"VLOOKUP($B16,#REF!,17,FALSE)","v":{"$error":"#REF!"}},{"$f":"IFERROR(VLOOKUP($B16,#REF!,2,FALSE),\"-\")","v":"-"}]
[null,14,{"$f":"VLOOKUP($B17,#REF!,2,FALSE)","v":{"$error":"#REF!"}},{"$f":"VLOOKUP($B17,#REF!,3,FALSE)","v":{"$error":"#REF!"}},{"$f":"VLOOKUP($B17,#REF!,5,FALSE)","v":{"$error":"#REF!"}},{"$f":"VLOOKUP($B17,#REF!,6,FALSE)","v":{"$error":"#REF!"}},"-",{"$error":"#REF!"},null,{"$f":"VLOOKUP($B17,#REF!,13,FALSE)","v":{"$error":"#REF!"}},{"$f":"VLOOKUP($B17,#REF!,10,FALSE)","v":{"$error":"#REF!"}},{"$f":"VLOOKUP($B17,#REF!,17,FALSE)","v":{"$error":"#REF!"}},{"$f":"IFERROR(VLOOKUP($B17,#REF!,2,FALSE),\"-\")","v":"-"}]
[null,15,{"$f":"VLOOKUP($B18,#REF!,2,FALSE)","v":{"$error":"#REF!"}},{"$f":"VLOOKUP($B18,#REF!,3,FALSE)","v":{"$error":"#REF!"}},{"$f":"VLOOKUP($B18,#REF!,5,FALSE)","v":{"$error":"#REF!"}},{"$f":"VLOOKUP($B18,#REF!,6,FALSE)","v":{"$error":"#REF!"}},"-",{"$error":"#REF!"},null,{"$f":"VLOOKUP($B18,#REF!,13,FALSE)","v":{"$error":"#REF!"}},{"$f":"VLOOKUP($B18,#REF!,10,FALSE)","v":{"$error":"#REF!"}},{"$f":"VLOOKUP($B18,#REF!,17,FALSE)","v":{"$error":"#REF!"}},{"$f":"IFERROR(VLOOKUP($B18,#REF!,2,FALSE),\"-\")","v":"-"}]
[null,16,{"$f":"VLOOKUP($B19,#REF!,2,FALSE)","v":{"$error":"#REF!"}},{"$f":"VLOOKUP($B19,#REF!,3,FALSE)","v":{"$error":"#REF!"}},{"$f":"VLOOKUP($B19,#REF!,5,FALSE)","v":{"$error":"#REF!"}},{"$f":"VLOOKUP($B19,#REF!,6,FALSE)","v":{"$error":"#REF!"}},"-",{"$error":"#REF!"},null,{"$f":"VLOOKUP($B19,#REF!,13,FALSE)","v":{"$error":"#REF!"}},{"$f":"VLOOKUP($B19,#REF!,10,FALSE)","v":{"$error":"#REF!"}},{"$f":"VLOOKUP($B19,#REF!,17,FALSE)","v":{"$error":"#REF!"}},{"$f":"IFERROR(VLOOKUP($B19,#REF!,2,FALSE),\"-\")","v":"-"}]
[null,17,{"$f":"VLOOKUP($B20,#REF!,2,FALSE)","v":{"$error":"#REF!"}},{"$f":"VLOOKUP($B20,#REF!,3,FALSE)","v":{"$error":"#REF!"}},{"$f":"VLOOKUP($B20,#REF!,5,FALSE)","v":{"$error":"#REF!"}},{"$f":"VLOOKUP($B20,#REF!,6,FALSE)","v":{"$error":"#REF!"}},"-",{"$error":"#REF!"},null,{"$f":"VLOOKUP($B20,#REF!,13,FALSE)","v":{"$error":"#REF!"}},{"$f":"VLOOKUP($B20,#REF!,10,FALSE)","v":{"$error":"#REF!"}},{"$f":"VLOOKUP($B20,#REF!,17,FALSE)","v":{"$error":"#REF!"}},{"$f":"IFERROR(VLOOKUP($B20,#REF!,2,FALSE),\"-\")","v":"-"}]
[null,18,{"$f":"VLOOKUP($B21,#REF!,2,FALSE)","v":{"$error":"#REF!"}},{"$f":"VLOOKUP($B21,#REF!,3,FALSE)","v":{"$error":"#REF!"}},{"$f":"VLOOKUP($B21,#REF!,5,FALSE)","v":{"$error":"#REF!"}},{"$f":"VLOOKUP($B21,#REF!,6,FALSE)","v":{"$error":"#REF!"}},"-",{"$error":"#REF!"},null,{"$f":"VLOOKUP($B21,#REF!,13,FALSE)","v":{"$error":"#REF!"}},{"$f":"VLOOKUP($B21,#REF!,10,FALSE)","v":{"$error":"#REF!"}},{"$f":"VLOOKUP($B21,#REF!,17,FALSE)","v":{"$error":"#REF!"}},{"$f":"IFERROR(VLOOKUP($B21,#REF!,2,FALSE),\"-\")","v":"-"}]
[null,19,{"$f":"VLOOKUP($B22,#REF!,2,FALSE)","v":{"$error":"#REF!"}},{"$f":"VLOOKUP($B22,#REF!,3,FALSE)","v":{"$error":"#REF!"}},{"$f":"VLOOKUP($B22,#REF!,5,FALSE)","v":{"$error":"#REF!"}},{"$f":"VLOOKUP($B22,#REF!,6,FALSE)","v":{"$error":"#REF!"}},"-",{"$error":"#REF!"},null,{"$f":"VLOOKUP($B22,#REF!,13,FALSE)","v":{"$error":"#REF!"}},{"$f":"VLOOKUP($B22,#REF!,10,FALSE)","v":{"$error":"#REF!"}},{"$f":"VLOOKUP($B22,#REF!,17,FALSE)","v":{"$error":"#REF!"}},{"$f":"IFERROR(VLOOKUP($B22,#REF!,2,FALSE),\"-\")","v":"-"}]
[null,20,{"$f":"VLOOKUP($B23,#REF!,2,FALSE)","v":{"$error":"#REF!"}},{"$f":"VLOOKUP($B23,#REF!,3,FALSE)","v":{"$error":"#REF!"}},{"$f":"VLOOKUP($B23,#REF!,5,FALSE)","v":{"$error":"#REF!"}},{"$f":"VLOOKUP($B23,#REF!,6,FALSE)","v":{"$error":"#REF!"}},"-",{"$error":"#REF!"},null,{"$f":"VLOOKUP($B23,#REF!,13,FALSE)","v":{"$error":"#REF!"}},{"$f":"VLOOKUP($B23,#REF!,10,FALSE)","v":{"$error":"#REF!"}},{"$f":"VLOOKUP($B23,#REF!,17,FALSE)","v":{"$error":"#REF!"}},{"$f":"IFERROR(VLOOKUP($B23,#REF!,2,FALSE),\"-\")","v":"-"}]
[null,21,{"$f":"VLOOKUP($B24,#REF!,2,FALSE)","v":{"$error":"#REF!"}},{"$f":"VLOOKUP($B24,#REF!,3,FALSE)","v":{"$error":"#REF!"}},{"$f":"VLOOKUP($B24,#REF!,5,FALSE)","v":{"$error":"#REF!"}},{"$f":"VLOOKUP($B24,#REF!,6,FALSE)","v":{"$error":"#REF!"}},"-",{"$error":"#REF!"},null,{"$f":"VLOOKUP($B24,#REF!,13,FALSE)","v":{"$error":"#REF!"}},{"$f":"VLOOKUP($B24,#REF!,10,FALSE)","v":{"$error":"#REF!"}},{"$f":"VLOOKUP($B24,#REF!,17,FALSE)","v":{"$error":"#REF!"}},{"$f":"IFERROR(VLOOKUP($B24,#REF!,2,FALSE),\"-\")","v":"-"}]
[null,22,{"$f":"VLOOKUP($B25,#REF!,2,FALSE)","v":{"$error":"#REF!"}},{"$f":"VLOOKUP($B25,#REF!,3,FALSE)","v":{"$error":"#REF!"}},{"$f":"VLOOKUP($B25,#REF!,5,FALSE)","v":{"$error":"#REF!"}},{"$f":"VLOOKUP($B25,#REF!,6,FALSE)","v":{"$error":"#REF!"}},"-",{"$error":"#REF!"},null,{"$f":"VLOOKUP($B25,#REF!,13,FALSE)","v":{"$error":"#REF!"}},{"$f":"VLOOKUP($B25,#REF!,10,FALSE)","v":{"$error":"#REF!"}},{"$f":"VLOOKUP($B25,#REF!,17,FALSE)","v":{"$error":"#REF!"}},{"$f":"IFERROR(VLOOKUP($B25,#REF!,2,FALSE),\"-\")","v":"-"}]
[null,23,{"$f":"VLOOKUP($B26,#REF!,2,FALSE)","v":{"$error":"#REF!"}},{"$f":"VLOOKUP($B26,#REF!,3,FALSE)","v":{"$error":"#REF!"}},{"$f":"VLOOKUP($B26,#REF!,5,FALSE)","v":{"$error":"#REF!"}},{"$f":"VLOOKUP($B26,#REF!,6,FALSE)","v":{"$error":"#REF!"}},"-",{"$error":"#REF!"},null,{"$f":"VLOOKUP($B26,#REF!,13,FALSE)","v":{"$error":"#REF!"}},{"$f":"VLOOKUP($B26,#REF!,10,FALSE)","v":{"$error":"#REF!"}},{"$f":"VLOOKUP($B26,#REF!,17,FALSE)","v":{"$error":"#REF!"}},{"$f":"IFERROR(VLOOKUP($B26,#REF!,2,FALSE),\"-\")","v":"-"}]
[null,24,{"$f":"VLOOKUP($B27,#REF!,2,FALSE)","v":{"$error":"#REF!"}},{"$f":"VLOOKUP($B27,#REF!,3,FALSE)","v":{"$error":"#REF!"}},{"$f":"VLOOKUP($B27,#REF!,5,FALSE)","v":{"$error":"#REF!"}},{"$f":"VLOOKUP($B27,#REF!,6,FALSE)","v":{"$error":"#REF!"}},"-",{"$error":"#REF!"},null,{"$f":"VLOOKUP($B27,#REF!,13,FALSE)","v":{"$error":"#REF!"}},{"$f":"VLOOKUP($B27,#REF!,10,FALSE)","v":{"$error":"#REF!"}},{"$f":"VLOOKUP($B27,#REF!,17,FALSE)","v":{"$error":"#REF!"}},{"$f":"IFERROR(VLOOKUP($B27,#REF!,2,FALSE),\"-\")","v":"-"}]
[null,25,{"$f":"VLOOKUP($B28,#REF!,2,FALSE)","v":{"$error":"#REF!"}},{"$f":"VLOOKUP($B28,#REF!,3,FALSE)","v":{"$error":"#REF!"}},{"$f":"VLOOKUP($B28,#REF!,5,FALSE)","v":{"$error":"#REF!"}},{"$f":"VLOOKUP($B28,#REF!,6,FALSE)","v":{"$error":"#REF!"}},"-",{"$error":"#REF!"},null,{"$f":"VLOOKUP($B28,#REF!,13,FALSE)","v":{"$error":"#REF!"}},{"$f":"VLOOKUP($B28,#REF!,10,FALSE)","v":{"$error":"#REF!"}},{"$f":"VLOOKUP($B28,#REF!,17,FALSE)","v":{"$error":"#REF!"}},{"$f":"IFERROR(VLOOKUP($B28,#REF!,2,FALSE),\"-\")","v":"-"}]
[null,26,{"$f":"VLOOKUP($B29,#REF!,2,FALSE)","v":{"$error":"#REF!"}},{"$f":"VLOOKUP($B29,#REF!,3,FALSE)","v":{"$error":"#REF!"}},{"$f":"VLOOKUP($B29,#REF!,5,FALSE)","v":{"$error":"#REF!"}},{"$f":"VLOOKUP($B29,#REF!,6,FALSE)","v":{"$error":"#REF!"}},"-",{"$error":"#REF!"},null,{"$f":"VLOOKUP($B29,#REF!,13,FALSE)","v":{"$error":"#REF!"}},{"$f":"VLOOKUP($B29,#REF!,10,FALSE)","v":{"$error":"#REF!"}},{"$f":"VLOOKUP($B29,#REF!,17,FALSE)","v":{"$error":"#REF!"}},{"$f":"IFERROR(VLOOKUP($B29,#REF!,2,FALSE),\"-\")","v":"-"}]
[null,27,{"$f":"VLOOKUP($B30,#REF!,2,FALSE)","v":{"$error":"#REF!"}},{"$f":"VLOOKUP($B30,#REF!,3,FALSE)","v":{"$error":"#REF!"}},{"$f":"VLOOKUP($B30,#REF!,5,FALSE)","v":{"$error":"#REF!"}},{"$f":"VLOOKUP($B30,#REF!,6,FALSE)","v":{"$error":"#REF!"}},"-",{"$error":"#REF!"},null,{"$f":"VLOOKUP($B30,#REF!,13,FALSE)","v":{"$error":"#REF!"}},{"$f":"VLOOKUP($B30,#REF!,10,FALSE)","v":{"$error":"#REF!"}},{"$f":"VLOOKUP($B30,#REF!,17,FALSE)","v":{"$error":"#REF!"}},{"$f":"IFERROR(VLOOKUP($B30,#REF!,2,FALSE),\"-\")","v":"-"}]
[null,28,{"$f":"VLOOKUP($B31,#REF!,2,FALSE)","v":{"$error":"#REF!"}},{"$f":"VLOOKUP($B31,#REF!,3,FALSE)","v":{"$error":"#REF!"}},{"$f":"VLOOKUP($B31,#REF!,5,FALSE)","v":{"$error":"#REF!"}},{"$f":"VLOOKUP($B31,#REF!,6,FALSE)","v":{"$error":"#REF!"}},"-",{"$error":"#REF!"},null,{"$f":"VLOOKUP($B31,#REF!,13,FALSE)","v":{"$error":"#REF!"}},{"$f":"VLOOKUP($B31,#REF!,10,FALSE)","v":{"$error":"#REF!"}},{"$f":"VLOOKUP($B31,#REF!,17,FALSE)","v":{"$error":"#REF!"}},{"$f":"IFERROR(VLOOKUP($B31,#REF!,2,FALSE),\"-\")","v":"-"}]
[null,29,{"$f":"VLOOKUP($B32,#REF!,2,FALSE)","v":{"$error":"#REF!"}},{"$f":"VLOOKUP($B32,#REF!,3,FALSE)","v":{"$error":"#REF!"}},{"$f":"VLOOKUP($B32,#REF!,5,FALSE)","v":{"$error":"#REF!"}},{"$f":"VLOOKUP($B32,#REF!,6,FALSE)","v":{"$error":"#REF!"}},"-",{"$error":"#REF!"},null,{"$f":"VLOOKUP($B32,#REF!,13,FALSE)","v":{"$error":"#REF!"}},{"$f":"VLOOKUP($B32,#REF!,10,FALSE)","v":{"$error":"#REF!"}},{"$f":"VLOOKUP($B32,#REF!,17,FALSE)","v":{"$error":"#REF!"}},{"$f":"IFERROR(VLOOKUP($B32,#REF!,2,FALSE),\"-\")","v":"-"}]
[null,30,{"$f":"VLOOKUP($B33,#REF!,2,FALSE)","v":{"$error":"#REF!"}},{"$f":"VLOOKUP($B33,#REF!,3,FALSE)","v":{"$error":"#REF!"}},{"$f":"VLOOKUP($B33,#REF!,5,FALSE)","v":{"$error":"#REF!"}},{"$f":"VLOOKUP($B33,#REF!,6,FALSE)","v":{"$error":"#REF!"}},"-",{"$error":"#REF!"},null,{"$f":"VLOOKUP($B33,#REF!,13,FALSE)","v":{"$error":"#REF!"}},{"$f":"VLOOKUP($B33,#REF!,10,FALSE)","v":{"$error":"#REF!"}},{"$f":"VLOOKUP($B33,#REF!,17,FALSE)","v":{"$error":"#REF!"}},{"$f":"IFERROR(VLOOKUP($B33,#REF!,2,FALSE),\"-\")","v":"-"}]
[null,31,{"$f":"VLOOKUP($B34,#REF!,2,FALSE)","v":{"$error":"#REF!"}},{"$f":"VLOOKUP($B34,#REF!,3,FALSE)","v":{"$error":"#REF!"}},{"$f":"VLOOKUP($B34,#REF!,5,FALSE)","v":{"$error":"#REF!"}},{"$f":"VLOOKUP($B34,#REF!,6,FALSE)","v":{"$error":"#REF!"}},"-",{"$error":"#REF!"},null,{"$f":"VLOOKUP($B34,#REF!,13,FALSE)","v":{"$error":"#REF!"}},{"$f":"VLOOKUP($B34,#REF!,10,FALSE)","v":{"$error":"#REF!"}},{"$f":"VLOOKUP($B34,#REF!,17,FALSE)","v":{"$error":"#REF!"}},{"$f":"IFERROR(VLOOKUP($B34,#REF!,2,FALSE),\"-\")","v":"-"}]
[null,32,{"$f":"VLOOKUP($B35,#REF!,2,FALSE)","v":{"$error":"#REF!"}},{"$f":"VLOOKUP($B35,#REF!,3,FALSE)","v":{"$error":"#REF!"}},{"$f":"VLOOKUP($B35,#REF!,5,FALSE)","v":{"$error":"#REF!"}},{"$f":"VLOOKUP($B35,#REF!,6,FALSE)","v":{"$error":"#REF!"}},"-",{"$error":"#REF!"},null,{"$f":"VLOOKUP($B35,#REF!,13,FALSE)","v":{"$error":"#REF!"}},{"$f":"VLOOKUP($B35,#REF!,10,FALSE)","v":{"$error":"#REF!"}},{"$f":"VLOOKUP($B35,#REF!,17,FALSE)","v":{"$error":"#REF!"}},{"$f":"IFERROR(VLOOKUP($B35,#REF!,2,FALSE),\"-\")","v":"-"}]
[null,33,{"$f":"VLOOKUP($B36,#REF!,2,FALSE)","v":{"$error":"#REF!"}},{"$f":"VLOOKUP($B36,#REF!,3,FALSE)","v":{"$error":"#REF!"}},{"$f":"VLOOKUP($B36,#REF!,5,FALSE)","v":{"$error":"#REF!"}},{"$f":"VLOOKUP($B36,#REF!,6,FALSE)","v":{"$error":"#REF!"}},"-",{"$error":"#REF!"},null,{"$f":"VLOOKUP($B36,#REF!,13,FALSE)","v":{"$error":"#REF!"}},{"$f":"VLOOKUP($B36,#REF!,10,FALSE)","v":{"$error":"#REF!"}},{"$f":"VLOOKUP($B36,#REF!,17,FALSE)","v":{"$error":"#REF!"}},{"$f":"IFERROR(VLOOKUP($B36,#REF!,2,FALSE),\"-\")","v":"-"}]
[null,34,{"$f":"VLOOKUP($B37,#REF!,2,FALSE)","v":{"$error":"#REF!"}},{"$f":"VLOOKUP($B37,#REF!,3,FALSE)","v":{"$error":"#REF!"}},{"$f":"VLOOKUP($B37,#REF!,5,FALSE)","v":{"$error":"#REF!"}},{"$f":"VLOOKUP($B37,#REF!,6,FALSE)","v":{"$error":"#REF!"}},"-",{"$error":"#REF!"},null,{"$f":"VLOOKUP($B37,#REF!,13,FALSE)","v":{"$error":"#REF!"}},{"$f":"VLOOKUP($B37,#REF!,10,FALSE)","v":{"$error":"#REF!"}},{"$f":"VLOOKUP($B37,#REF!,17,FALSE)","v":{"$error":"#REF!"}},{"$f":"IFERROR(VLOOKUP($B37,#REF!,2,FALSE),\"-\")","v":"-"}]
[null,35,{"$f":"VLOOKUP($B38,#REF!,2,FALSE)","v":{"$error":"#REF!"}},{"$f":"VLOOKUP($B38,#REF!,3,FALSE)","v":{"$error":"#REF!"}},{"$f":"VLOOKUP($B38,#REF!,5,FALSE)","v":{"$error":"#REF!"}},{"$f":"VLOOKUP($B38,#REF!,6,FALSE)","v":{"$error":"#REF!"}},"-",{"$error":"#REF!"},null,{"$f":"VLOOKUP($B38,#REF!,13,FALSE)","v":{"$error":"#REF!"}},{"$f":"VLOOKUP($B38,#REF!,10,FALSE)","v":{"$error":"#REF!"}},{"$f":"VLOOKUP($B38,#REF!,17,FALSE)","v":{"$error":"#REF!"}},{"$f":"IFERROR(VLOOKUP($B38,#REF!,2,FALSE),\"-\")","v":"-"}]
[null,36,{"$f":"VLOOKUP($B39,#REF!,2,FALSE)","v":{"$error":"#REF!"}},{"$f":"VLOOKUP($B39,#REF!,3,FALSE)","v":{"$error":"#REF!"}},{"$f":"VLOOKUP($B39,#REF!,5,FALSE)","v":{"$error":"#REF!"}},{"$f":"VLOOKUP($B39,#REF!,6,FALSE)","v":{"$error":"#REF!"}},"-",{"$error":"#REF!"},null,{"$f":"VLOOKUP($B39,#REF!,13,FALSE)","v":{"$error":"#REF!"}},{"$f":"VLOOKUP($B39,#REF!,10,FALSE)","v":{"$error":"#REF!"}},{"$f":"VLOOKUP($B39,#REF!,17,FALSE)","v":{"$error":"#REF!"}},{"$f":"IFERROR(VLOOKUP($B39,#REF!,2,FALSE),\"-\")","v":"-"}]
[null,37,{"$f":"VLOOKUP($B40,#REF!,2,FALSE)","v":{"$error":"#REF!"}},{"$f":"VLOOKUP($B40,#REF!,3,FALSE)","v":{"$error":"#REF!"}},{"$f":"VLOOKUP($B40,#REF!,5,FALSE)","v":{"$error":"#REF!"}},{"$f":"VLOOKUP($B40,#REF!,6,FALSE)","v":{"$error":"#REF!"}},"-",{"$error":"#REF!"},null,{"$f":"VLOOKUP($B40,#REF!,13,FALSE)","v":{"$error":"#REF!"}},{"$f":"VLOOKUP($B40,#REF!,10,FALSE)","v":{"$error":"#REF!"}},{"$f":"VLOOKUP($B40,#REF!,17,FALSE)","v":{"$error":"#REF!"}},{"$f":"IFERROR(VLOOKUP($B40,#REF!,2,FALSE),\"-\")","v":"-"}]
[null,38,{"$f":"VLOOKUP($B41,#REF!,2,FALSE)","v":{"$error":"#REF!"}},{"$f":"VLOOKUP($B41,#REF!,3,FALSE)","v":{"$error":"#REF!"}},{"$f":"VLOOKUP($B41,#REF!,5,FALSE)","v":{"$error":"#REF!"}},{"$f":"VLOOKUP($B41,#REF!,6,FALSE)","v":{"$error":"#REF!"}},"-",{"$error":"#REF!"},null,{"$f":"VLOOKUP($B41,#REF!,13,FALSE)","v":{"$error":"#REF!"}},{"$f":"VLOOKUP($B41,#REF!,10,FALSE)","v":{"$error":"#REF!"}},{"$f":"VLOOKUP($B41,#REF!,17,FALSE)","v":{"$error":"#REF!"}},{"$f":"IFERROR(VLOOKUP($B41,#REF!,2,FALSE),\"-\")","v":"-"}]
[null,39,{"$f":"VLOOKUP($B42,#REF!,2,FALSE)","v":{"$error":"#REF!"}},{"$f":"VLOOKUP($B42,#REF!,3,FALSE)","v":{"$error":"#REF!"}},{"$f":"VLOOKUP($B42,#REF!,5,FALSE)","v":{"$error":"#REF!"}},{"$f":"VLOOKUP($B42,#REF!,6,FALSE)","v":{"$error":"#REF!"}},"-",{"$error":"#REF!"},null,{"$f":"VLOOKUP($B42,#REF!,13,FALSE)","v":{"$error":"#REF!"}},{"$f":"VLOOKUP($B42,#REF!,10,FALSE)","v":{"$error":"#REF!"}},{"$f":"VLOOKUP($B42,#REF!,17,FALSE)","v":{"$error":"#REF!"}},{"$f":"IFERROR(VLOOKUP($B42,#REF!,2,FALSE),\"-\")","v":"-"}]
[null,40,{"$f":"VLOOKUP($B43,#REF!,2,FALSE)","v":{"$error":"#REF!"}},{"$f":"VLOOKUP($B43,#REF!,3,FALSE)","v":{"$error":"#REF!"}},{"$f":"VLOOKUP($B43,#REF!,5,FALSE)","v":{"$error":"#REF!"}},{"$f":"VLOOKUP($B43,#REF!,6,FALSE)","v":{"$error":"#REF!"}},"-",{"$error":"#REF!"},null,{"$f":"VLOOKUP($B43,#REF!,13,FALSE)","v":{"$error":"#REF!"}},{"$f":"VLOOKUP($B43,#REF!,10,FALSE)","v":{"$error":"#REF!"}},{"$f":"VLOOKUP($B43,#REF!,17,FALSE)","v":{"$error":"#REF!"}},{"$f":"IFERROR(VLOOKUP($B43,#REF!,2,FALSE),\"-\")","v":"-"}]
[null,41,{"$f":"VLOOKUP($B44,#REF!,2,FALSE)","v":{"$error":"#REF!"}},{"$f":"VLOOKUP($B44,#REF!,3,FALSE)","v":{"$error":"#REF!"}},{"$f":"VLOOKUP($B44,#REF!,5,FALSE)","v":{"$error":"#REF!"}},{"$f":"VLOOKUP($B44,#REF!,6,FALSE)","v":{"$error":"#REF!"}},"-",{"$error":"#REF!"},null,{"$f":"VLOOKUP($B44,#REF!,13,FALSE)","v":{"$error":"#REF!"}},{"$f":"VLOOKUP($B44,#REF!,10,FALSE)","v":{"$error":"#REF!"}},{"$f":"VLOOKUP($B44,#REF!,17,FALSE)","v":{"$error":"#REF!"}},{"$f":"IFERROR(VLOOKUP($B44,#REF!,2,FALSE),\"-\")","v":"-"}]
[null,42,{"$f":"VLOOKUP($B45,#REF!,2,FALSE)","v":{"$error":"#REF!"}},{"$f":"VLOOKUP($B45,#REF!,3,FALSE)","v":{"$error":"#REF!"}},{"$f":"VLOOKUP($B45,#REF!,5,FALSE)","v":{"$error":"#REF!"}},{"$f":"VLOOKUP($B45,#REF!,6,FALSE)","v":{"$error":"#REF!"}},"-",{"$error":"#REF!"},null,{"$f":"VLOOKUP($B45,#REF!,13,FALSE)","v":{"$error":"#REF!"}},{"$f":"VLOOKUP($B45,#REF!,10,FALSE)","v":{"$error":"#REF!"}},{"$f":"VLOOKUP($B45,#REF!,17,FALSE)","v":{"$error":"#REF!"}},{"$f":"IFERROR(VLOOKUP($B45,#REF!,2,FALSE),\"-\")","v":"-"}]
[null,43,{"$f":"VLOOKUP($B46,#REF!,2,FALSE)","v":{"$error":"#REF!"}},{"$f":"VLOOKUP($B46,#REF!,3,FALSE)","v":{"$error":"#REF!"}},{"$f":"VLOOKUP($B46,#REF!,5,FALSE)","v":{"$error":"#REF!"}},{"$f":"VLOOKUP($B46,#REF!,6,FALSE)","v":{"$error":"#REF!"}},"-",{"$error":"#REF!"},null,{"$f":"VLOOKUP($B46,#REF!,13,FALSE)","v":{"$error":"#REF!"}},{"$f":"VLOOKUP($B46,#REF!,10,FALSE)","v":{"$error":"#REF!"}},{"$f":"VLOOKUP($B46,#REF!,17,FALSE)","v":{"$error":"#REF!"}},{"$f":"IFERROR(VLOOKUP($B46,#REF!,2,FALSE),\"-\")","v":"-"}]
[null,44,{"$f":"VLOOKUP($B47,#REF!,2,FALSE)","v":{"$error":"#REF!"}},{"$f":"VLOOKUP($B47,#REF!,3,FALSE)","v":{"$error":"#REF!"}},{"$f":"VLOOKUP($B47,#REF!,5,FALSE)","v":{"$error":"#REF!"}},{"$f":"VLOOKUP($B47,#REF!,6,FALSE)","v":{"$error":"#REF!"}},"-",{"$error":"#REF!"},null,{"$f":"VLOOKUP($B47,#REF!,13,FALSE)","v":{"$error":"#REF!"}},{"$f":"VLOOKUP($B47,#REF!,10,FALSE)","v":{"$error":"#REF!"}},{"$f":"VLOOKUP($B47,#REF!,17,FALSE)","v":{"$error":"#REF!"}},{"$f":"IFERROR(VLOOKUP($B47,#REF!,2,FALSE),\"-\")","v":"-"}]
[null,45,{"$f":"VLOOKUP($B48,#REF!,2,FALSE)","v":{"$error":"#REF!"}},{"$f":"VLOOKUP($B48,#REF!,3,FALSE)","v":{"$error":"#REF!"}},{"$f":"VLOOKUP($B48,#REF!,5,FALSE)","v":{"$error":"#REF!"}},{"$f":"VLOOKUP($B48,#REF!,6,FALSE)","v":{"$error":"#REF!"}},"-",{"$error":"#REF!"},null,{"$f":"VLOOKUP($B48,#REF!,13,FALSE)","v":{"$error":"#REF!"}},{"$f":"VLOOKUP($B48,#REF!,10,FALSE)","v":{"$error":"#REF!"}},{"$f":"VLOOKUP($B48,#REF!,17,FALSE)","v":{"$error":"#REF!"}},{"$f":"IFERROR(VLOOKUP($B48,#REF!,2,FALSE),\"-\")","v":"-"}]
[null,46,{"$f":"VLOOKUP($B49,#REF!,2,FALSE)","v":{"$error":"#REF!"}},{"$f":"VLOOKUP($B49,#REF!,3,FALSE)","v":{"$error":"#REF!"}},{"$f":"VLOOKUP($B49,#REF!,5,FALSE)","v":{"$error":"#REF!"}},{"$f":"VLOOKUP($B49,#REF!,6,FALSE)","v":{"$error":"#REF!"}},"-",{"$error":"#REF!"},null,{"$f":"VLOOKUP($B49,#REF!,13,FALSE)","v":{"$error":"#REF!"}},{"$f":"VLOOKUP($B49,#REF!,10,FALSE)","v":{"$error":"#REF!"}},{"$f":"VLOOKUP($B49,#REF!,17,FALSE)","v":{"$error":"#REF!"}},{"$f":"IFERROR(VLOOKUP($B49,#REF!,2,FALSE),\"-\")","v":"-"}]
[null,47,{"$f":"VLOOKUP($B50,#REF!,2,FALSE)","v":{"$error":"#REF!"}},{"$f":"VLOOKUP($B50,#REF!,3,FALSE)","v":{"$error":"#REF!"}},{"$f":"VLOOKUP($B50,#REF!,5,FALSE)","v":{"$error":"#REF!"}},{"$f":"VLOOKUP($B50,#REF!,6,FALSE)","v":{"$error":"#REF!"}},"-",{"$error":"#REF!"},null,{"$f":"VLOOKUP($B50,#REF!,13,FALSE)","v":{"$error":"#REF!"}},{"$f":"VLOOKUP($B50,#REF!,10,FALSE)","v":{"$error":"#REF!"}},{"$f":"VLOOKUP($B50,#REF!,17,FALSE)","v":{"$error":"#REF!"}},{"$f":"IFERROR(VLOOKUP($B50,#REF!,2,FALSE),\"-\")","v":"-"}]
[null,48,{"$f":"VLOOKUP($B51,#REF!,2,FALSE)","v":{"$error":"#REF!"}},{"$f":"VLOOKUP($B51,#REF!,3,FALSE)","v":{"$error":"#REF!"}},{"$f":"VLOOKUP($B51,#REF!,5,FALSE)","v":{"$error":"#REF!"}},{"$f":"VLOOKUP($B51,#REF!,6,FALSE)","v":{"$error":"#REF!"}},"-",{"$error":"#REF!"},null,{"$f":"VLOOKUP($B51,#REF!,13,FALSE)","v":{"$error":"#REF!"}},{"$f":"VLOOKUP($B51,#REF!,10,FALSE)","v":{"$error":"#REF!"}},{"$f":"VLOOKUP($B51,#REF!,17,FALSE)","v":{"$error":"#REF!"}},{"$f":"IFERROR(VLOOKUP($B51,#REF!,2,FALSE),\"-\")","v":"-"}]
[null,49,{"$f":"VLOOKUP($B52,#REF!,2,FALSE)","v":{"$error":"#REF!"}},{"$f":"VLOOKUP($B52,#REF!,3,FALSE)","v":{"$error":"#REF!"}},{"$f":"VLOOKUP($B52,#REF!,5,FALSE)","v":{"$error":"#REF!"}},{"$f":"VLOOKUP($B52,#REF!,6,FALSE)","v":{"$error":"#REF!"}},"-",{"$error":"#REF!"},null,{"$f":"VLOOKUP($B52,#REF!,13,FALSE)","v":{"$error":"#REF!"}},{"$f":"VLOOKUP($B52,#REF!,10,FALSE)","v":{"$error":"#REF!"}},{"$f":"VLOOKUP($B52,#REF!,17,FALSE)","v":{"$error":"#REF!"}},{"$f":"IFERROR(VLOOKUP($B52,#REF!,2,FALSE),\"-\")","v":"-"}]
[null,50,{"$f":"VLOOKUP($B53,#REF!,2,FALSE)","v":{"$error":"#REF!"}},{"$f":"VLOOKUP($B53,#REF!,3,FALSE)","v":{"$error":"#REF!"}},{"$f":"VLOOKUP($B53,#REF!,5,FALSE)","v":{"$error":"#REF!"}},{"$f":"VLOOKUP($B53,#REF!,6,FALSE)","v":{"$error":"#REF!"}},"-",{"$error":"#REF!"},null,{"$f":"VLOOKUP($B53,#REF!,13,FALSE)","v":{"$error":"#REF!"}},{"$f":"VLOOKUP($B53,#REF!,10,FALSE)","v":{"$error":"#REF!"}},{"$f":"VLOOKUP($B53,#REF!,17,FALSE)","v":{"$error":"#REF!"}},{"$f":"IFERROR(VLOOKUP($B53,#REF!,2,FALSE),\"-\")","v":"-"}]
[null,51,{"$f":"VLOOKUP($B54,#REF!,2,FALSE)","v":{"$error":"#REF!"}},{"$f":"VLOOKUP($B54,#REF!,3,FALSE)","v":{"$error":"#REF!"}},{"$f":"VLOOKUP($B54,#REF!,5,FALSE)","v":{"$error":"#REF!"}},{"$f":"VLOOKUP($B54,#REF!,6,FALSE)","v":{"$error":"#REF!"}},"-",{"$error":"#REF!"},null,{"$f":"VLOOKUP($B54,#REF!,13,FALSE)","v":{"$error":"#REF!"}},{"$f":"VLOOKUP($B54,#REF!,10,FALSE)","v":{"$error":"#REF!"}},{"$f":"VLOOKUP($B54,#REF!,17,FALSE)","v":{"$error":"#REF!"}},{"$f":"IFERROR(VLOOKUP($B54,#REF!,2,FALSE),\"-\")","v":"-"}]
[null,52,{"$f":"VLOOKUP($B55,#REF!,2,FALSE)","v":{"$error":"#REF!"}},{"$f":"VLOOKUP($B55,#REF!,3,FALSE)","v":{"$error":"#REF!"}},{"$f":"VLOOKUP($B55,#REF!,5,FALSE)","v":{"$error":"#REF!"}},{"$f":"VLOOKUP($B55,#REF!,6,FALSE)","v":{"$error":"#REF!"}},"-",{"$error":"#REF!"},null,{"$f":"VLOOKUP($B55,#REF!,13,FALSE)","v":{"$error":"#REF!"}},{"$f":"VLOOKUP($B55,#REF!,10,FALSE)","v":{"$error":"#REF!"}},{"$f":"VLOOKUP($B55,#REF!,17,FALSE)","v":{"$error":"#REF!"}},{"$f":"IFERROR(VLOOKUP($B55,#REF!,2,FALSE),\"-\")","v":"-"}]
[null,53,{"$f":"VLOOKUP($B56,#REF!,2,FALSE)","v":{"$error":"#REF!"}},{"$f":"VLOOKUP($B56,#REF!,3,FALSE)","v":{"$error":"#REF!"}},{"$f":"VLOOKUP($B56,#REF!,5,FALSE)","v":{"$error":"#REF!"}},{"$f":"VLOOKUP($B56,#REF!,6,FALSE)","v":{"$error":"#REF!"}},"-",{"$error":"#REF!"},null,{"$f":"VLOOKUP($B56,#REF!,13,FALSE)","v":{"$error":"#REF!"}},{"$f":"VLOOKUP($B56,#REF!,10,FALSE)","v":{"$error":"#REF!"}},{"$f":"VLOOKUP($B56,#REF!,17,FALSE)","v":{"$error":"#REF!"}},{"$f":"IFERROR(VLOOKUP($B56,#REF!,2,FALSE),\"-\")","v":"-"}]
[null,54,{"$f":"VLOOKUP($B57,#REF!,2,FALSE)","v":{"$error":"#REF!"}},{"$f":"VLOOKUP($B57,#REF!,3,FALSE)","v":{"$error":"#REF!"}},{"$f":"VLOOKUP($B57,#REF!,5,FALSE)","v":{"$error":"#REF!"}},{"$f":"VLOOKUP($B57,#REF!,6,FALSE)","v":{"$error":"#REF!"}},"-",{"$error":"#REF!"},null,{"$f":"VLOOKUP($B57,#REF!,13,FALSE)","v":{"$error":"#REF!"}},{"$f":"VLOOKUP($B57,#REF!,10,FALSE)","v":{"$error":"#REF!"}},{"$f":"VLOOKUP($B57,#REF!,17,FALSE)","v":{"$error":"#REF!"}},{"$f":"IFERROR(VLOOKUP($B57,#REF!,2,FALSE),\"-\")","v":"-"}]
[null,55,{"$f":"VLOOKUP($B58,#REF!,2,FALSE)","v":{"$error":"#REF!"}},{"$f":"VLOOKUP($B58,#REF!,3,FALSE)","v":{"$error":"#REF!"}},{"$f":"VLOOKUP($B58,#REF!,5,FALSE)","v":{"$error":"#REF!"}},{"$f":"VLOOKUP($B58,#REF!,6,FALSE)","v":{"$error":"#REF!"}},"-",{"$error":"#REF!"},null,{"$f":"VLOOKUP($B58,#REF!,13,FALSE)","v":{"$error":"#REF!"}},{"$f":"VLOOKUP($B58,#REF!,10,FALSE)","v":{"$error":"#REF!"}},{"$f":"VLOOKUP($B58,#REF!,17,FALSE)","v":{"$error":"#REF!"}},{"$f":"IFERROR(VLOOKUP($B58,#REF!,2,FALSE),\"-\")","v":"-"}]
[null,56,{"$f":"VLOOKUP($B59,#REF!,2,FALSE)","v":{"$error":"#REF!"}},{"$f":"VLOOKUP($B59,#REF!,3,FALSE)","v":{"$error":"#REF!"}},{"$f":"VLOOKUP($B59,#REF!,5,FALSE)","v":{"$error":"#REF!"}},{"$f":"VLOOKUP($B59,#REF!,6,FALSE)","v":{"$error":"#REF!"}},"-",{"$error":"#REF!"},null,{"$f":"VLOOKUP($B59,#REF!,13,FALSE)","v":{"$error":"#REF!"}},{"$f":"VLOOKUP($B59,#REF!,10,FALSE)","v":{"$error":"#REF!"}},{"$f":"VLOOKUP($B59,#REF!,17,FALSE)","v":{"$error":"#REF!"}},{"$f":"IFERROR(VLOOKUP($B59,#REF!,2,FALSE),\"-\")","v":"-"}]
[null,57,{"$f":"VLOOKUP($B60,#REF!,2,FALSE)","v":{"$error":"#REF!"}},{"$f":"VLOOKUP($B60,#REF!,3,FALSE)","v":{"$error":"#REF!"}},{"$f":"VLOOKUP($B60,#REF!,5,FALSE)","v":{"$error":"#REF!"}},{"$f":"VLOOKUP($B60,#REF!,6,FALSE)","v":{"$error":"#REF!"}},"-",{"$error":"#REF!"},null,{"$f":"VLOOKUP($B60,#REF!,13,FALSE)","v":{"$error":"#REF!"}},{"$f":"VLOOKUP($B60,#REF!,10,FALSE)","v":{"$error":"#REF!"}},{"$f":"VLOOKUP($B60,#REF!,17,FALSE)","v":{"$error":"#REF!"}},{"$f":"IFERROR(VLOOKUP($B60,#REF!,2,FALSE),\"-\")","v":"-"}]
[null,58,{"$f":"VLOOKUP($B61,#REF!,2,FALSE)","v":{"$error":"#REF!"}},{"$f":"VLOOKUP($B61,#REF!,3,FALSE)","v":{"$error":"#REF!"}},{"$f":"VLOOKUP($B61,#REF!,5,FALSE)","v":{"$error":"#REF!"}},{"$f":"VLOOKUP($B61,#REF!,6,FALSE)","v":{"$error":"#REF!"}},"-",{"$error":"#REF!"},null,{"$f":"VLOOKUP($B61,#REF!,13,FALSE)","v":{"$error":"#REF!"}},{"$f":"VLOOKUP($B61,#REF!,10,FALSE)","v":{"$error":"#REF!"}},{"$f":"VLOOKUP($B61,#REF!,17,FALSE)","v":{"$error":"#REF!"}},{"$f":"IFERROR(VLOOKUP($B61,#REF!,2,FALSE),\"-\")","v":"-"}]
[null,59,{"$f":"VLOOKUP($B62,#REF!,2,FALSE)","v":{"$error":"#REF!"}},{"$f":"VLOOKUP($B62,#REF!,3,FALSE)","v":{"$error":"#REF!"}},{"$f":"VLOOKUP($B62,#REF!,5,FALSE)","v":{"$error":"#REF!"}},{"$f":"VLOOKUP($B62,#REF!,6,FALSE)","v":{"$error":"#REF!"}},"-",{"$error":"#REF!"},null,{"$f":"VLOOKUP($B62,#REF!,13,FALSE)","v":{"$error":"#REF!"}},{"$f":"VLOOKUP($B62,#REF!,10,FALSE)","v":{"$error":"#REF!"}},{"$f":"VLOOKUP($B62,#REF!,17,FALSE)","v":{"$error":"#REF!"}},{"$f":"IFERROR(VLOOKUP($B62,#REF!,2,FALSE),\"-\")","v":"-"}]
[null,60,{"$f":"VLOOKUP($B63,#REF!,2,FALSE)","v":{"$error":"#REF!"}},{"$f":"VLOOKUP($B63,#REF!,3,FALSE)","v":{"$error":"#REF!"}},{"$f":"VLOOKUP($B63,#REF!,5,FALSE)","v":{"$error":"#REF!"}},{"$f":"VLOOKUP($B63,#REF!,6,FALSE)","v":{"$error":"#REF!"}},"-",{"$error":"#REF!"},null,{"$f":"VLOOKUP($B63,#REF!,13,FALSE)","v":{"$error":"#REF!"}},{"$f":"VLOOKUP($B63,#REF!,10,FALSE)","v":{"$error":"#REF!"}},{"$f":"VLOOKUP($B63,#REF!,17,FALSE)","v":{"$error":"#REF!"}},{"$f":"IFERROR(VLOOKUP($B63,#REF!,2,FALSE),\"-\")","v":"-"}]
[null,61,{"$f":"VLOOKUP($B64,#REF!,2,FALSE)","v":{"$error":"#REF!"}},{"$f":"VLOOKUP($B64,#REF!,3,FALSE)","v":{"$error":"#REF!"}},{"$f":"VLOOKUP($B64,#REF!,5,FALSE)","v":{"$error":"#REF!"}},{"$f":"VLOOKUP($B64,#REF!,6,FALSE)","v":{"$error":"#REF!"}},"-",{"$error":"#REF!"},null,{"$f":"VLOOKUP($B64,#REF!,13,FALSE)","v":{"$error":"#REF!"}},{"$f":"VLOOKUP($B64,#REF!,10,FALSE)","v":{"$error":"#REF!"}},{"$f":"VLOOKUP($B64,#REF!,17,FALSE)","v":{"$error":"#REF!"}},{"$f":"IFERROR(VLOOKUP($B64,#REF!,2,FALSE),\"-\")","v":"-"}]
[null,62,{"$f":"VLOOKUP($B65,#REF!,2,FALSE)","v":{"$error":"#REF!"}},{"$f":"VLOOKUP($B65,#REF!,3,FALSE)","v":{"$error":"#REF!"}},{"$f":"VLOOKUP($B65,#REF!,5,FALSE)","v":{"$error":"#REF!"}},{"$f":"VLOOKUP($B65,#REF!,6,FALSE)","v":{"$error":"#REF!"}},"-",{"$error":"#REF!"},null,{"$f":"VLOOKUP($B65,#REF!,13,FALSE)","v":{"$error":"#REF!"}},{"$f":"VLOOKUP($B65,#REF!,10,FALSE)","v":{"$error":"#REF!"}},{"$f":"VLOOKUP($B65,#REF!,17,FALSE)","v":{"$error":"#REF!"}},{"$f":"IFERROR(VLOOKUP($B65,#REF!,2,FALSE),\"-\")","v":"-"}]
[null,63,{"$f":"VLOOKUP($B66,#REF!,2,FALSE)","v":{"$error":"#REF!"}},{"$f":"VLOOKUP($B66,#REF!,3,FALSE)","v":{"$error":"#REF!"}},{"$f":"VLOOKUP($B66,#REF!,5,FALSE)","v":{"$error":"#REF!"}},{"$f":"VLOOKUP($B66,#REF!,6,FALSE)","v":{"$error":"#REF!"}},"-",{"$error":"#REF!"},null,{"$f":"VLOOKUP($B66,#REF!,13,FALSE)","v":{"$error":"#REF!"}},{"$f":"VLOOKUP($B66,#REF!,10,FALSE)","v":{"$error":"#REF!"}},{"$f":"VLOOKUP($B66,#REF!,17,FALSE)","v":{"$error":"#REF!"}},{"$f":"IFERROR(VLOOKUP($B66,#REF!,2,FALSE),\"-\")","v":"-"}]
[null,64,{"$f":"VLOOKUP($B67,#REF!,2,FALSE)","v":{"$error":"#REF!"}},{"$f":"VLOOKUP($B67,#REF!,3,FALSE)","v":{"$error":"#REF!"}},{"$f":"VLOOKUP($B67,#REF!,5,FALSE)","v":{"$error":"#REF!"}},{"$f":"VLOOKUP($B67,#REF!,6,FALSE)","v":{"$error":"#REF!"}},"-",{"$error":"#REF!"},null,{"$f":"VLOOKUP($B67,#REF!,13,FALSE)","v":{"$error":"#REF!"}},{"$f":"VLOOKUP($B67,#REF!,10,FALSE)","v":{"$error":"#REF!"}},{"$f":"VLOOKUP($B67,#REF!,17,FALSE)","v":{"$error":"#REF!"}},{"$f":"IFERROR(VLOOKUP($B67,#REF!,2,FALSE),\"-\")","v":"-"}]
[null,65,{"$f":"VLOOKUP($B68,#REF!,2,FALSE)","v":{"$error":"#REF!"}},{"$f":"VLOOKUP($B68,#REF!,3,FALSE)","v":{"$error":"#REF!"}},{"$f":"VLOOKUP($B68,#REF!,5,FALSE)","v":{"$error":"#REF!"}},{"$f":"VLOOKUP($B68,#REF!,6,FALSE)","v":{"$error":"#REF!"}},{"$f":"IF(M68=1,\"欠席\",IF(M68=9,\"空ﾚｰﾝ\",\"-\"))","v":"-"},{"$error":"#REF!"},null,{"$f":"VLOOKUP($B68,#REF!,13,FALSE)","v":{"$error":"#REF!"}},{"$f":"VLOOKUP($B68,#REF!,10,FALSE)","v":{"$error":"#REF!"}},{"$f":"VLOOKUP($B68,#REF!,17,FALSE)","v":{"$error":"#REF!"}},{"$f":"IFERROR(VLOOKUP($B68,#REF!,2,FALSE),\"-\")","v":"-"}]
[null,66,{"$f":"VLOOKUP($B69,#REF!,2,FALSE)","v":{"$error":"#REF!"}},{"$f":"VLOOKUP($B69,#REF!,3,FALSE)","v":{"$error":"#REF!"}},{"$f":"VLOOKUP($B69,#REF!,5,FALSE)","v":{"$error":"#REF!"}},{"$f":"VLOOKUP($B69,#REF!,6,FALSE)","v":{"$error":"#REF!"}},"-",{"$f":"+C69","v":{"$error":"#REF!"}},null,{"$f":"VLOOKUP($B69,#REF!,13,FALSE)","v":{"$error":"#REF!"}},{"$f":"VLOOKUP($B69,#REF!,10,FALSE)","v":{"$error":"#REF!"}},{"$f":"VLOOKUP($B69,#REF!,17,FALSE)","v":{"$error":"#REF!"}},{"$f":"IFERROR(VLOOKUP($B69,#REF!,2,FALSE),\"-\")","v":"-"}]
[null,67,{"$f":"VLOOKUP($B70,#REF!,2,FALSE)","v":{"$error":"#REF!"}},{"$f":"VLOOKUP($B70,#REF!,3,FALSE)","v":{"$error":"#REF!"}},{"$f":"VLOOKUP($B70,#REF!,5,FALSE)","v":{"$error":"#REF!"}},{"$f":"VLOOKUP($B70,#REF!,6,FALSE)","v":{"$error":"#REF!"}},"-",{"$error":"#REF!"},null,{"$f":"VLOOKUP($B70,#REF!,13,FALSE)","v":{"$error":"#REF!"}},{"$f":"VLOOKUP($B70,#REF!,10,FALSE)","v":{"$error":"#REF!"}},{"$f":"VLOOKUP($B70,#REF!,17,FALSE)","v":{"$error":"#REF!"}},{"$f":"IFERROR(VLOOKUP($B70,#REF!,2,FALSE),\"-\")","v":"-"}]
[null,68,{"$f":"VLOOKUP($B71,#REF!,2,FALSE)","v":{"$error":"#REF!"}},{"$f":"VLOOKUP($B71,#REF!,3,FALSE)","v":{"$error":"#REF!"}},{"$f":"VLOOKUP($B71,#REF!,5,FALSE)","v":{"$error":"#REF!"}},{"$f":"VLOOKUP($B71,#REF!,6,FALSE)","v":{"$error":"#REF!"}},"-",{"$error":"#REF!"},null,{"$f":"VLOOKUP($B71,#REF!,13,FALSE)","v":{"$error":"#REF!"}},{"$f":"VLOOKUP($B71,#REF!,10,FALSE)","v":{"$error":"#REF!"}},{"$f":"VLOOKUP($B71,#REF!,17,FALSE)","v":{"$error":"#REF!"}},{"$f":"IFERROR(VLOOKUP($B71,#REF!,2,FALSE),\"-\")","v":"-"}]
[null,69,{"$f":"VLOOKUP($B72,#REF!,2,FALSE)","v":{"$error":"#REF!"}},{"$f":"VLOOKUP($B72,#REF!,3,FALSE)","v":{"$error":"#REF!"}},{"$f":"VLOOKUP($B72,#REF!,5,FALSE)","v":{"$error":"#REF!"}},{"$f":"VLOOKUP($B72,#REF!,6,FALSE)","v":{"$error":"#REF!"}},"-",{"$error":"#REF!"},null,{"$f":"VLOOKUP($B72,#REF!,13,FALSE)","v":{"$error":"#REF!"}},{"$f":"VLOOKUP($B72,#REF!,10,FALSE)","v":{"$error":"#REF!"}},{"$f":"VLOOKUP($B72,#REF!,17,FALSE)","v":{"$error":"#REF!"}},{"$f":"IFERROR(VLOOKUP($B72,#REF!,2,FALSE),\"-\")","v":"-"}]
[null,70,{"$f":"VLOOKUP($B73,#REF!,2,FALSE)","v":{"$error":"#REF!"}},{"$f":"VLOOKUP($B73,#REF!,3,FALSE)","v":{"$error":"#REF!"}},{"$f":"VLOOKUP($B73,#REF!,5,FALSE)","v":{"$error":"#REF!"}},{"$f":"VLOOKUP($B73,#REF!,6,FALSE)","v":{"$error":"#REF!"}},"-",{"$error":"#REF!"},null,{"$f":"VLOOKUP($B73,#REF!,13,FALSE)","v":{"$error":"#REF!"}},{"$f":"VLOOKUP($B73,#REF!,10,FALSE)","v":{"$error":"#REF!"}},{"$f":"VLOOKUP($B73,#REF!,17,FALSE)","v":{"$error":"#REF!"}},{"$f":"IFERROR(VLOOKUP($B73,#REF!,2,FALSE),\"-\")","v":"-"}]
[null,71,{"$f":"VLOOKUP($B74,#REF!,2,FALSE)","v":{"$error":"#REF!"}},{"$f":"VLOOKUP($B74,#REF!,3,FALSE)","v":{"$error":"#REF!"}},{"$f":"VLOOKUP($B74,#REF!,5,FALSE)","v":{"$error":"#REF!"}},{"$f":"VLOOKUP($B74,#REF!,6,FALSE)","v":{"$error":"#REF!"}},"-",{"$error":"#REF!"},null,{"$f":"VLOOKUP($B74,#REF!,13,FALSE)","v":{"$error":"#REF!"}},{"$f":"VLOOKUP($B74,#REF!,10,FALSE)","v":{"$error":"#REF!"}},{"$f":"VLOOKUP($B74,#REF!,17,FALSE)","v":{"$error":"#REF!"}},{"$f":"IFERROR(VLOOKUP($B74,#REF!,2,FALSE),\"-\")","v":"-"}]
[null,72,{"$f":"VLOOKUP($B75,#REF!,2,FALSE)","v":{"$error":"#REF!"}},{"$f":"VLOOKUP($B75,#REF!,3,FALSE)","v":{"$error":"#REF!"}},{"$f":"VLOOKUP($B75,#REF!,5,FALSE)","v":{"$error":"#REF!"}},{"$f":"VLOOKUP($B75,#REF!,6,FALSE)","v":{"$error":"#REF!"}},"-",{"$error":"#REF!"},null,{"$f":"VLOOKUP($B75,#REF!,13,FALSE)","v":{"$error":"#REF!"}},{"$f":"VLOOKUP($B75,#REF!,10,FALSE)","v":{"$error":"#REF!"}},{"$f":"VLOOKUP($B75,#REF!,17,FALSE)","v":{"$error":"#REF!"}},{"$f":"IFERROR(VLOOKUP($B75,#REF!,2,FALSE),\"-\")","v":"-"}]
[null,73,{"$f":"VLOOKUP($B76,#REF!,2,FALSE)","v":{"$error":"#REF!"}},{"$f":"VLOOKUP($B76,#REF!,3,FALSE)","v":{"$error":"#REF!"}},{"$f":"VLOOKUP($B76,#REF!,5,FALSE)","v":{"$error":"#REF!"}},{"$f":"VLOOKUP($B76,#REF!,6,FALSE)","v":{"$error":"#REF!"}},"-",{"$error":"#REF!"},null,{"$f":"VLOOKUP($B76,#REF!,13,FALSE)","v":{"$error":"#REF!"}},{"$f":"VLOOKUP($B76,#REF!,10,FALSE)","v":{"$error":"#REF!"}},{"$f":"VLOOKUP($B76,#REF!,17,FALSE)","v":{"$error":"#REF!"}},{"$f":"IFERROR(VLOOKUP($B76,#REF!,2,FALSE),\"-\")","v":"-"}]
[null,74,{"$f":"VLOOKUP($B77,#REF!,2,FALSE)","v":{"$error":"#REF!"}},{"$f":"VLOOKUP($B77,#REF!,3,FALSE)","v":{"$error":"#REF!"}},{"$f":"VLOOKUP($B77,#REF!,5,FALSE)","v":{"$error":"#REF!"}},{"$f":"VLOOKUP($B77,#REF!,6,FALSE)","v":{"$error":"#REF!"}},"-",{"$error":"#REF!"},null,{"$f":"VLOOKUP($B77,#REF!,13,FALSE)","v":{"$error":"#REF!"}},{"$f":"VLOOKUP($B77,#REF!,10,FALSE)","v":{"$error":"#REF!"}},{"$f":"VLOOKUP($B77,#REF!,17,FALSE)","v":{"$error":"#REF!"}},{"$f":"IFERROR(VLOOKUP($B77,#REF!,2,FALSE),\"-\")","v":"-"}]
[null,75,{"$f":"VLOOKUP($B78,#REF!,2,FALSE)","v":{"$error":"#REF!"}},{"$f":"VLOOKUP($B78,#REF!,3,FALSE)","v":{"$error":"#REF!"}},{"$f":"VLOOKUP($B78,#REF!,5,FALSE)","v":{"$error":"#REF!"}},{"$f":"VLOOKUP($B78,#REF!,6,FALSE)","v":{"$error":"#REF!"}},"-",{"$error":"#REF!"},null,{"$f":"VLOOKUP($B78,#REF!,13,FALSE)","v":{"$error":"#REF!"}},{"$f":"VLOOKUP($B78,#REF!,10,FALSE)","v":{"$error":"#REF!"}},{"$f":"VLOOKUP($B78,#REF!,17,FALSE)","v":{"$error":"#REF!"}},{"$f":"IFERROR(VLOOKUP($B78,#REF!,2,FALSE),\"-\")","v":"-"}]
[null,76,{"$f":"VLOOKUP($B79,#REF!,2,FALSE)","v":{"$error":"#REF!"}},{"$f":"VLOOKUP($B79,#REF!,3,FALSE)","v":{"$error":"#REF!"}},{"$f":"VLOOKUP($B79,#REF!,5,FALSE)","v":{"$error":"#REF!"}},{"$f":"VLOOKUP($B79,#REF!,6,FALSE)","v":{"$error":"#REF!"}},"-",{"$error":"#REF!"},null,{"$f":"VLOOKUP($B79,#REF!,13,FALSE)","v":{"$error":"#REF!"}},{"$f":"VLOOKUP($B79,#REF!,10,FALSE)","v":{"$error":"#REF!"}},{"$f":"VLOOKUP($B79,#REF!,17,FALSE)","v":{"$error":"#REF!"}},{"$f":"IFERROR(VLOOKUP($B79,#REF!,2,FALSE),\"-\")","v":"-"}]
[null,77,{"$f":"VLOOKUP($B80,#REF!,2,FALSE)","v":{"$error":"#REF!"}},{"$f":"VLOOKUP($B80,#REF!,3,FALSE)","v":{"$error":"#REF!"}},{"$f":"VLOOKUP($B80,#REF!,5,FALSE)","v":{"$error":"#REF!"}},{"$f":"VLOOKUP($B80,#REF!,6,FALSE)","v":{"$error":"#REF!"}},"-",{"$error":"#REF!"},null,{"$f":"VLOOKUP($B80,#REF!,13,FALSE)","v":{"$error":"#REF!"}},{"$f":"VLOOKUP($B80,#REF!,10,FALSE)","v":{"$error":"#REF!"}},{"$f":"VLOOKUP($B80,#REF!,17,FALSE)","v":{"$error":"#REF!"}},{"$f":"IFERROR(VLOOKUP($B80,#REF!,2,FALSE),\"-\")","v":"-"}]
[null,78,{"$f":"VLOOKUP($B81,#REF!,2,FALSE)","v":{"$error":"#REF!"}},{"$f":"VLOOKUP($B81,#REF!,3,FALSE)","v":{"$error":"#REF!"}},{"$f":"VLOOKUP($B81,#REF!,5,FALSE)","v":{"$error":"#REF!"}},{"$f":"VLOOKUP($B81,#REF!,6,FALSE)","v":{"$error":"#REF!"}},"-",{"$error":"#REF!"},null,{"$f":"VLOOKUP($B81,#REF!,13,FALSE)","v":{"$error":"#REF!"}},{"$f":"VLOOKUP($B81,#REF!,10,FALSE)","v":{"$error":"#REF!"}},{"$f":"VLOOKUP($B81,#REF!,17,FALSE)","v":{"$error":"#REF!"}},{"$f":"IFERROR(VLOOKUP($B81,#REF!,2,FALSE),\"-\")","v":"-"}]
[null,79,{"$f":"VLOOKUP($B82,#REF!,2,FALSE)","v":{"$error":"#REF!"}},{"$f":"VLOOKUP($B82,#REF!,3,FALSE)","v":{"$error":"#REF!"}},{"$f":"VLOOKUP($B82,#REF!,5,FALSE)","v":{"$error":"#REF!"}},{"$f":"VLOOKUP($B82,#REF!,6,FALSE)","v":{"$error":"#REF!"}},"-",{"$error":"#REF!"},null,{"$f":"VLOOKUP($B82,#REF!,13,FALSE)","v":{"$error":"#REF!"}},{"$f":"VLOOKUP($B82,#REF!,10,FALSE)","v":{"$error":"#REF!"}},{"$f":"VLOOKUP($B82,#REF!,17,FALSE)","v":{"$error":"#REF!"}},{"$f":"IFERROR(VLOOKUP($B82,#REF!,2,FALSE),\"-\")","v":"-"}]
[null,80,{"$f":"VLOOKUP($B83,#REF!,2,FALSE)","v":{"$error":"#REF!"}},{"$f":"VLOOKUP($B83,#REF!,3,FALSE)","v":{"$error":"#REF!"}},{"$f":"VLOOKUP($B83,#REF!,5,FALSE)","v":{"$error":"#REF!"}},{"$f":"VLOOKUP($B83,#REF!,6,FALSE)","v":{"$error":"#REF!"}},"-",{"$error":"#REF!"},null,{"$f":"VLOOKUP($B83,#REF!,13,FALSE)","v":{"$error":"#REF!"}},{"$f":"VLOOKUP($B83,#REF!,10,FALSE)","v":{"$error":"#REF!"}},{"$f":"VLOOKUP($B83,#REF!,17,FALSE)","v":{"$error":"#REF!"}},{"$f":"IFERROR(VLOOKUP($B83,#REF!,2,FALSE),\"-\")","v":"-"}]
[null,81,{"$f":"VLOOKUP($B84,#REF!,2,FALSE)","v":{"$error":"#REF!"}},{"$f":"VLOOKUP($B84,#REF!,3,FALSE)","v":{"$error":"#REF!"}},{"$f":"VLOOKUP($B84,#REF!,5,FALSE)","v":{"$error":"#REF!"}},{"$f":"VLOOKUP($B84,#REF!,6,FALSE)","v":{"$error":"#REF!"}},"-",{"$error":"#REF!"},null,{"$f":"VLOOKUP($B84,#REF!,13,FALSE)","v":{"$error":"#REF!"}},{"$f":"VLOOKUP($B84,#REF!,10,FALSE)","v":{"$error":"#REF!"}},{"$f":"VLOOKUP($B84,#REF!,17,FALSE)","v":{"$error":"#REF!"}},{"$f":"IFERROR(VLOOKUP($B84,#REF!,2,FALSE),\"-\")","v":"-"}]
[null,82,{"$f":"VLOOKUP($B85,#REF!,2,FALSE)","v":{"$error":"#REF!"}},{"$f":"VLOOKUP($B85,#REF!,3,FALSE)","v":{"$error":"#REF!"}},{"$f":"VLOOKUP($B85,#REF!,5,FALSE)","v":{"$error":"#REF!"}},{"$f":"VLOOKUP($B85,#REF!,6,FALSE)","v":{"$error":"#REF!"}},"-",{"$error":"#REF!"},null,{"$f":"VLOOKUP($B85,#REF!,13,FALSE)","v":{"$error":"#REF!"}},{"$f":"VLOOKUP($B85,#REF!,10,FALSE)","v":{"$error":"#REF!"}},{"$f":"VLOOKUP($B85,#REF!,17,FALSE)","v":{"$error":"#REF!"}},{"$f":"IFERROR(VLOOKUP($B85,#REF!,2,FALSE),\"-\")","v":"-"}]
[null,83,{"$f":"VLOOKUP($B86,#REF!,2,FALSE)","v":{"$error":"#REF!"}},{"$f":"VLOOKUP($B86,#REF!,3,FALSE)","v":{"$error":"#REF!"}},{"$f":"VLOOKUP($B86,#REF!,5,FALSE)","v":{"$error":"#REF!"}},{"$f":"VLOOKUP($B86,#REF!,6,FALSE)","v":{"$error":"#REF!"}},"-",{"$error":"#REF!"},null,{"$f":"VLOOKUP($B86,#REF!,13,FALSE)","v":{"$error":"#REF!"}},{"$f":"VLOOKUP($B86,#REF!,10,FALSE)","v":{"$error":"#REF!"}},{"$f":"VLOOKUP($B86,#REF!,17,FALSE)","v":{"$error":"#REF!"}},{"$f":"IFERROR(VLOOKUP($B86,#REF!,2,FALSE),\"-\")","v":"-"}]
[null,84,{"$f":"VLOOKUP($B87,#REF!,2,FALSE)","v":{"$error":"#REF!"}},{"$f":"VLOOKUP($B87,#REF!,3,FALSE)","v":{"$error":"#REF!"}},{"$f":"VLOOKUP($B87,#REF!,5,FALSE)","v":{"$error":"#REF!"}},{"$f":"VLOOKUP($B87,#REF!,6,FALSE)","v":{"$error":"#REF!"}},"-",{"$error":"#REF!"},null,{"$f":"VLOOKUP($B87,#REF!,13,FALSE)","v":{"$error":"#REF!"}},{"$f":"VLOOKUP($B87,#REF!,10,FALSE)","v":{"$error":"#REF!"}},{"$f":"VLOOKUP($B87,#REF!,17,FALSE)","v":{"$error":"#REF!"}},{"$f":"IFERROR(VLOOKUP($B87,#REF!,2,FALSE),\"-\")","v":"-"}]
[null,85,{"$f":"VLOOKUP($B88,#REF!,2,FALSE)","v":{"$error":"#REF!"}},{"$f":"VLOOKUP($B88,#REF!,3,FALSE)","v":{"$error":"#REF!"}},{"$f":"VLOOKUP($B88,#REF!,5,FALSE)","v":{"$error":"#REF!"}},{"$f":"VLOOKUP($B88,#REF!,6,FALSE)","v":{"$error":"#REF!"}},"-",{"$error":"#REF!"},null,{"$f":"VLOOKUP($B88,#REF!,13,FALSE)","v":{"$error":"#REF!"}},{"$f":"VLOOKUP($B88,#REF!,10,FALSE)","v":{"$error":"#REF!"}},{"$f":"VLOOKUP($B88,#REF!,17,FALSE)","v":{"$error":"#REF!"}},{"$f":"IFERROR(VLOOKUP($B88,#REF!,2,FALSE),\"-\")","v":"-"}]
[null,86,{"$f":"VLOOKUP($B89,#REF!,2,FALSE)","v":{"$error":"#REF!"}},{"$f":"VLOOKUP($B89,#REF!,3,FALSE)","v":{"$error":"#REF!"}},{"$f":"VLOOKUP($B89,#REF!,5,FALSE)","v":{"$error":"#REF!"}},{"$f":"VLOOKUP($B89,#REF!,6,FALSE)","v":{"$error":"#REF!"}},"-",{"$error":"#REF!"},null,{"$f":"VLOOKUP($B89,#REF!,13,FALSE)","v":{"$error":"#REF!"}},{"$f":"VLOOKUP($B89,#REF!,10,FALSE)","v":{"$error":"#REF!"}},{"$f":"VLOOKUP($B89,#REF!,17,FALSE)","v":{"$error":"#REF!"}},{"$f":"IFERROR(VLOOKUP($B89,#REF!,2,FALSE),\"-\")","v":"-"}]
[null,87,{"$f":"VLOOKUP($B90,#REF!,2,FALSE)","v":{"$error":"#REF!"}},{"$f":"VLOOKUP($B90,#REF!,3,FALSE)","v":{"$error":"#REF!"}},{"$f":"VLOOKUP($B90,#REF!,5,FALSE)","v":{"$error":"#REF!"}},{"$f":"VLOOKUP($B90,#REF!,6,FALSE)","v":{"$error":"#REF!"}},"-",{"$error":"#REF!"},null,{"$f":"VLOOKUP($B90,#REF!,13,FALSE)","v":{"$error":"#REF!"}},{"$f":"VLOOKUP($B90,#REF!,10,FALSE)","v":{"$error":"#REF!"}},{"$f":"VLOOKUP($B90,#REF!,17,FALSE)","v":{"$error":"#REF!"}},{"$f":"IFERROR(VLOOKUP($B90,#REF!,2,FALSE),\"-\")","v":"-"}]
[null,88,{"$f":"VLOOKUP($B91,#REF!,2,FALSE)","v":{"$error":"#REF!"}},{"$f":"VLOOKUP($B91,#REF!,3,FALSE)","v":{"$error":"#REF!"}},{"$f":"VLOOKUP($B91,#REF!,5,FALSE)","v":{"$error":"#REF!"}},{"$f":"VLOOKUP($B91,#REF!,6,FALSE)","v":{"$error":"#REF!"}},"-",{"$error":"#REF!"},null,{"$f":"VLOOKUP($B91,#REF!,13,FALSE)","v":{"$error":"#REF!"}},{"$f":"VLOOKUP($B91,#REF!,10,FALSE)","v":{"$error":"#REF!"}},{"$f":"VLOOKUP($B91,#REF!,17,FALSE)","v":{"$error":"#REF!"}},{"$f":"IFERROR(VLOOKUP($B91,#REF!,2,FALSE),\"-\")","v":"-"}]
[null,89,{"$f":"VLOOKUP($B92,#REF!,2,FALSE)","v":{"$error":"#REF!"}},{"$f":"VLOOKUP($B92,#REF!,3,FALSE)","v":{"$error":"#REF!"}},{"$f":"VLOOKUP($B92,#REF!,5,FALSE)","v":{"$error":"#REF!"}},{"$f":"VLOOKUP($B92,#REF!,6,FALSE)","v":{"$error":"#REF!"}},"-",{"$error":"#REF!"},null,{"$f":"VLOOKUP($B92,#REF!,13,FALSE)","v":{"$error":"#REF!"}},{"$f":"VLOOKUP($B92,#REF!,10,FALSE)","v":{"$error":"#REF!"}},{"$f":"VLOOKUP($B92,#REF!,17,FALSE)","v":{"$error":"#REF!"}},{"$f":"IFERROR(VLOOKUP($B92,#REF!,2,FALSE),\"-\")","v":"-"}]
[null,90,{"$f":"VLOOKUP($B93,#REF!,2,FALSE)","v":{"$error":"#REF!"}},{"$f":"VLOOKUP($B93,#REF!,3,FALSE)","v":{"$error":"#REF!"}},{"$f":"VLOOKUP($B93,#REF!,5,FALSE)","v":{"$error":"#REF!"}},{"$f":"VLOOKUP($B93,#REF!,6,FALSE)","v":{"$error":"#REF!"}},"-",{"$error":"#REF!"},null,{"$f":"VLOOKUP($B93,#REF!,13,FALSE)","v":{"$error":"#REF!"}},{"$f":"VLOOKUP($B93,#REF!,10,FALSE)","v":{"$error":"#REF!"}},{"$f":"VLOOKUP($B93,#REF!,17,FALSE)","v":{"$error":"#REF!"}},{"$f":"IFERROR(VLOOKUP($B93,#REF!,2,FALSE),\"-\")","v":"-"}]
[null,91,{"$f":"VLOOKUP($B94,#REF!,2,FALSE)","v":{"$error":"#REF!"}},{"$f":"VLOOKUP($B94,#REF!,3,FALSE)","v":{"$error":"#REF!"}},{"$f":"VLOOKUP($B94,#REF!,5,FALSE)","v":{"$error":"#REF!"}},{"$f":"VLOOKUP($B94,#REF!,6,FALSE)","v":{"$error":"#REF!"}},"-",{"$error":"#REF!"},null,{"$f":"VLOOKUP($B94,#REF!,13,FALSE)","v":{"$error":"#REF!"}},{"$f":"VLOOKUP($B94,#REF!,10,FALSE)","v":{"$error":"#REF!"}},{"$f":"VLOOKUP($B94,#REF!,17,FALSE)","v":{"$error":"#REF!"}},{"$f":"IFERROR(VLOOKUP($B94,#REF!,2,FALSE),\"-\")","v":"-"}]
[null,92,{"$f":"VLOOKUP($B95,#REF!,2,FALSE)","v":{"$error":"#REF!"}},{"$f":"VLOOKUP($B95,#REF!,3,FALSE)","v":{"$error":"#REF!"}},{"$f":"VLOOKUP($B95,#REF!,5,FALSE)","v":{"$error":"#REF!"}},{"$f":"VLOOKUP($B95,#REF!,6,FALSE)","v":{"$error":"#REF!"}},"-",{"$error":"#REF!"},null,{"$f":"VLOOKUP($B95,#REF!,13,FALSE)","v":{"$error":"#REF!"}},{"$f":"VLOOKUP($B95,#REF!,10,FALSE)","v":{"$error":"#REF!"}},{"$f":"VLOOKUP($B95,#REF!,17,FALSE)","v":{"$error":"#REF!"}},{"$f":"IFERROR(VLOOKUP($B95,#REF!,2,FALSE),\"-\")","v":"-"}]
[null,93,{"$f":"VLOOKUP($B96,#REF!,2,FALSE)","v":{"$error":"#REF!"}},{"$f":"VLOOKUP($B96,#REF!,3,FALSE)","v":{"$error":"#REF!"}},{"$f":"VLOOKUP($B96,#REF!,5,FALSE)","v":{"$error":"#REF!"}},{"$f":"VLOOKUP($B96,#REF!,6,FALSE)","v":{"$error":"#REF!"}},"-",{"$error":"#REF!"},null,{"$f":"VLOOKUP($B96,#REF!,13,FALSE)","v":{"$error":"#REF!"}},{"$f":"VLOOKUP($B96,#REF!,10,FALSE)","v":{"$error":"#REF!"}},{"$f":"VLOOKUP($B96,#REF!,17,FALSE)","v":{"$error":"#REF!"}},{"$f":"IFERROR(VLOOKUP($B96,#REF!,2,FALSE),\"-\")","v":"-"}]
[null,94,{"$f":"VLOOKUP($B97,#REF!,2,FALSE)","v":{"$error":"#REF!"}},{"$f":"VLOOKUP($B97,#REF!,3,FALSE)","v":{"$error":"#REF!"}},{"$f":"VLOOKUP($B97,#REF!,5,FALSE)","v":{"$error":"#REF!"}},{"$f":"VLOOKUP($B97,#REF!,6,FALSE)","v":{"$error":"#REF!"}},"-",{"$error":"#REF!"},null,{"$f":"VLOOKUP($B97,#REF!,13,FALSE)","v":{"$error":"#REF!"}},{"$f":"VLOOKUP($B97,#REF!,10,FALSE)","v":{"$error":"#REF!"}},{"$f":"VLOOKUP($B97,#REF!,17,FALSE)","v":{"$error":"#REF!"}},{"$f":"IFERROR(VLOOKUP($B97,#REF!,2,FALSE),\"-\")","v":"-"}]
[null,95,{"$f":"VLOOKUP($B98,#REF!,2,FALSE)","v":{"$error":"#REF!"}},{"$f":"VLOOKUP($B98,#REF!,3,FALSE)","v":{"$error":"#REF!"}},{"$f":"VLOOKUP($B98,#REF!,5,FALSE)","v":{"$error":"#REF!"}},{"$f":"VLOOKUP($B98,#REF!,6,FALSE)","v":{"$error":"#REF!"}},"-",{"$error":"#REF!"},null,{"$f":"VLOOKUP($B98,#REF!,13,FALSE)","v":{"$error":"#REF!"}},{"$f":"VLOOKUP($B98,#REF!,10,FALSE)","v":{"$error":"#REF!"}},{"$f":"VLOOKUP($B98,#REF!,17,FALSE)","v":{"$error":"#REF!"}},{"$f":"IFERROR(VLOOKUP($B98,#REF!,2,FALSE),\"-\")","v":"-"}]
[null,96,{"$f":"VLOOKUP($B99,#REF!,2,FALSE)","v":{"$error":"#REF!"}},{"$f":"VLOOKUP($B99,#REF!,3,FALSE)","v":{"$error":"#REF!"}},{"$f":"VLOOKUP($B99,#REF!,5,FALSE)","v":{"$error":"#REF!"}},{"$f":"VLOOKUP($B99,#REF!,6,FALSE)","v":{"$error":"#REF!"}},"-",{"$error":"#REF!"},null,{"$f":"VLOOKUP($B99,#REF!,13,FALSE)","v":{"$error":"#REF!"}},{"$f":"VLOOKUP($B99,#REF!,10,FALSE)","v":{"$error":"#REF!"}},{"$f":"VLOOKUP($B99,#REF!,17,FALSE)","v":{"$error":"#REF!"}},{"$f":"IFERROR(VLOOKUP($B99,#REF!,2,FALSE),\"-\")","v":"-"}]
[null,97,{"$f":"VLOOKUP($B100,#REF!,2,FALSE)","v":{"$error":"#REF!"}},{"$f":"VLOOKUP($B100,#REF!,3,FALSE)","v":{"$error":"#REF!"}},{"$f":"VLOOKUP($B100,#REF!,5,FALSE)","v":{"$error":"#REF!"}},{"$f":"VLOOKUP($B100,#REF!,6,FALSE)","v":{"$error":"#REF!"}},"-",{"$error":"#REF!"},null,{"$f":"VLOOKUP($B100,#REF!,13,FALSE)","v":{"$error":"#REF!"}},{"$f":"VLOOKUP($B100,#REF!,10,FALSE)","v":{"$error":"#REF!"}},{"$f":"VLOOKUP($B100,#REF!,17,FALSE)","v":{"$error":"#REF!"}},{"$f":"IFERROR(VLOOKUP($B100,#REF!,2,FALSE),\"-\")","v":"-"}]
[null,98,{"$f":"VLOOKUP($B101,#REF!,2,FALSE)","v":{"$error":"#REF!"}},{"$f":"VLOOKUP($B101,#REF!,3,FALSE)","v":{"$error":"#REF!"}},{"$f":"VLOOKUP($B101,#REF!,5,FALSE)","v":{"$error":"#REF!"}},{"$f":"VLOOKUP($B101,#REF!,6,FALSE)","v":{"$error":"#REF!"}},"-",{"$error":"#REF!"},null,{"$f":"VLOOKUP($B101,#REF!,13,FALSE)","v":{"$error":"#REF!"}},{"$f":"VLOOKUP($B101,#REF!,10,FALSE)","v":{"$error":"#REF!"}},{"$f":"VLOOKUP($B101,#REF!,17,FALSE)","v":{"$error":"#REF!"}},{"$f":"IFERROR(VLOOKUP($B101,#REF!,2,FALSE),\"-\")","v":"-"}]
[null,99,{"$f":"VLOOKUP($B102,#REF!,2,FALSE)","v":{"$error":"#REF!"}},{"$f":"VLOOKUP($B102,#REF!,3,FALSE)","v":{"$error":"#REF!"}},{"$f":"VLOOKUP($B102,#REF!,5,FALSE)","v":{"$error":"#REF!"}},{"$f":"VLOOKUP($B102,#REF!,6,FALSE)","v":{"$error":"#REF!"}},"-",{"$error":"#REF!"},null,{"$f":"VLOOKUP($B102,#REF!,13,FALSE)","v":{"$error":"#REF!"}},{"$f":"VLOOKUP($B102,#REF!,10,FALSE)","v":{"$error":"#REF!"}},{"$f":"VLOOKUP($B102,#REF!,17,FALSE)","v":{"$error":"#REF!"}},{"$f":"IFERROR(VLOOKUP($B102,#REF!,2,FALSE),\"-\")","v":"-"}]
[null,100,{"$f":"VLOOKUP($B103,#REF!,2,FALSE)","v":{"$error":"#REF!"}},{"$f":"VLOOKUP($B103,#REF!,3,FALSE)","v":{"$error":"#REF!"}},{"$f":"VLOOKUP($B103,#REF!,5,FALSE)","v":{"$error":"#REF!"}},{"$f":"VLOOKUP($B103,#REF!,6,FALSE)","v":{"$error":"#REF!"}},"-",{"$error":"#REF!"},null,{"$f":"VLOOKUP($B103,#REF!,13,FALSE)","v":{"$error":"#REF!"}},{"$f":"VLOOKUP($B103,#REF!,10,FALSE)","v":{"$error":"#REF!"}},{"$f":"VLOOKUP($B103,#REF!,17,FALSE)","v":{"$error":"#REF!"}},{"$f":"IFERROR(VLOOKUP($B103,#REF!,2,FALSE),\"-\")","v":"-"}]
[null,101,{"$f":"VLOOKUP($B104,#REF!,2,FALSE)","v":{"$error":"#REF!"}},{"$f":"VLOOKUP($B104,#REF!,3,FALSE)","v":{"$error":"#REF!"}},{"$f":"VLOOKUP($B104,#REF!,5,FALSE)","v":{"$error":"#REF!"}},{"$f":"VLOOKUP($B104,#REF!,6,FALSE)","v":{"$error":"#REF!"}},"-",{"$error":"#REF!"},null,{"$f":"VLOOKUP($B104,#REF!,13,FALSE)","v":{"$error":"#REF!"}},{"$f":"VLOOKUP($B104,#REF!,10,FALSE)","v":{"$error":"#REF!"}},{"$f":"VLOOKUP($B104,#REF!,17,FALSE)","v":{"$error":"#REF!"}},{"$f":"IFERROR(VLOOKUP($B104,#REF!,2,FALSE),\"-\")","v":"-"}]
[null,102,{"$f":"VLOOKUP($B105,#REF!,2,FALSE)","v":{"$error":"#REF!"}},{"$f":"VLOOKUP($B105,#REF!,3,FALSE)","v":{"$error":"#REF!"}},{"$f":"VLOOKUP($B105,#REF!,5,FALSE)","v":{"$error":"#REF!"}},{"$f":"VLOOKUP($B105,#REF!,6,FALSE)","v":{"$error":"#REF!"}},"-",{"$error":"#REF!"},null,{"$f":"VLOOKUP($B105,#REF!,13,FALSE)","v":{"$error":"#REF!"}},{"$f":"VLOOKUP($B105,#REF!,10,FALSE)","v":{"$error":"#REF!"}},{"$f":"VLOOKUP($B105,#REF!,17,FALSE)","v":{"$error":"#REF!"}},{"$f":"IFERROR(VLOOKUP($B105,#REF!,2,FALSE),\"-\")","v":"-"}]
[null,103,{"$f":"VLOOKUP($B106,#REF!,2,FALSE)","v":{"$error":"#REF!"}},{"$f":"VLOOKUP($B106,#REF!,3,FALSE)","v":{"$error":"#REF!"}},{"$f":"VLOOKUP($B106,#REF!,5,FALSE)","v":{"$error":"#REF!"}},{"$f":"VLOOKUP($B106,#REF!,6,FALSE)","v":{"$error":"#REF!"}},"-",{"$error":"#REF!"},null,{"$f":"VLOOKUP($B106,#REF!,13,FALSE)","v":{"$error":"#REF!"}},{"$f":"VLOOKUP($B106,#REF!,10,FALSE)","v":{"$error":"#REF!"}},{"$f":"VLOOKUP($B106,#REF!,17,FALSE)","v":{"$error":"#REF!"}},{"$f":"IFERROR(VLOOKUP($B106,#REF!,2,FALSE),\"-\")","v":"-"}]
[null,104,{"$f":"VLOOKUP($B107,#REF!,2,FALSE)","v":{"$error":"#REF!"}},{"$f":"VLOOKUP($B107,#REF!,3,FALSE)","v":{"$error":"#REF!"}},{"$f":"VLOOKUP($B107,#REF!,5,FALSE)","v":{"$error":"#REF!"}},{"$f":"VLOOKUP($B107,#REF!,6,FALSE)","v":{"$error":"#REF!"}},"-",{"$error":"#REF!"},null,{"$f":"VLOOKUP($B107,#REF!,13,FALSE)","v":{"$error":"#REF!"}},{"$f":"VLOOKUP($B107,#REF!,10,FALSE)","v":{"$error":"#REF!"}},{"$f":"VLOOKUP($B107,#REF!,17,FALSE)","v":{"$error":"#REF!"}},{"$f":"IFERROR(VLOOKUP($B107,#REF!,2,FALSE),\"-\")","v":"-"}]
[null,105,{"$f":"VLOOKUP($B108,#REF!,2,FALSE)","v":{"$error":"#REF!"}},{"$f":"VLOOKUP($B108,#REF!,3,FALSE)","v":{"$error":"#REF!"}},{"$f":"VLOOKUP($B108,#REF!,5,FALSE)","v":{"$error":"#REF!"}},{"$f":"VLOOKUP($B108,#REF!,6,FALSE)","v":{"$error":"#REF!"}},"-",{"$error":"#REF!"},null,{"$f":"VLOOKUP($B108,#REF!,13,FALSE)","v":{"$error":"#REF!"}},{"$f":"VLOOKUP($B108,#REF!,10,FALSE)","v":{"$error":"#REF!"}},{"$f":"VLOOKUP($B108,#REF!,17,FALSE)","v":{"$error":"#REF!"}},{"$f":"IFERROR(VLOOKUP($B108,#REF!,2,FALSE),\"-\")","v":"-"}]
[null,106,{"$f":"VLOOKUP($B109,#REF!,2,FALSE)","v":{"$error":"#REF!"}},{"$f":"VLOOKUP($B109,#REF!,3,FALSE)","v":{"$error":"#REF!"}},{"$f":"VLOOKUP($B109,#REF!,5,FALSE)","v":{"$error":"#REF!"}},{"$f":"VLOOKUP($B109,#REF!,6,FALSE)","v":{"$error":"#REF!"}},"-",{"$error":"#REF!"},null,{"$f":"VLOOKUP($B109,#REF!,13,FALSE)","v":{"$error":"#REF!"}},{"$f":"VLOOKUP($B109,#REF!,10,FALSE)","v":{"$error":"#REF!"}},{"$f":"VLOOKUP($B109,#REF!,17,FALSE)","v":{"$error":"#REF!"}},{"$f":"IFERROR(VLOOKUP($B109,#REF!,2,FALSE),\"-\")","v":"-"}]
[null,107,{"$f":"VLOOKUP($B110,#REF!,2,FALSE)","v":{"$error":"#REF!"}},{"$f":"VLOOKUP($B110,#REF!,3,FALSE)","v":{"$error":"#REF!"}},{"$f":"VLOOKUP($B110,#REF!,5,FALSE)","v":{"$error":"#REF!"}},{"$f":"VLOOKUP($B110,#REF!,6,FALSE)","v":{"$error":"#REF!"}},"-",{"$error":"#REF!"},null,{"$f":"VLOOKUP($B110,#REF!,13,FALSE)","v":{"$error":"#REF!"}},{"$f":"VLOOKUP($B110,#REF!,10,FALSE)","v":{"$error":"#REF!"}},{"$f":"VLOOKUP($B110,#REF!,17,FALSE)","v":{"$error":"#REF!"}},{"$f":"IFERROR(VLOOKUP($B110,#REF!,2,FALSE),\"-\")","v":"-"}]
[null,108,{"$f":"VLOOKUP($B111,#REF!,2,FALSE)","v":{"$error":"#REF!"}},{"$f":"VLOOKUP($B111,#REF!,3,FALSE)","v":{"$error":"#REF!"}},{"$f":"VLOOKUP($B111,#REF!,5,FALSE)","v":{"$error":"#REF!"}},{"$f":"VLOOKUP($B111,#REF!,6,FALSE)","v":{"$error":"#REF!"}},"-",{"$error":"#REF!"},null,{"$f":"VLOOKUP($B111,#REF!,13,FALSE)","v":{"$error":"#REF!"}},{"$f":"VLOOKUP($B111,#REF!,10,FALSE)","v":{"$error":"#REF!"}},{"$f":"VLOOKUP($B111,#REF!,17,FALSE)","v":{"$error":"#REF!"}},{"$f":"IFERROR(VLOOKUP($B111,#REF!,2,FALSE),\"-\")","v":"-"}]
[null,109,{"$f":"VLOOKUP($B112,#REF!,2,FALSE)","v":{"$error":"#REF!"}},{"$f":"VLOOKUP($B112,#REF!,3,FALSE)","v":{"$error":"#REF!"}},{"$f":"VLOOKUP($B112,#REF!,5,FALSE)","v":{"$error":"#REF!"}},{"$f":"VLOOKUP($B112,#REF!,6,FALSE)","v":{"$error":"#REF!"}},"-",{"$error":"#REF!"},null,{"$f":"VLOOKUP($B112,#REF!,13,FALSE)","v":{"$error":"#REF!"}},{"$f":"VLOOKUP($B112,#REF!,10,FALSE)","v":{"$error":"#REF!"}},{"$f":"VLOOKUP($B112,#REF!,17,FALSE)","v":{"$error":"#REF!"}},{"$f":"IFERROR(VLOOKUP($B112,#REF!,2,FALSE),\"-\")","v":"-"}]
[null,110,{"$f":"VLOOKUP($B113,#REF!,2,FALSE)","v":{"$error":"#REF!"}},{"$f":"VLOOKUP($B113,#REF!,3,FALSE)","v":{"$error":"#REF!"}},{"$f":"VLOOKUP($B113,#REF!,5,FALSE)","v":{"$error":"#REF!"}},{"$f":"VLOOKUP($B113,#REF!,6,FALSE)","v":{"$error":"#REF!"}},"-",{"$error":"#REF!"},null,{"$f":"VLOOKUP($B113,#REF!,13,FALSE)","v":{"$error":"#REF!"}},{"$f":"VLOOKUP($B113,#REF!,10,FALSE)","v":{"$error":"#REF!"}},{"$f":"VLOOKUP($B113,#REF!,17,FALSE)","v":{"$error":"#REF!"}},{"$f":"IFERROR(VLOOKUP($B113,#REF!,2,FALSE),\"-\")","v":"-"}]
[null,111,{"$f":"VLOOKUP($B114,#REF!,2,FALSE)","v":{"$error":"#REF!"}},{"$f":"VLOOKUP($B114,#REF!,3,FALSE)","v":{"$error":"#REF!"}},{"$f":"VLOOKUP($B114,#REF!,5,FALSE)","v":{"$error":"#REF!"}},{"$f":"VLOOKUP($B114,#REF!,6,FALSE)","v":{"$error":"#REF!"}},"-",{"$error":"#REF!"},null,{"$f":"VLOOKUP($B114,#REF!,13,FALSE)","v":{"$error":"#REF!"}},{"$f":"VLOOKUP($B114,#REF!,10,FALSE)","v":{"$error":"#REF!"}},{"$f":"VLOOKUP($B114,#REF!,17,FALSE)","v":{"$error":"#REF!"}},{"$f":"IFERROR(VLOOKUP($B114,#REF!,2,FALSE),\"-\")","v":"-"}]
[null,112,{"$f":"VLOOKUP($B115,#REF!,2,FALSE)","v":{"$error":"#REF!"}},{"$f":"VLOOKUP($B115,#REF!,3,FALSE)","v":{"$error":"#REF!"}},{"$f":"VLOOKUP($B115,#REF!,5,FALSE)","v":{"$error":"#REF!"}},{"$f":"VLOOKUP($B115,#REF!,6,FALSE)","v":{"$error":"#REF!"}},"-",{"$error":"#REF!"},null,{"$f":"VLOOKUP($B115,#REF!,13,FALSE)","v":{"$error":"#REF!"}},{"$f":"VLOOKUP($B115,#REF!,10,FALSE)","v":{"$error":"#REF!"}},{"$f":"VLOOKUP($B115,#REF!,17,FALSE)","v":{"$error":"#REF!"}},{"$f":"IFERROR(VLOOKUP($B115,#REF!,2,FALSE),\"-\")","v":"-"}]
[null,113,{"$f":"VLOOKUP($B116,#REF!,2,FALSE)","v":{"$error":"#REF!"}},{"$f":"VLOOKUP($B116,#REF!,3,FALSE)","v":{"$error":"#REF!"}},{"$f":"VLOOKUP($B116,#REF!,5,FALSE)","v":{"$error":"#REF!"}},{"$f":"VLOOKUP($B116,#REF!,6,FALSE)","v":{"$error":"#REF!"}},"-",{"$error":"#REF!"},null,{"$f":"VLOOKUP($B116,#REF!,13,FALSE)","v":{"$error":"#REF!"}},{"$f":"VLOOKUP($B116,#REF!,10,FALSE)","v":{"$error":"#REF!"}},{"$f":"VLOOKUP($B116,#REF!,17,FALSE)","v":{"$error":"#REF!"}},{"$f":"IFERROR(VLOOKUP($B116,#REF!,2,FALSE),\"-\")","v":"-"}]
[null,114,{"$f":"VLOOKUP($B117,#REF!,2,FALSE)","v":{"$error":"#REF!"}},{"$f":"VLOOKUP($B117,#REF!,3,FALSE)","v":{"$error":"#REF!"}},{"$f":"VLOOKUP($B117,#REF!,5,FALSE)","v":{"$error":"#REF!"}},{"$f":"VLOOKUP($B117,#REF!,6,FALSE)","v":{"$error":"#REF!"}},"-",{"$error":"#REF!"},null,{"$f":"VLOOKUP($B117,#REF!,13,FALSE)","v":{"$error":"#REF!"}},{"$f":"VLOOKUP($B117,#REF!,10,FALSE)","v":{"$error":"#REF!"}},{"$f":"VLOOKUP($B117,#REF!,17,FALSE)","v":{"$error":"#REF!"}},{"$f":"IFERROR(VLOOKUP($B117,#REF!,2,FALSE),\"-\")","v":"-"}]
[null,115,{"$f":"VLOOKUP($B118,#REF!,2,FALSE)","v":{"$error":"#REF!"}},{"$f":"VLOOKUP($B118,#REF!,3,FALSE)","v":{"$error":"#REF!"}},{"$f":"VLOOKUP($B118,#REF!,5,FALSE)","v":{"$error":"#REF!"}},{"$f":"VLOOKUP($B118,#REF!,6,FALSE)","v":{"$error":"#REF!"}},"-",{"$error":"#REF!"},null,{"$f":"VLOOKUP($B118,#REF!,13,FALSE)","v":{"$error":"#REF!"}},{"$f":"VLOOKUP($B118,#REF!,10,FALSE)","v":{"$error":"#REF!"}},{"$f":"VLOOKUP($B118,#REF!,17,FALSE)","v":{"$error":"#REF!"}},{"$f":"IFERROR(VLOOKUP($B118,#REF!,2,FALSE),\"-\")","v":"-"}]
[null,116,{"$f":"VLOOKUP($B119,#REF!,2,FALSE)","v":{"$error":"#REF!"}},{"$f":"VLOOKUP($B119,#REF!,3,FALSE)","v":{"$error":"#REF!"}},{"$f":"VLOOKUP($B119,#REF!,5,FALSE)","v":{"$error":"#REF!"}},{"$f":"VLOOKUP($B119,#REF!,6,FALSE)","v":{"$error":"#REF!"}},"-",{"$error":"#REF!"},null,{"$f":"VLOOKUP($B119,#REF!,13,FALSE)","v":{"$error":"#REF!"}},{"$f":"VLOOKUP($B119,#REF!,10,FALSE)","v":{"$error":"#REF!"}},{"$f":"VLOOKUP($B119,#REF!,17,FALSE)","v":{"$error":"#REF!"}},{"$f":"IFERROR(VLOOKUP($B119,#REF!,2,FALSE),\"-\")","v":"-"}]
[null,117,{"$f":"VLOOKUP($B120,#REF!,2,FALSE)","v":{"$error":"#REF!"}},{"$f":"VLOOKUP($B120,#REF!,3,FALSE)","v":{"$error":"#REF!"}},{"$f":"VLOOKUP($B120,#REF!,5,FALSE)","v":{"$error":"#REF!"}},{"$f":"VLOOKUP($B120,#REF!,6,FALSE)","v":{"$error":"#REF!"}},"-",{"$error":"#REF!"},null,{"$f":"VLOOKUP($B120,#REF!,13,FALSE)","v":{"$error":"#REF!"}},{"$f":"VLOOKUP($B120,#REF!,10,FALSE)","v":{"$error":"#REF!"}},{"$f":"VLOOKUP($B120,#REF!,17,FALSE)","v":{"$error":"#REF!"}},{"$f":"IFERROR(VLOOKUP($B120,#REF!,2,FALSE),\"-\")","v":"-"}]
[null,118,{"$f":"VLOOKUP($B121,#REF!,2,FALSE)","v":{"$error":"#REF!"}},{"$f":"VLOOKUP($B121,#REF!,3,FALSE)","v":{"$error":"#REF!"}},{"$f":"VLOOKUP($B121,#REF!,5,FALSE)","v":{"$error":"#REF!"}},{"$f":"VLOOKUP($B121,#REF!,6,FALSE)","v":{"$error":"#REF!"}},"-",{"$error":"#REF!"},null,{"$f":"VLOOKUP($B121,#REF!,13,FALSE)","v":{"$error":"#REF!"}},{"$f":"VLOOKUP($B121,#REF!,10,FALSE)","v":{"$error":"#REF!"}},{"$f":"VLOOKUP($B121,#REF!,17,FALSE)","v":{"$error":"#REF!"}},{"$f":"IFERROR(VLOOKUP($B121,#REF!,2,FALSE),\"-\")","v":"-"}]
[null,119,{"$f":"VLOOKUP($B122,#REF!,2,FALSE)","v":{"$error":"#REF!"}},{"$f":"VLOOKUP($B122,#REF!,3,FALSE)","v":{"$error":"#REF!"}},{"$f":"VLOOKUP($B122,#REF!,5,FALSE)","v":{"$error":"#REF!"}},{"$f":"VLOOKUP($B122,#REF!,6,FALSE)","v":{"$error":"#REF!"}},"-",{"$error":"#REF!"},null,{"$f":"VLOOKUP($B122,#REF!,13,FALSE)","v":{"$error":"#REF!"}},{"$f":"VLOOKUP($B122,#REF!,10,FALSE)","v":{"$error":"#REF!"}},{"$f":"VLOOKUP($B122,#REF!,17,FALSE)","v":{"$error":"#REF!"}},{"$f":"IFERROR(VLOOKUP($B122,#REF!,2,FALSE),\"-\")","v":"-"}]
[null,120,{"$f":"VLOOKUP($B123,#REF!,2,FALSE)","v":{"$error":"#REF!"}},{"$f":"VLOOKUP($B123,#REF!,3,FALSE)","v":{"$error":"#REF!"}},{"$f":"VLOOKUP($B123,#REF!,5,FALSE)","v":{"$error":"#REF!"}},{"$f":"VLOOKUP($B123,#REF!,6,FALSE)","v":{"$error":"#REF!"}},"-",{"$error":"#REF!"},null,{"$f":"VLOOKUP($B123,#REF!,13,FALSE)","v":{"$error":"#REF!"}},{"$f":"VLOOKUP($B123,#REF!,10,FALSE)","v":{"$error":"#REF!"}},{"$f":"VLOOKUP($B123,#REF!,17,FALSE)","v":{"$error":"#REF!"}},{"$f":"IFERROR(VLOOKUP($B123,#REF!,2,FALSE),\"-\")","v":"-"}]
[null,121,{"$f":"VLOOKUP($B124,#REF!,2,FALSE)","v":{"$error":"#REF!"}},{"$f":"VLOOKUP($B124,#REF!,3,FALSE)","v":{"$error":"#REF!"}},{"$f":"VLOOKUP($B124,#REF!,5,FALSE)","v":{"$error":"#REF!"}},{"$f":"VLOOKUP($B124,#REF!,6,FALSE)","v":{"$error":"#REF!"}},"-",{"$error":"#REF!"},null,{"$f":"VLOOKUP($B124,#REF!,13,FALSE)","v":{"$error":"#REF!"}},{"$f":"VLOOKUP($B124,#REF!,10,FALSE)","v":{"$error":"#REF!"}},{"$f":"VLOOKUP($B124,#REF!,17,FALSE)","v":{"$error":"#REF!"}},{"$f":"IFERROR(VLOOKUP($B124,#REF!,2,FALSE),\"-\")","v":"-"}]
[null,122,{"$f":"VLOOKUP($B125,#REF!,2,FALSE)","v":{"$error":"#REF!"}},{"$f":"VLOOKUP($B125,#REF!,3,FALSE)","v":{"$error":"#REF!"}},{"$f":"VLOOKUP($B125,#REF!,5,FALSE)","v":{"$error":"#REF!"}},{"$f":"VLOOKUP($B125,#REF!,6,FALSE)","v":{"$error":"#REF!"}},"-",{"$error":"#REF!"},null,{"$f":"VLOOKUP($B125,#REF!,13,FALSE)","v":{"$error":"#REF!"}},{"$f":"VLOOKUP($B125,#REF!,10,FALSE)","v":{"$error":"#REF!"}},{"$f":"VLOOKUP($B125,#REF!,17,FALSE)","v":{"$error":"#REF!"}},{"$f":"IFERROR(VLOOKUP($B125,#REF!,2,FALSE),\"-\")","v":"-"}]
[null,123,{"$f":"VLOOKUP($B126,#REF!,2,FALSE)","v":{"$error":"#REF!"}},{"$f":"VLOOKUP($B126,#REF!,3,FALSE)","v":{"$error":"#REF!"}},{"$f":"VLOOKUP($B126,#REF!,5,FALSE)","v":{"$error":"#REF!"}},{"$f":"VLOOKUP($B126,#REF!,6,FALSE)","v":{"$error":"#REF!"}},"-",{"$error":"#REF!"},null,{"$f":"VLOOKUP($B126,#REF!,13,FALSE)","v":{"$error":"#REF!"}},{"$f":"VLOOKUP($B126,#REF!,10,FALSE)","v":{"$error":"#REF!"}},{"$f":"VLOOKUP($B126,#REF!,17,FALSE)","v":{"$error":"#REF!"}},{"$f":"IFERROR(VLOOKUP($B126,#REF!,2,FALSE),\"-\")","v":"-"}]
[null,124,{"$f":"VLOOKUP($B127,#REF!,2,FALSE)","v":{"$error":"#REF!"}},{"$f":"VLOOKUP($B127,#REF!,3,FALSE)","v":{"$error":"#REF!"}},{"$f":"VLOOKUP($B127,#REF!,5,FALSE)","v":{"$error":"#REF!"}},{"$f":"VLOOKUP($B127,#REF!,6,FALSE)","v":{"$error":"#REF!"}},"-",{"$error":"#REF!"},null,{"$f":"VLOOKUP($B127,#REF!,13,FALSE)","v":{"$error":"#REF!"}},{"$f":"VLOOKUP($B127,#REF!,10,FALSE)","v":{"$error":"#REF!"}},{"$f":"VLOOKUP($B127,#REF!,17,FALSE)","v":{"$error":"#REF!"}},{"$f":"IFERROR(VLOOKUP($B127,#REF!,2,FALSE),\"-\")","v":"-"}]
[null,125,{"$f":"VLOOKUP($B128,#REF!,2,FALSE)","v":{"$error":"#REF!"}},{"$f":"VLOOKUP($B128,#REF!,3,FALSE)","v":{"$error":"#REF!"}},{"$f":"VLOOKUP($B128,#REF!,5,FALSE)","v":{"$error":"#REF!"}},{"$f":"VLOOKUP($B128,#REF!,6,FALSE)","v":{"$error":"#REF!"}},"-",{"$error":"#REF!"},null,{"$f":"VLOOKUP($B128,#REF!,13,FALSE)","v":{"$error":"#REF!"}},{"$f":"VLOOKUP($B128,#REF!,10,FALSE)","v":{"$error":"#REF!"}},{"$f":"VLOOKUP($B128,#REF!,17,FALSE)","v":{"$error":"#REF!"}},{"$f":"IFERROR(VLOOKUP($B128,#REF!,2,FALSE),\"-\")","v":"-"}]
[null,126,{"$f":"VLOOKUP($B129,#REF!,2,FALSE)","v":{"$error":"#REF!"}},{"$f":"VLOOKUP($B129,#REF!,3,FALSE)","v":{"$error":"#REF!"}},{"$f":"VLOOKUP($B129,#REF!,5,FALSE)","v":{"$error":"#REF!"}},{"$f":"VLOOKUP($B129,#REF!,6,FALSE)","v":{"$error":"#REF!"}},"-",{"$error":"#REF!"},null,{"$f":"VLOOKUP($B129,#REF!,13,FALSE)","v":{"$error":"#REF!"}},{"$f":"VLOOKUP($B129,#REF!,10,FALSE)","v":{"$error":"#REF!"}},{"$f":"VLOOKUP($B129,#REF!,17,FALSE)","v":{"$error":"#REF!"}},{"$f":"IFERROR(VLOOKUP($B129,#REF!,2,FALSE),\"-\")","v":"-"}]
[null,127,{"$f":"VLOOKUP($B130,#REF!,2,FALSE)","v":{"$error":"#REF!"}},{"$f":"VLOOKUP($B130,#REF!,3,FALSE)","v":{"$error":"#REF!"}},{"$f":"VLOOKUP($B130,#REF!,5,FALSE)","v":{"$error":"#REF!"}},{"$f":"VLOOKUP($B130,#REF!,6,FALSE)","v":{"$error":"#REF!"}},"-",{"$error":"#REF!"},null,{"$f":"VLOOKUP($B130,#REF!,13,FALSE)","v":{"$error":"#REF!"}},{"$f":"VLOOKUP($B130,#REF!,10,FALSE)","v":{"$error":"#REF!"}},{"$f":"VLOOKUP($B130,#REF!,17,FALSE)","v":{"$error":"#REF!"}},{"$f":"IFERROR(VLOOKUP($B130,#REF!,2,FALSE),\"-\")","v":"-"}]
[null,128,{"$f":"VLOOKUP($B131,#REF!,2,FALSE)","v":{"$error":"#REF!"}},{"$f":"VLOOKUP($B131,#REF!,3,FALSE)","v":{"$error":"#REF!"}},{"$f":"VLOOKUP($B131,#REF!,5,FALSE)","v":{"$error":"#REF!"}},{"$f":"VLOOKUP($B131,#REF!,6,FALSE)","v":{"$error":"#REF!"}},"-",{"$error":"#REF!"},null,{"$f":"VLOOKUP($B131,#REF!,13,FALSE)","v":{"$error":"#REF!"}},{"$f":"VLOOKUP($B131,#REF!,10,FALSE)","v":{"$error":"#REF!"}},{"$f":"VLOOKUP($B131,#REF!,17,FALSE)","v":{"$error":"#REF!"}},{"$f":"IFERROR(VLOOKUP($B131,#REF!,2,FALSE),\"-\")","v":"-"}]
[null,129,{"$f":"VLOOKUP($B132,#REF!,2,FALSE)","v":{"$error":"#REF!"}},{"$f":"VLOOKUP($B132,#REF!,3,FALSE)","v":{"$error":"#REF!"}},{"$f":"VLOOKUP($B132,#REF!,5,FALSE)","v":{"$error":"#REF!"}},{"$f":"VLOOKUP($B132,#REF!,6,FALSE)","v":{"$error":"#REF!"}},{"$f":"IF(M132=1,\"欠席\",IF(M132=9,\"空ﾚｰﾝ\",\"-\"))","v":"-"},{"$error":"#REF!"},null,{"$f":"VLOOKUP($B132,#REF!,13,FALSE)","v":{"$error":"#REF!"}},{"$f":"VLOOKUP($B132,#REF!,10,FALSE)","v":{"$error":"#REF!"}},{"$f":"VLOOKUP($B132,#REF!,17,FALSE)","v":{"$error":"#REF!"}},{"$f":"IFERROR(VLOOKUP($B132,#REF!,2,FALSE),\"-\")","v":"-"}]
[null,130,{"$f":"VLOOKUP($B133,#REF!,2,FALSE)","v":{"$error":"#REF!"}},{"$f":"VLOOKUP($B133,#REF!,3,FALSE)","v":{"$error":"#REF!"}},{"$f":"VLOOKUP($B133,#REF!,5,FALSE)","v":{"$error":"#REF!"}},{"$f":"VLOOKUP($B133,#REF!,6,FALSE)","v":{"$error":"#REF!"}},"-",{"$f":"+C133","v":{"$error":"#REF!"}},null,{"$f":"VLOOKUP($B133,#REF!,13,FALSE)","v":{"$error":"#REF!"}},{"$f":"VLOOKUP($B133,#REF!,10,FALSE)","v":{"$error":"#REF!"}},{"$f":"VLOOKUP($B133,#REF!,17,FALSE)","v":{"$error":"#REF!"}},{"$f":"IFERROR(VLOOKUP($B133,#REF!,2,FALSE),\"-\")","v":"-"}]
[null,131,{"$f":"VLOOKUP($B134,#REF!,2,FALSE)","v":{"$error":"#REF!"}},{"$f":"VLOOKUP($B134,#REF!,3,FALSE)","v":{"$error":"#REF!"}},{"$f":"VLOOKUP($B134,#REF!,5,FALSE)","v":{"$error":"#REF!"}},{"$f":"VLOOKUP($B134,#REF!,6,FALSE)","v":{"$error":"#REF!"}},"-",{"$error":"#REF!"},null,{"$f":"VLOOKUP($B134,#REF!,13,FALSE)","v":{"$error":"#REF!"}},{"$f":"VLOOKUP($B134,#REF!,10,FALSE)","v":{"$error":"#REF!"}},{"$f":"VLOOKUP($B134,#REF!,17,FALSE)","v":{"$error":"#REF!"}},{"$f":"IFERROR(VLOOKUP($B134,#REF!,2,FALSE),\"-\")","v":"-"}]
[null,132,{"$f":"VLOOKUP($B135,#REF!,2,FALSE)","v":{"$error":"#REF!"}},{"$f":"VLOOKUP($B135,#REF!,3,FALSE)","v":{"$error":"#REF!"}},{"$f":"VLOOKUP($B135,#REF!,5,FALSE)","v":{"$error":"#REF!"}},{"$f":"VLOOKUP($B135,#REF!,6,FALSE)","v":{"$error":"#REF!"}},"-",{"$error":"#REF!"},null,{"$f":"VLOOKUP($B135,#REF!,13,FALSE)","v":{"$error":"#REF!"}},{"$f":"VLOOKUP($B135,#REF!,10,FALSE)","v":{"$error":"#REF!"}},{"$f":"VLOOKUP($B135,#REF!,17,FALSE)","v":{"$error":"#REF!"}},{"$f":"IFERROR(VLOOKUP($B135,#REF!,2,FALSE),\"-\")","v":"-"}]
[null,133,{"$f":"VLOOKUP($B136,#REF!,2,FALSE)","v":{"$error":"#REF!"}},{"$f":"VLOOKUP($B136,#REF!,3,FALSE)","v":{"$error":"#REF!"}},{"$f":"VLOOKUP($B136,#REF!,5,FALSE)","v":{"$error":"#REF!"}},{"$f":"VLOOKUP($B136,#REF!,6,FALSE)","v":{"$error":"#REF!"}},"-",{"$error":"#REF!"},null,{"$f":"VLOOKUP($B136,#REF!,13,FALSE)","v":{"$error":"#REF!"}},{"$f":"VLOOKUP($B136,#REF!,10,FALSE)","v":{"$error":"#REF!"}},{"$f":"VLOOKUP($B136,#REF!,17,FALSE)","v":{"$error":"#REF!"}},{"$f":"IFERROR(VLOOKUP($B136,#REF!,2,FALSE),\"-\")","v":"-"}]
[null,134,{"$f":"VLOOKUP($B137,#REF!,2,FALSE)","v":{"$error":"#REF!"}},{"$f":"VLOOKUP($B137,#REF!,3,FALSE)","v":{"$error":"#REF!"}},{"$f":"VLOOKUP($B137,#REF!,5,FALSE)","v":{"$error":"#REF!"}},{"$f":"VLOOKUP($B137,#REF!,6,FALSE)","v":{"$error":"#REF!"}},"-",{"$error":"#REF!"},null,{"$f":"VLOOKUP($B137,#REF!,13,FALSE)","v":{"$error":"#REF!"}},{"$f":"VLOOKUP($B137,#REF!,10,FALSE)","v":{"$error":"#REF!"}},{"$f":"VLOOKUP($B137,#REF!,17,FALSE)","v":{"$error":"#REF!"}},{"$f":"IFERROR(VLOOKUP($B137,#REF!,2,FALSE),\"-\")","v":"-"}]
[null,135,{"$f":"VLOOKUP($B138,#REF!,2,FALSE)","v":{"$error":"#REF!"}},{"$f":"VLOOKUP($B138,#REF!,3,FALSE)","v":{"$error":"#REF!"}},{"$f":"VLOOKUP($B138,#REF!,5,FALSE)","v":{"$error":"#REF!"}},{"$f":"VLOOKUP($B138,#REF!,6,FALSE)","v":{"$error":"#REF!"}},"-",{"$error":"#REF!"},null,{"$f":"VLOOKUP($B138,#REF!,13,FALSE)","v":{"$error":"#REF!"}},{"$f":"VLOOKUP($B138,#REF!,10,FALSE)","v":{"$error":"#REF!"}},{"$f":"VLOOKUP($B138,#REF!,17,FALSE)","v":{"$error":"#REF!"}},{"$f":"IFERROR(VLOOKUP($B138,#REF!,2,FALSE),\"-\")","v":"-"}]
[null,136,{"$f":"VLOOKUP($B139,#REF!,2,FALSE)","v":{"$error":"#REF!"}},{"$f":"VLOOKUP($B139,#REF!,3,FALSE)","v":{"$error":"#REF!"}},{"$f":"VLOOKUP($B139,#REF!,5,FALSE)","v":{"$error":"#REF!"}},{"$f":"VLOOKUP($B139,#REF!,6,FALSE)","v":{"$error":"#REF!"}},"-",{"$error":"#REF!"},null,{"$f":"VLOOKUP($B139,#REF!,13,FALSE)","v":{"$error":"#REF!"}},{"$f":"VLOOKUP($B139,#REF!,10,FALSE)","v":{"$error":"#REF!"}},{"$f":"VLOOKUP($B139,#REF!,17,FALSE)","v":{"$error":"#REF!"}},{"$f":"IFERROR(VLOOKUP($B139,#REF!,2,FALSE),\"-\")","v":"-"}]
[null,137,{"$f":"VLOOKUP($B140,#REF!,2,FALSE)","v":{"$error":"#REF!"}},{"$f":"VLOOKUP($B140,#REF!,3,FALSE)","v":{"$error":"#REF!"}},{"$f":"VLOOKUP($B140,#REF!,5,FALSE)","v":{"$error":"#REF!"}},{"$f":"VLOOKUP($B140,#REF!,6,FALSE)","v":{"$error":"#REF!"}},"-",{"$error":"#REF!"},null,{"$f":"VLOOKUP($B140,#REF!,13,FALSE)","v":{"$error":"#REF!"}},{"$f":"VLOOKUP($B140,#REF!,10,FALSE)","v":{"$error":"#REF!"}},{"$f":"VLOOKUP($B140,#REF!,17,FALSE)","v":{"$error":"#REF!"}},{"$f":"IFERROR(VLOOKUP($B140,#REF!,2,FALSE),\"-\")","v":"-"}]
[null,138,{"$f":"VLOOKUP($B141,#REF!,2,FALSE)","v":{"$error":"#REF!"}},{"$f":"VLOOKUP($B141,#REF!,3,FALSE)","v":{"$error":"#REF!"}},{"$f":"VLOOKUP($B141,#REF!,5,FALSE)","v":{"$error":"#REF!"}},{"$f":"VLOOKUP($B141,#REF!,6,FALSE)","v":{"$error":"#REF!"}},"-",{"$error":"#REF!"},null,{"$f":"VLOOKUP($B141,#REF!,13,FALSE)","v":{"$error":"#REF!"}},{"$f":"VLOOKUP($B141,#REF!,10,FALSE)","v":{"$error":"#REF!"}},{"$f":"VLOOKUP($B141,#REF!,17,FALSE)","v":{"$error":"#REF!"}},{"$f":"IFERROR(VLOOKUP($B141,#REF!,2,FALSE),\"-\")","v":"-"}]
[null,139,{"$f":"VLOOKUP($B142,#REF!,2,FALSE)","v":{"$error":"#REF!"}},{"$f":"VLOOKUP($B142,#REF!,3,FALSE)","v":{"$error":"#REF!"}},{"$f":"VLOOKUP($B142,#REF!,5,FALSE)","v":{"$error":"#REF!"}},{"$f":"VLOOKUP($B142,#REF!,6,FALSE)","v":{"$error":"#REF!"}},"-",{"$error":"#REF!"},null,{"$f":"VLOOKUP($B142,#REF!,13,FALSE)","v":{"$error":"#REF!"}},{"$f":"VLOOKUP($B142,#REF!,10,FALSE)","v":{"$error":"#REF!"}},{"$f":"VLOOKUP($B142,#REF!,17,FALSE)","v":{"$error":"#REF!"}},{"$f":"IFERROR(VLOOKUP($B142,#REF!,2,FALSE),\"-\")","v":"-"}]
[null,140,{"$f":"VLOOKUP($B143,#REF!,2,FALSE)","v":{"$error":"#REF!"}},{"$f":"VLOOKUP($B143,#REF!,3,FALSE)","v":{"$error":"#REF!"}},{"$f":"VLOOKUP($B143,#REF!,5,FALSE)","v":{"$error":"#REF!"}},{"$f":"VLOOKUP($B143,#REF!,6,FALSE)","v":{"$error":"#REF!"}},"-",{"$error":"#REF!"},null,{"$f":"VLOOKUP($B143,#REF!,13,FALSE)","v":{"$error":"#REF!"}},{"$f":"VLOOKUP($B143,#REF!,10,FALSE)","v":{"$error":"#REF!"}},{"$f":"VLOOKUP($B143,#REF!,17,FALSE)","v":{"$error":"#REF!"}},{"$f":"IFERROR(VLOOKUP($B143,#REF!,2,FALSE),\"-\")","v":"-"}]
[null,141,{"$f":"VLOOKUP($B144,#REF!,2,FALSE)","v":{"$error":"#REF!"}},{"$f":"VLOOKUP($B144,#REF!,3,FALSE)","v":{"$error":"#REF!"}},{"$f":"VLOOKUP($B144,#REF!,5,FALSE)","v":{"$error":"#REF!"}},{"$f":"VLOOKUP($B144,#REF!,6,FALSE)","v":{"$error":"#REF!"}},"-",{"$error":"#REF!"},null,{"$f":"VLOOKUP($B144,#REF!,13,FALSE)","v":{"$error":"#REF!"}},{"$f":"VLOOKUP($B144,#REF!,10,FALSE)","v":{"$error":"#REF!"}},{"$f":"VLOOKUP($B144,#REF!,17,FALSE)","v":{"$error":"#REF!"}},{"$f":"IFERROR(VLOOKUP($B144,#REF!,2,FALSE),\"-\")","v":"-"}]
[null,142,{"$f":"VLOOKUP($B145,#REF!,2,FALSE)","v":{"$error":"#REF!"}},{"$f":"VLOOKUP($B145,#REF!,3,FALSE)","v":{"$error":"#REF!"}},{"$f":"VLOOKUP($B145,#REF!,5,FALSE)","v":{"$error":"#REF!"}},{"$f":"VLOOKUP($B145,#REF!,6,FALSE)","v":{"$error":"#REF!"}},"-",{"$error":"#REF!"},null,{"$f":"VLOOKUP($B145,#REF!,13,FALSE)","v":{"$error":"#REF!"}},{"$f":"VLOOKUP($B145,#REF!,10,FALSE)","v":{"$error":"#REF!"}},{"$f":"VLOOKUP($B145,#REF!,17,FALSE)","v":{"$error":"#REF!"}},{"$f":"IFERROR(VLOOKUP($B145,#REF!,2,FALSE),\"-\")","v":"-"}]
[null,143,{"$f":"VLOOKUP($B146,#REF!,2,FALSE)","v":{"$error":"#REF!"}},{"$f":"VLOOKUP($B146,#REF!,3,FALSE)","v":{"$error":"#REF!"}},{"$f":"VLOOKUP($B146,#REF!,5,FALSE)","v":{"$error":"#REF!"}},{"$f":"VLOOKUP($B146,#REF!,6,FALSE)","v":{"$error":"#REF!"}},"-",{"$error":"#REF!"},null,{"$f":"VLOOKUP($B146,#REF!,13,FALSE)","v":{"$error":"#REF!"}},{"$f":"VLOOKUP($B146,#REF!,10,FALSE)","v":{"$error":"#REF!"}},{"$f":"VLOOKUP($B146,#REF!,17,FALSE)","v":{"$error":"#REF!"}},{"$f":"IFERROR(VLOOKUP($B146,#REF!,2,FALSE),\"-\")","v":"-"}]
[null,144,{"$f":"VLOOKUP($B147,#REF!,2,FALSE)","v":{"$error":"#REF!"}},{"$f":"VLOOKUP($B147,#REF!,3,FALSE)","v":{"$error":"#REF!"}},{"$f":"VLOOKUP($B147,#REF!,5,FALSE)","v":{"$error":"#REF!"}},{"$f":"VLOOKUP($B147,#REF!,6,FALSE)","v":{"$error":"#REF!"}},"-",{"$error":"#REF!"},null,{"$f":"VLOOKUP($B147,#REF!,13,FALSE)","v":{"$error":"#REF!"}},{"$f":"VLOOKUP($B147,#REF!,10,FALSE)","v":{"$error":"#REF!"}},{"$f":"VLOOKUP($B147,#REF!,17,FALSE)","v":{"$error":"#REF!"}},{"$f":"IFERROR(VLOOKUP($B147,#REF!,2,FALSE),\"-\")","v":"-"}]
[null,145,{"$f":"VLOOKUP($B148,#REF!,2,FALSE)","v":{"$error":"#REF!"}},{"$f":"VLOOKUP($B148,#REF!,3,FALSE)","v":{"$error":"#REF!"}},{"$f":"VLOOKUP($B148,#REF!,5,FALSE)","v":{"$error":"#REF!"}},{"$f":"VLOOKUP($B148,#REF!,6,FALSE)","v":{"$error":"#REF!"}},"-",{"$error":"#REF!"},null,{"$f":"VLOOKUP($B148,#REF!,13,FALSE)","v":{"$error":"#REF!"}},{"$f":"VLOOKUP($B148,#REF!,10,FALSE)","v":{"$error":"#REF!"}},{"$f":"VLOOKUP($B148,#REF!,17,FALSE)","v":{"$error":"#REF!"}},{"$f":"IFERROR(VLOOKUP($B148,#REF!,2,FALSE),\"-\")","v":"-"}]
[null,146,{"$f":"VLOOKUP($B149,#REF!,2,FALSE)","v":{"$error":"#REF!"}},{"$f":"VLOOKUP($B149,#REF!,3,FALSE)","v":{"$error":"#REF!"}},{"$f":"VLOOKUP($B149,#REF!,5,FALSE)","v":{"$error":"#REF!"}},{"$f":"VLOOKUP($B149,#REF!,6,FALSE)","v":{"$error":"#REF!"}},"-",{"$error":"#REF!"},null,{"$f":"VLOOKUP($B149,#REF!,13,FALSE)","v":{"$error":"#REF!"}},{"$f":"VLOOKUP($B149,#REF!,10,FALSE)","v":{"$error":"#REF!"}},{"$f":"VLOOKUP($B149,#REF!,17,FALSE)","v":{"$error":"#REF!"}},{"$f":"IFERROR(VLOOKUP($B149,#REF!,2,FALSE),\"-\")","v":"-"}]
[null,147,{"$f":"VLOOKUP($B150,#REF!,2,FALSE)","v":{"$error":"#REF!"}},{"$f":"VLOOKUP($B150,#REF!,3,FALSE)","v":{"$error":"#REF!"}},{"$f":"VLOOKUP($B150,#REF!,5,FALSE)","v":{"$error":"#REF!"}},{"$f":"VLOOKUP($B150,#REF!,6,FALSE)","v":{"$error":"#REF!"}},"-",{"$error":"#REF!"},null,{"$f":"VLOOKUP($B150,#REF!,13,FALSE)","v":{"$error":"#REF!"}},{"$f":"VLOOKUP($B150,#REF!,10,FALSE)","v":{"$error":"#REF!"}},{"$f":"VLOOKUP($B150,#REF!,17,FALSE)","v":{"$error":"#REF!"}},{"$f":"IFERROR(VLOOKUP($B150,#REF!,2,FALSE),\"-\")","v":"-"}]
[null,148,{"$f":"VLOOKUP($B151,#REF!,2,FALSE)","v":{"$error":"#REF!"}},{"$f":"VLOOKUP($B151,#REF!,3,FALSE)","v":{"$error":"#REF!"}},{"$f":"VLOOKUP($B151,#REF!,5,FALSE)","v":{"$error":"#REF!"}},{"$f":"VLOOKUP($B151,#REF!,6,FALSE)","v":{"$error":"#REF!"}},"-",{"$error":"#REF!"},null,{"$f":"VLOOKUP($B151,#REF!,13,FALSE)","v":{"$error":"#REF!"}},{"$f":"VLOOKUP($B151,#REF!,10,FALSE)","v":{"$error":"#REF!"}},{"$f":"VLOOKUP($B151,#REF!,17,FALSE)","v":{"$error":"#REF!"}},{"$f":"IFERROR(VLOOKUP($B151,#REF!,2,FALSE),\"-\")","v":"-"}]
[null,149,{"$f":"VLOOKUP($B152,#REF!,2,FALSE)","v":{"$error":"#REF!"}},{"$f":"VLOOKUP($B152,#REF!,3,FALSE)","v":{"$error":"#REF!"}},{"$f":"VLOOKUP($B152,#REF!,5,FALSE)","v":{"$error":"#REF!"}},{"$f":"VLOOKUP($B152,#REF!,6,FALSE)","v":{"$error":"#REF!"}},"-",{"$error":"#REF!"},null,{"$f":"VLOOKUP($B152,#REF!,13,FALSE)","v":{"$error":"#REF!"}},{"$f":"VLOOKUP($B152,#REF!,10,FALSE)","v":{"$error":"#REF!"}},{"$f":"VLOOKUP($B152,#REF!,17,FALSE)","v":{"$error":"#REF!"}},{"$f":"IFERROR(VLOOKUP($B152,#REF!,2,FALSE),\"-\")","v":"-"}]
[null,150,{"$f":"VLOOKUP($B153,#REF!,2,FALSE)","v":{"$error":"#REF!"}},{"$f":"VLOOKUP($B153,#REF!,3,FALSE)","v":{"$error":"#REF!"}},{"$f":"VLOOKUP($B153,#REF!,5,FALSE)","v":{"$error":"#REF!"}},{"$f":"VLOOKUP($B153,#REF!,6,FALSE)","v":{"$error":"#REF!"}},"-",{"$error":"#REF!"},null,{"$f":"VLOOKUP($B153,#REF!,13,FALSE)","v":{"$error":"#REF!"}},{"$f":"VLOOKUP($B153,#REF!,10,FALSE)","v":{"$error":"#REF!"}},{"$f":"VLOOKUP($B153,#REF!,17,FALSE)","v":{"$error":"#REF!"}},{"$f":"IFERROR(VLOOKUP($B153,#REF!,2,FALSE),\"-\")","v":"-"}]
[null,151,{"$f":"VLOOKUP($B154,#REF!,2,FALSE)","v":{"$error":"#REF!"}},{"$f":"VLOOKUP($B154,#REF!,3,FALSE)","v":{"$error":"#REF!"}},{"$f":"VLOOKUP($B154,#REF!,5,FALSE)","v":{"$error":"#REF!"}},{"$f":"VLOOKUP($B154,#REF!,6,FALSE)","v":{"$error":"#REF!"}},"-",{"$error":"#REF!"},null,{"$f":"VLOOKUP($B154,#REF!,13,FALSE)","v":{"$error":"#REF!"}},{"$f":"VLOOKUP($B154,#REF!,10,FALSE)","v":{"$error":"#REF!"}},{"$f":"VLOOKUP($B154,#REF!,17,FALSE)","v":{"$error":"#REF!"}},{"$f":"IFERROR(VLOOKUP($B154,#REF!,2,FALSE),\"-\")","v":"-"}]
[null,152,{"$f":"VLOOKUP($B155,#REF!,2,FALSE)","v":{"$error":"#REF!"}},{"$f":"VLOOKUP($B155,#REF!,3,FALSE)","v":{"$error":"#REF!"}},{"$f":"VLOOKUP($B155,#REF!,5,FALSE)","v":{"$error":"#REF!"}},{"$f":"VLOOKUP($B155,#REF!,6,FALSE)","v":{"$error":"#REF!"}},"-",{"$error":"#REF!"},null,{"$f":"VLOOKUP($B155,#REF!,13,FALSE)","v":{"$error":"#REF!"}},{"$f":"VLOOKUP($B155,#REF!,10,FALSE)","v":{"$error":"#REF!"}},{"$f":"VLOOKUP($B155,#REF!,17,FALSE)","v":{"$error":"#REF!"}},{"$f":"IFERROR(VLOOKUP($B155,#REF!,2,FALSE),\"-\")","v":"-"}]
[null,153,{"$f":"VLOOKUP($B156,#REF!,2,FALSE)","v":{"$error":"#REF!"}},{"$f":"VLOOKUP($B156,#REF!,3,FALSE)","v":{"$error":"#REF!"}},{"$f":"VLOOKUP($B156,#REF!,5,FALSE)","v":{"$error":"#REF!"}},{"$f":"VLOOKUP($B156,#REF!,6,FALSE)","v":{"$error":"#REF!"}},"-",{"$error":"#REF!"},null,{"$f":"VLOOKUP($B156,#REF!,13,FALSE)","v":{"$error":"#REF!"}},{"$f":"VLOOKUP($B156,#REF!,10,FALSE)","v":{"$error":"#REF!"}},{"$f":"VLOOKUP($B156,#REF!,17,FALSE)","v":{"$error":"#REF!"}},{"$f":"IFERROR(VLOOKUP($B156,#REF!,2,FALSE),\"-\")","v":"-"}]
[null,154,{"$f":"VLOOKUP($B157,#REF!,2,FALSE)","v":{"$error":"#REF!"}},{"$f":"VLOOKUP($B157,#REF!,3,FALSE)","v":{"$error":"#REF!"}},{"$f":"VLOOKUP($B157,#REF!,5,FALSE)","v":{"$error":"#REF!"}},{"$f":"VLOOKUP($B157,#REF!,6,FALSE)","v":{"$error":"#REF!"}},"-",{"$error":"#REF!"},null,{"$f":"VLOOKUP($B157,#REF!,13,FALSE)","v":{"$error":"#REF!"}},{"$f":"VLOOKUP($B157,#REF!,10,FALSE)","v":{"$error":"#REF!"}},{"$f":"VLOOKUP($B157,#REF!,17,FALSE)","v":{"$error":"#REF!"}},{"$f":"IFERROR(VLOOKUP($B157,#REF!,2,FALSE),\"-\")","v":"-"}]
[null,155,{"$f":"VLOOKUP($B158,#REF!,2,FALSE)","v":{"$error":"#REF!"}},{"$f":"VLOOKUP($B158,#REF!,3,FALSE)","v":{"$error":"#REF!"}},{"$f":"VLOOKUP($B158,#REF!,5,FALSE)","v":{"$error":"#REF!"}},{"$f":"VLOOKUP($B158,#REF!,6,FALSE)","v":{"$error":"#REF!"}},"-",{"$error":"#REF!"},null,{"$f":"VLOOKUP($B158,#REF!,13,FALSE)","v":{"$error":"#REF!"}},{"$f":"VLOOKUP($B158,#REF!,10,FALSE)","v":{"$error":"#REF!"}},{"$f":"VLOOKUP($B158,#REF!,17,FALSE)","v":{"$error":"#REF!"}},{"$f":"IFERROR(VLOOKUP($B158,#REF!,2,FALSE),\"-\")","v":"-"}]
[null,156,{"$f":"VLOOKUP($B159,#REF!,2,FALSE)","v":{"$error":"#REF!"}},{"$f":"VLOOKUP($B159,#REF!,3,FALSE)","v":{"$error":"#REF!"}},{"$f":"VLOOKUP($B159,#REF!,5,FALSE)","v":{"$error":"#REF!"}},{"$f":"VLOOKUP($B159,#REF!,6,FALSE)","v":{"$error":"#REF!"}},"-",{"$error":"#REF!"},null,{"$f":"VLOOKUP($B159,#REF!,13,FALSE)","v":{"$error":"#REF!"}},{"$f":"VLOOKUP($B159,#REF!,10,FALSE)","v":{"$error":"#REF!"}},{"$f":"VLOOKUP($B159,#REF!,17,FALSE)","v":{"$error":"#REF!"}},{"$f":"IFERROR(VLOOKUP($B159,#REF!,2,FALSE),\"-\")","v":"-"}]
[null,157,{"$f":"VLOOKUP($B160,#REF!,2,FALSE)","v":{"$error":"#REF!"}},{"$f":"VLOOKUP($B160,#REF!,3,FALSE)","v":{"$error":"#REF!"}},{"$f":"VLOOKUP($B160,#REF!,5,FALSE)","v":{"$error":"#REF!"}},{"$f":"VLOOKUP($B160,#REF!,6,FALSE)","v":{"$error":"#REF!"}},"-",{"$error":"#REF!"},null,{"$f":"VLOOKUP($B160,#REF!,13,FALSE)","v":{"$error":"#REF!"}},{"$f":"VLOOKUP($B160,#REF!,10,FALSE)","v":{"$error":"#REF!"}},{"$f":"VLOOKUP($B160,#REF!,17,FALSE)","v":{"$error":"#REF!"}},{"$f":"IFERROR(VLOOKUP($B160,#REF!,2,FALSE),\"-\")","v":"-"}]
[null,158,{"$f":"VLOOKUP($B161,#REF!,2,FALSE)","v":{"$error":"#REF!"}},{"$f":"VLOOKUP($B161,#REF!,3,FALSE)","v":{"$error":"#REF!"}},{"$f":"VLOOKUP($B161,#REF!,5,FALSE)","v":{"$error":"#REF!"}},{"$f":"VLOOKUP($B161,#REF!,6,FALSE)","v":{"$error":"#REF!"}},"-",{"$error":"#REF!"},null,{"$f":"VLOOKUP($B161,#REF!,13,FALSE)","v":{"$error":"#REF!"}},{"$f":"VLOOKUP($B161,#REF!,10,FALSE)","v":{"$error":"#REF!"}},{"$f":"VLOOKUP($B161,#REF!,17,FALSE)","v":{"$error":"#REF!"}},{"$f":"IFERROR(VLOOKUP($B161,#REF!,2,FALSE),\"-\")","v":"-"}]
[null,159,{"$f":"VLOOKUP($B162,#REF!,2,FALSE)","v":{"$error":"#REF!"}},{"$f":"VLOOKUP($B162,#REF!,3,FALSE)","v":{"$error":"#REF!"}},{"$f":"VLOOKUP($B162,#REF!,5,FALSE)","v":{"$error":"#REF!"}},{"$f":"VLOOKUP($B162,#REF!,6,FALSE)","v":{"$error":"#REF!"}},"-",{"$error":"#REF!"},null,{"$f":"VLOOKUP($B162,#REF!,13,FALSE)","v":{"$error":"#REF!"}},{"$f":"VLOOKUP($B162,#REF!,10,FALSE)","v":{"$error":"#REF!"}},{"$f":"VLOOKUP($B162,#REF!,17,FALSE)","v":{"$error":"#REF!"}},{"$f":"IFERROR(VLOOKUP($B162,#REF!,2,FALSE),\"-\")","v":"-"}]
[null,160,{"$f":"VLOOKUP($B163,#REF!,2,FALSE)","v":{"$error":"#REF!"}},{"$f":"VLOOKUP($B163,#REF!,3,FALSE)","v":{"$error":"#REF!"}},{"$f":"VLOOKUP($B163,#REF!,5,FALSE)","v":{"$error":"#REF!"}},{"$f":"VLOOKUP($B163,#REF!,6,FALSE)","v":{"$error":"#REF!"}},"-",{"$error":"#REF!"},null,{"$f":"VLOOKUP($B163,#REF!,13,FALSE)","v":{"$error":"#REF!"}},{"$f":"VLOOKUP($B163,#REF!,10,FALSE)","v":{"$error":"#REF!"}},{"$f":"VLOOKUP($B163,#REF!,17,FALSE)","v":{"$error":"#REF!"}},{"$f":"IFERROR(VLOOKUP($B163,#REF!,2,FALSE),\"-\")","v":"-"}]
[null,161,{"$f":"VLOOKUP($B164,#REF!,2,FALSE)","v":{"$error":"#REF!"}},{"$f":"VLOOKUP($B164,#REF!,3,FALSE)","v":{"$error":"#REF!"}},{"$f":"VLOOKUP($B164,#REF!,5,FALSE)","v":{"$error":"#REF!"}},{"$f":"VLOOKUP($B164,#REF!,6,FALSE)","v":{"$error":"#REF!"}},"-",{"$error":"#REF!"},null,{"$f":"VLOOKUP($B164,#REF!,13,FALSE)","v":{"$error":"#REF!"}},{"$f":"VLOOKUP($B164,#REF!,10,FALSE)","v":{"$error":"#REF!"}},{"$f":"VLOOKUP($B164,#REF!,17,FALSE)","v":{"$error":"#REF!"}},{"$f":"IFERROR(VLOOKUP($B164,#REF!,2,FALSE),\"-\")","v":"-"}]
[null,162,{"$f":"VLOOKUP($B165,#REF!,2,FALSE)","v":{"$error":"#REF!"}},{"$f":"VLOOKUP($B165,#REF!,3,FALSE)","v":{"$error":"#REF!"}},{"$f":"VLOOKUP($B165,#REF!,5,FALSE)","v":{"$error":"#REF!"}},{"$f":"VLOOKUP($B165,#REF!,6,FALSE)","v":{"$error":"#REF!"}},"-",{"$error":"#REF!"},null,{"$f":"VLOOKUP($B165,#REF!,13,FALSE)","v":{"$error":"#REF!"}},{"$f":"VLOOKUP($B165,#REF!,10,FALSE)","v":{"$error":"#REF!"}},{"$f":"VLOOKUP($B165,#REF!,17,FALSE)","v":{"$error":"#REF!"}},{"$f":"IFERROR(VLOOKUP($B165,#REF!,2,FALSE),\"-\")","v":"-"}]
[null,163,{"$f":"VLOOKUP($B166,#REF!,2,FALSE)","v":{"$error":"#REF!"}},{"$f":"VLOOKUP($B166,#REF!,3,FALSE)","v":{"$error":"#REF!"}},{"$f":"VLOOKUP($B166,#REF!,5,FALSE)","v":{"$error":"#REF!"}},{"$f":"VLOOKUP($B166,#REF!,6,FALSE)","v":{"$error":"#REF!"}},"-",{"$error":"#REF!"},null,{"$f":"VLOOKUP($B166,#REF!,13,FALSE)","v":{"$error":"#REF!"}},{"$f":"VLOOKUP($B166,#REF!,10,FALSE)","v":{"$error":"#REF!"}},{"$f":"VLOOKUP($B166,#REF!,17,FALSE)","v":{"$error":"#REF!"}},{"$f":"IFERROR(VLOOKUP($B166,#REF!,2,FALSE),\"-\")","v":"-"}]
[null,164,{"$f":"VLOOKUP($B167,#REF!,2,FALSE)","v":{"$error":"#REF!"}},{"$f":"VLOOKUP($B167,#REF!,3,FALSE)","v":{"$error":"#REF!"}},{"$f":"VLOOKUP($B167,#REF!,5,FALSE)","v":{"$error":"#REF!"}},{"$f":"VLOOKUP($B167,#REF!,6,FALSE)","v":{"$error":"#REF!"}},"-",{"$error":"#REF!"},null,{"$f":"VLOOKUP($B167,#REF!,13,FALSE)","v":{"$error":"#REF!"}},{"$f":"VLOOKUP($B167,#REF!,10,FALSE)","v":{"$error":"#REF!"}},{"$f":"VLOOKUP($B167,#REF!,17,FALSE)","v":{"$error":"#REF!"}},{"$f":"IFERROR(VLOOKUP($B167,#REF!,2,FALSE),\"-\")","v":"-"}]
[null,165,{"$f":"VLOOKUP($B168,#REF!,2,FALSE)","v":{"$error":"#REF!"}},{"$f":"VLOOKUP($B168,#REF!,3,FALSE)","v":{"$error":"#REF!"}},{"$f":"VLOOKUP($B168,#REF!,5,FALSE)","v":{"$error":"#REF!"}},{"$f":"VLOOKUP($B168,#REF!,6,FALSE)","v":{"$error":"#REF!"}},"-",{"$error":"#REF!"},null,{"$f":"VLOOKUP($B168,#REF!,13,FALSE)","v":{"$error":"#REF!"}},{"$f":"VLOOKUP($B168,#REF!,10,FALSE)","v":{"$error":"#REF!"}},{"$f":"VLOOKUP($B168,#REF!,17,FALSE)","v":{"$error":"#REF!"}},{"$f":"IFERROR(VLOOKUP($B168,#REF!,2,FALSE),\"-\")","v":"-"}]
[null,166,{"$f":"VLOOKUP($B169,#REF!,2,FALSE)","v":{"$error":"#REF!"}},{"$f":"VLOOKUP($B169,#REF!,3,FALSE)","v":{"$error":"#REF!"}},{"$f":"VLOOKUP($B169,#REF!,5,FALSE)","v":{"$error":"#REF!"}},{"$f":"VLOOKUP($B169,#REF!,6,FALSE)","v":{"$error":"#REF!"}},"-",{"$error":"#REF!"},null,{"$f":"VLOOKUP($B169,#REF!,13,FALSE)","v":{"$error":"#REF!"}},{"$f":"VLOOKUP($B169,#REF!,10,FALSE)","v":{"$error":"#REF!"}},{"$f":"VLOOKUP($B169,#REF!,17,FALSE)","v":{"$error":"#REF!"}},{"$f":"IFERROR(VLOOKUP($B169,#REF!,2,FALSE),\"-\")","v":"-"}]
[null,167,{"$f":"VLOOKUP($B170,#REF!,2,FALSE)","v":{"$error":"#REF!"}},{"$f":"VLOOKUP($B170,#REF!,3,FALSE)","v":{"$error":"#REF!"}},{"$f":"VLOOKUP($B170,#REF!,5,FALSE)","v":{"$error":"#REF!"}},{"$f":"VLOOKUP($B170,#REF!,6,FALSE)","v":{"$error":"#REF!"}},"-",{"$error":"#REF!"},null,{"$f":"VLOOKUP($B170,#REF!,13,FALSE)","v":{"$error":"#REF!"}},{"$f":"VLOOKUP($B170,#REF!,10,FALSE)","v":{"$error":"#REF!"}},{"$f":"VLOOKUP($B170,#REF!,17,FALSE)","v":{"$error":"#REF!"}},{"$f":"IFERROR(VLOOKUP($B170,#REF!,2,FALSE),\"-\")","v":"-"}]
[null,168,{"$f":"VLOOKUP($B171,#REF!,2,FALSE)","v":{"$error":"#REF!"}},{"$f":"VLOOKUP($B171,#REF!,3,FALSE)","v":{"$error":"#REF!"}},{"$f":"VLOOKUP($B171,#REF!,5,FALSE)","v":{"$error":"#REF!"}},{"$f":"VLOOKUP($B171,#REF!,6,FALSE)","v":{"$error":"#REF!"}},"-",{"$error":"#REF!"},null,{"$f":"VLOOKUP($B171,#REF!,13,FALSE)","v":{"$error":"#REF!"}},{"$f":"VLOOKUP($B171,#REF!,10,FALSE)","v":{"$error":"#REF!"}},{"$f":"VLOOKUP($B171,#REF!,17,FALSE)","v":{"$error":"#REF!"}},{"$f":"IFERROR(VLOOKUP($B171,#REF!,2,FALSE),\"-\")","v":"-"}]
[null,169,{"$f":"VLOOKUP($B172,#REF!,2,FALSE)","v":{"$error":"#REF!"}},{"$f":"VLOOKUP($B172,#REF!,3,FALSE)","v":{"$error":"#REF!"}},{"$f":"VLOOKUP($B172,#REF!,5,FALSE)","v":{"$error":"#REF!"}},{"$f":"VLOOKUP($B172,#REF!,6,FALSE)","v":{"$error":"#REF!"}},"-",{"$error":"#REF!"},null,{"$f":"VLOOKUP($B172,#REF!,13,FALSE)","v":{"$error":"#REF!"}},{"$f":"VLOOKUP($B172,#REF!,10,FALSE)","v":{"$error":"#REF!"}},{"$f":"VLOOKUP($B172,#REF!,17,FALSE)","v":{"$error":"#REF!"}},{"$f":"IFERROR(VLOOKUP($B172,#REF!,2,FALSE),\"-\")","v":"-"}]
[null,170,{"$f":"VLOOKUP($B173,#REF!,2,FALSE)","v":{"$error":"#REF!"}},{"$f":"VLOOKUP($B173,#REF!,3,FALSE)","v":{"$error":"#REF!"}},{"$f":"VLOOKUP($B173,#REF!,5,FALSE)","v":{"$error":"#REF!"}},{"$f":"VLOOKUP($B173,#REF!,6,FALSE)","v":{"$error":"#REF!"}},"-",{"$error":"#REF!"},null,{"$f":"VLOOKUP($B173,#REF!,13,FALSE)","v":{"$error":"#REF!"}},{"$f":"VLOOKUP($B173,#REF!,10,FALSE)","v":{"$error":"#REF!"}},{"$f":"VLOOKUP($B173,#REF!,17,FALSE)","v":{"$error":"#REF!"}},{"$f":"IFERROR(VLOOKUP($B173,#REF!,2,FALSE),\"-\")","v":"-"}]
[null,171,{"$f":"VLOOKUP($B174,#REF!,2,FALSE)","v":{"$error":"#REF!"}},{"$f":"VLOOKUP($B174,#REF!,3,FALSE)","v":{"$error":"#REF!"}},{"$f":"VLOOKUP($B174,#REF!,5,FALSE)","v":{"$error":"#REF!"}},{"$f":"VLOOKUP($B174,#REF!,6,FALSE)","v":{"$error":"#REF!"}},"-",{"$error":"#REF!"},null,{"$f":"VLOOKUP($B174,#REF!,13,FALSE)","v":{"$error":"#REF!"}},{"$f":"VLOOKUP($B174,#REF!,10,FALSE)","v":{"$error":"#REF!"}},{"$f":"VLOOKUP($B174,#REF!,17,FALSE)","v":{"$error":"#REF!"}},{"$f":"IFERROR(VLOOKUP($B174,#REF!,2,FALSE),\"-\")","v":"-"}]
[null,172,{"$f":"VLOOKUP($B175,#REF!,2,FALSE)","v":{"$error":"#REF!"}},{"$f":"VLOOKUP($B175,#REF!,3,FALSE)","v":{"$error":"#REF!"}},{"$f":"VLOOKUP($B175,#REF!,5,FALSE)","v":{"$error":"#REF!"}},{"$f":"VLOOKUP($B175,#REF!,6,FALSE)","v":{"$error":"#REF!"}},"-",{"$error":"#REF!"},null,{"$f":"VLOOKUP($B175,#REF!,13,FALSE)","v":{"$error":"#REF!"}},{"$f":"VLOOKUP($B175,#REF!,10,FALSE)","v":{"$error":"#REF!"}},{"$f":"VLOOKUP($B175,#REF!,17,FALSE)","v":{"$error":"#REF!"}},{"$f":"IFERROR(VLOOKUP($B175,#REF!,2,FALSE),\"-\")","v":"-"}]
[null,173,{"$f":"VLOOKUP($B176,#REF!,2,FALSE)","v":{"$error":"#REF!"}},{"$f":"VLOOKUP($B176,#REF!,3,FALSE)","v":{"$error":"#REF!"}},{"$f":"VLOOKUP($B176,#REF!,5,FALSE)","v":{"$error":"#REF!"}},{"$f":"VLOOKUP($B176,#REF!,6,FALSE)","v":{"$error":"#REF!"}},"-",{"$error":"#REF!"},null,{"$f":"VLOOKUP($B176,#REF!,13,FALSE)","v":{"$error":"#REF!"}},{"$f":"VLOOKUP($B176,#REF!,10,FALSE)","v":{"$error":"#REF!"}},{"$f":"VLOOKUP($B176,#REF!,17,FALSE)","v":{"$error":"#REF!"}},{"$f":"IFERROR(VLOOKUP($B176,#REF!,2,FALSE),\"-\")","v":"-"}]
[null,174,{"$f":"VLOOKUP($B177,#REF!,2,FALSE)","v":{"$error":"#REF!"}},{"$f":"VLOOKUP($B177,#REF!,3,FALSE)","v":{"$error":"#REF!"}},{"$f":"VLOOKUP($B177,#REF!,5,FALSE)","v":{"$error":"#REF!"}},{"$f":"VLOOKUP($B177,#REF!,6,FALSE)","v":{"$error":"#REF!"}},"-",{"$error":"#REF!"},null,{"$f":"VLOOKUP($B177,#REF!,13,FALSE)","v":{"$error":"#REF!"}},{"$f":"VLOOKUP($B177,#REF!,10,FALSE)","v":{"$error":"#REF!"}},{"$f":"VLOOKUP($B177,#REF!,17,FALSE)","v":{"$error":"#REF!"}},{"$f":"IFERROR(VLOOKUP($B177,#REF!,2,FALSE),\"-\")","v":"-"}]
[null,175,{"$f":"VLOOKUP($B178,#REF!,2,FALSE)","v":{"$error":"#REF!"}},{"$f":"VLOOKUP($B178,#REF!,3,FALSE)","v":{"$error":"#REF!"}},{"$f":"VLOOKUP($B178,#REF!,5,FALSE)","v":{"$error":"#REF!"}},{"$f":"VLOOKUP($B178,#REF!,6,FALSE)","v":{"$error":"#REF!"}},"-",{"$error":"#REF!"},null,{"$f":"VLOOKUP($B178,#REF!,13,FALSE)","v":{"$error":"#REF!"}},{"$f":"VLOOKUP($B178,#REF!,10,FALSE)","v":{"$error":"#REF!"}},{"$f":"VLOOKUP($B178,#REF!,17,FALSE)","v":{"$error":"#REF!"}},{"$f":"IFERROR(VLOOKUP($B178,#REF!,2,FALSE),\"-\")","v":"-"}]
[null,176,{"$f":"VLOOKUP($B179,#REF!,2,FALSE)","v":{"$error":"#REF!"}},{"$f":"VLOOKUP($B179,#REF!,3,FALSE)","v":{"$error":"#REF!"}},{"$f":"VLOOKUP($B179,#REF!,5,FALSE)","v":{"$error":"#REF!"}},{"$f":"VLOOKUP($B179,#REF!,6,FALSE)","v":{"$error":"#REF!"}},"-",{"$error":"#REF!"},null,{"$f":"VLOOKUP($B179,#REF!,13,FALSE)","v":{"$error":"#REF!"}},{"$f":"VLOOKUP($B179,#REF!,10,FALSE)","v":{"$error":"#REF!"}},{"$f":"VLOOKUP($B179,#REF!,17,FALSE)","v":{"$error":"#REF!"}},{"$f":"IFERROR(VLOOKUP($B179,#REF!,2,FALSE),\"-\")","v":"-"}]
[null,177,{"$f":"VLOOKUP($B180,#REF!,2,FALSE)","v":{"$error":"#REF!"}},{"$f":"VLOOKUP($B180,#REF!,3,FALSE)","v":{"$error":"#REF!"}},{"$f":"VLOOKUP($B180,#REF!,5,FALSE)","v":{"$error":"#REF!"}},{"$f":"VLOOKUP($B180,#REF!,6,FALSE)","v":{"$error":"#REF!"}},"-",{"$error":"#REF!"},null,{"$f":"VLOOKUP($B180,#REF!,13,FALSE)","v":{"$error":"#REF!"}},{"$f":"VLOOKUP($B180,#REF!,10,FALSE)","v":{"$error":"#REF!"}},{"$f":"VLOOKUP($B180,#REF!,17,FALSE)","v":{"$error":"#REF!"}},{"$f":"IFERROR(VLOOKUP($B180,#REF!,2,FALSE),\"-\")","v":"-"}]
[null,178,{"$f":"VLOOKUP($B181,#REF!,2,FALSE)","v":{"$error":"#REF!"}},{"$f":"VLOOKUP($B181,#REF!,3,FALSE)","v":{"$error":"#REF!"}},{"$f":"VLOOKUP($B181,#REF!,5,FALSE)","v":{"$error":"#REF!"}},{"$f":"VLOOKUP($B181,#REF!,6,FALSE)","v":{"$error":"#REF!"}},"-",{"$error":"#REF!"},null,{"$f":"VLOOKUP($B181,#REF!,13,FALSE)","v":{"$error":"#REF!"}},{"$f":"VLOOKUP($B181,#REF!,10,FALSE)","v":{"$error":"#REF!"}},{"$f":"VLOOKUP($B181,#REF!,17,FALSE)","v":{"$error":"#REF!"}},{"$f":"IFERROR(VLOOKUP($B181,#REF!,2,FALSE),\"-\")","v":"-"}]
[null,179,{"$f":"VLOOKUP($B182,#REF!,2,FALSE)","v":{"$error":"#REF!"}},{"$f":"VLOOKUP($B182,#REF!,3,FALSE)","v":{"$error":"#REF!"}},{"$f":"VLOOKUP($B182,#REF!,5,FALSE)","v":{"$error":"#REF!"}},{"$f":"VLOOKUP($B182,#REF!,6,FALSE)","v":{"$error":"#REF!"}},"-",{"$error":"#REF!"},null,{"$f":"VLOOKUP($B182,#REF!,13,FALSE)","v":{"$error":"#REF!"}},{"$f":"VLOOKUP($B182,#REF!,10,FALSE)","v":{"$error":"#REF!"}},{"$f":"VLOOKUP($B182,#REF!,17,FALSE)","v":{"$error":"#REF!"}},{"$f":"IFERROR(VLOOKUP($B182,#REF!,2,FALSE),\"-\")","v":"-"}]
[null,180,{"$f":"VLOOKUP($B183,#REF!,2,FALSE)","v":{"$error":"#REF!"}},{"$f":"VLOOKUP($B183,#REF!,3,FALSE)","v":{"$error":"#REF!"}},{"$f":"VLOOKUP($B183,#REF!,5,FALSE)","v":{"$error":"#REF!"}},{"$f":"VLOOKUP($B183,#REF!,6,FALSE)","v":{"$error":"#REF!"}},"-",{"$error":"#REF!"},null,{"$f":"VLOOKUP($B183,#REF!,13,FALSE)","v":{"$error":"#REF!"}},{"$f":"VLOOKUP($B183,#REF!,10,FALSE)","v":{"$error":"#REF!"}},{"$f":"VLOOKUP($B183,#REF!,17,FALSE)","v":{"$error":"#REF!"}},{"$f":"IFERROR(VLOOKUP($B183,#REF!,2,FALSE),\"-\")","v":"-"}]
[null,181,{"$f":"VLOOKUP($B184,#REF!,2,FALSE)","v":{"$error":"#REF!"}},{"$f":"VLOOKUP($B184,#REF!,3,FALSE)","v":{"$error":"#REF!"}},{"$f":"VLOOKUP($B184,#REF!,5,FALSE)","v":{"$error":"#REF!"}},{"$f":"VLOOKUP($B184,#REF!,6,FALSE)","v":{"$error":"#REF!"}},"-",{"$error":"#REF!"},null,{"$f":"VLOOKUP($B184,#REF!,13,FALSE)","v":{"$error":"#REF!"}},{"$f":"VLOOKUP($B184,#REF!,10,FALSE)","v":{"$error":"#REF!"}},{"$f":"VLOOKUP($B184,#REF!,17,FALSE)","v":{"$error":"#REF!"}},{"$f":"IFERROR(VLOOKUP($B184,#REF!,2,FALSE),\"-\")","v":"-"}]
[null,182,{"$f":"VLOOKUP($B185,#REF!,2,FALSE)","v":{"$error":"#REF!"}},{"$f":"VLOOKUP($B185,#REF!,3,FALSE)","v":{"$error":"#REF!"}},{"$f":"VLOOKUP($B185,#REF!,5,FALSE)","v":{"$error":"#REF!"}},{"$f":"VLOOKUP($B185,#REF!,6,FALSE)","v":{"$error":"#REF!"}},"-",{"$error":"#REF!"},null,{"$f":"VLOOKUP($B185,#REF!,13,FALSE)","v":{"$error":"#REF!"}},{"$f":"VLOOKUP($B185,#REF!,10,FALSE)","v":{"$error":"#REF!"}},{"$f":"VLOOKUP($B185,#REF!,17,FALSE)","v":{"$error":"#REF!"}},{"$f":"IFERROR(VLOOKUP($B185,#REF!,2,FALSE),\"-\")","v":"-"}]
[null,183,{"$f":"VLOOKUP($B186,#REF!,2,FALSE)","v":{"$error":"#REF!"}},{"$f":"VLOOKUP($B186,#REF!,3,FALSE)","v":{"$error":"#REF!"}},{"$f":"VLOOKUP($B186,#REF!,5,FALSE)","v":{"$error":"#REF!"}},{"$f":"VLOOKUP($B186,#REF!,6,FALSE)","v":{"$error":"#REF!"}},"-",{"$error":"#REF!"},null,{"$f":"VLOOKUP($B186,#REF!,13,FALSE)","v":{"$error":"#REF!"}},{"$f":"VLOOKUP($B186,#REF!,10,FALSE)","v":{"$error":"#REF!"}},{"$f":"VLOOKUP($B186,#REF!,17,FALSE)","v":{"$error":"#REF!"}},{"$f":"IFERROR(VLOOKUP($B186,#REF!,2,FALSE),\"-\")","v":"-"}]
[null,184,{"$f":"VLOOKUP($B187,#REF!,2,FALSE)","v":{"$error":"#REF!"}},{"$f":"VLOOKUP($B187,#REF!,3,FALSE)","v":{"$error":"#REF!"}},{"$f":"VLOOKUP($B187,#REF!,5,FALSE)","v":{"$error":"#REF!"}},{"$f":"VLOOKUP($B187,#REF!,6,FALSE)","v":{"$error":"#REF!"}},"-",{"$error":"#REF!"},null,{"$f":"VLOOKUP($B187,#REF!,13,FALSE)","v":{"$error":"#REF!"}},{"$f":"VLOOKUP($B187,#REF!,10,FALSE)","v":{"$error":"#REF!"}},{"$f":"VLOOKUP($B187,#REF!,17,FALSE)","v":{"$error":"#REF!"}},{"$f":"IFERROR(VLOOKUP($B187,#REF!,2,FALSE),\"-\")","v":"-"}]
[null,185,{"$f":"VLOOKUP($B188,#REF!,2,FALSE)","v":{"$error":"#REF!"}},{"$f":"VLOOKUP($B188,#REF!,3,FALSE)","v":{"$error":"#REF!"}},{"$f":"VLOOKUP($B188,#REF!,5,FALSE)","v":{"$error":"#REF!"}},{"$f":"VLOOKUP($B188,#REF!,6,FALSE)","v":{"$error":"#REF!"}},"-",{"$error":"#REF!"},null,{"$f":"VLOOKUP($B188,#REF!,13,FALSE)","v":{"$error":"#REF!"}},{"$f":"VLOOKUP($B188,#REF!,10,FALSE)","v":{"$error":"#REF!"}},{"$f":"VLOOKUP($B188,#REF!,17,FALSE)","v":{"$error":"#REF!"}},{"$f":"IFERROR(VLOOKUP($B188,#REF!,2,FALSE),\"-\")","v":"-"}]
[null,186,{"$f":"VLOOKUP($B189,#REF!,2,FALSE)","v":{"$error":"#REF!"}},{"$f":"VLOOKUP($B189,#REF!,3,FALSE)","v":{"$error":"#REF!"}},{"$f":"VLOOKUP($B189,#REF!,5,FALSE)","v":{"$error":"#REF!"}},{"$f":"VLOOKUP($B189,#REF!,6,FALSE)","v":{"$error":"#REF!"}},"-",{"$error":"#REF!"},null,{"$f":"VLOOKUP($B189,#REF!,13,FALSE)","v":{"$error":"#REF!"}},{"$f":"VLOOKUP($B189,#REF!,10,FALSE)","v":{"$error":"#REF!"}},{"$f":"VLOOKUP($B189,#REF!,17,FALSE)","v":{"$error":"#REF!"}},{"$f":"IFERROR(VLOOKUP($B189,#REF!,2,FALSE),\"-\")","v":"-"}]
[null,187,{"$f":"VLOOKUP($B190,#REF!,2,FALSE)","v":{"$error":"#REF!"}},{"$f":"VLOOKUP($B190,#REF!,3,FALSE)","v":{"$error":"#REF!"}},{"$f":"VLOOKUP($B190,#REF!,5,FALSE)","v":{"$error":"#REF!"}},{"$f":"VLOOKUP($B190,#REF!,6,FALSE)","v":{"$error":"#REF!"}},"-",{"$error":"#REF!"},null,{"$f":"VLOOKUP($B190,#REF!,13,FALSE)","v":{"$error":"#REF!"}},{"$f":"VLOOKUP($B190,#REF!,10,FALSE)","v":{"$error":"#REF!"}},{"$f":"VLOOKUP($B190,#REF!,17,FALSE)","v":{"$error":"#REF!"}},{"$f":"IFERROR(VLOOKUP($B190,#REF!,2,FALSE),\"-\")","v":"-"}]
[null,188,{"$f":"VLOOKUP($B191,#REF!,2,FALSE)","v":{"$error":"#REF!"}},{"$f":"VLOOKUP($B191,#REF!,3,FALSE)","v":{"$error":"#REF!"}},{"$f":"VLOOKUP($B191,#REF!,5,FALSE)","v":{"$error":"#REF!"}},{"$f":"VLOOKUP($B191,#REF!,6,FALSE)","v":{"$error":"#REF!"}},"-",{"$error":"#REF!"},null,{"$f":"VLOOKUP($B191,#REF!,13,FALSE)","v":{"$error":"#REF!"}},{"$f":"VLOOKUP($B191,#REF!,10,FALSE)","v":{"$error":"#REF!"}},{"$f":"VLOOKUP($B191,#REF!,17,FALSE)","v":{"$error":"#REF!"}},{"$f":"IFERROR(VLOOKUP($B191,#REF!,2,FALSE),\"-\")","v":"-"}]
[null,189,{"$f":"VLOOKUP($B192,#REF!,2,FALSE)","v":{"$error":"#REF!"}},{"$f":"VLOOKUP($B192,#REF!,3,FALSE)","v":{"$error":"#REF!"}},{"$f":"VLOOKUP($B192,#REF!,5,FALSE)","v":{"$error":"#REF!"}},{"$f":"VLOOKUP($B192,#REF!,6,FALSE)","v":{"$error":"#REF!"}},"-",{"$error":"#REF!"},null,{"$f":"VLOOKUP($B192,#REF!,13,FALSE)","v":{"$error":"#REF!"}},{"$f":"VLOOKUP($B192,#REF!,10,FALSE)","v":{"$error":"#REF!"}},{"$f":"VLOOKUP($B192,#REF!,17,FALSE)","v":{"$error":"#REF!"}},{"$f":"IFERROR(VLOOKUP($B192,#REF!,2,FALSE),\"-\")","v":"-"}]
[null,190,{"$f":"VLOOKUP($B193,#REF!,2,FALSE)","v":{"$error":"#REF!"}},{"$f":"VLOOKUP($B193,#REF!,3,FALSE)","v":{"$error":"#REF!"}},{"$f":"VLOOKUP($B193,#REF!,5,FALSE)","v":{"$error":"#REF!"}},{"$f":"VLOOKUP($B193,#REF!,6,FALSE)","v":{"$error":"#REF!"}},"-",{"$error":"#REF!"},null,{"$f":"VLOOKUP($B193,#REF!,13,FALSE)","v":{"$error":"#REF!"}},{"$f":"VLOOKUP($B193,#REF!,10,FALSE)","v":{"$error":"#REF!"}},{"$f":"VLOOKUP($B193,#REF!,17,FALSE)","v":{"$error":"#REF!"}},{"$f":"IFERROR(VLOOKUP($B193,#REF!,2,FALSE),\"-\")","v":"-"}]
[null,191,{"$f":"VLOOKUP($B194,#REF!,2,FALSE)","v":{"$error":"#REF!"}},{"$f":"VLOOKUP($B194,#REF!,3,FALSE)","v":{"$error":"#REF!"}},{"$f":"VLOOKUP($B194,#REF!,5,FALSE)","v":{"$error":"#REF!"}},{"$f":"VLOOKUP($B194,#REF!,6,FALSE)","v":{"$error":"#REF!"}},"-",{"$error":"#REF!"},null,{"$f":"VLOOKUP($B194,#REF!,13,FALSE)","v":{"$error":"#REF!"}},{"$f":"VLOOKUP($B194,#REF!,10,FALSE)","v":{"$error":"#REF!"}},{"$f":"VLOOKUP($B194,#REF!,17,FALSE)","v":{"$error":"#REF!"}},{"$f":"IFERROR(VLOOKUP($B194,#REF!,2,FALSE),\"-\")","v":"-"}]
[null,192,{"$f":"VLOOKUP($B195,#REF!,2,FALSE)","v":{"$error":"#REF!"}},{"$f":"VLOOKUP($B195,#REF!,3,FALSE)","v":{"$error":"#REF!"}},{"$f":"VLOOKUP($B195,#REF!,5,FALSE)","v":{"$error":"#REF!"}},{"$f":"VLOOKUP($B195,#REF!,6,FALSE)","v":{"$error":"#REF!"}},"-",{"$error":"#REF!"},null,{"$f":"VLOOKUP($B195,#REF!,13,FALSE)","v":{"$error":"#REF!"}},{"$f":"VLOOKUP($B195,#REF!,10,FALSE)","v":{"$error":"#REF!"}},{"$f":"VLOOKUP($B195,#REF!,17,FALSE)","v":{"$error":"#REF!"}},{"$f":"IFERROR(VLOOKUP($B195,#REF!,2,FALSE),\"-\")","v":"-"}]
[null,193,{"$f":"VLOOKUP($B196,#REF!,2,FALSE)","v":{"$error":"#REF!"}},{"$f":"VLOOKUP($B196,#REF!,3,FALSE)","v":{"$error":"#REF!"}},{"$f":"VLOOKUP($B196,#REF!,5,FALSE)","v":{"$error":"#REF!"}},{"$f":"VLOOKUP($B196,#REF!,6,FALSE)","v":{"$error":"#REF!"}},{"$f":"IF(M196=1,\"欠席\",IF(M196=9,\"空ﾚｰﾝ\",\"-\"))","v":"-"},{"$error":"#REF!"},null,{"$f":"VLOOKUP($B196,#REF!,13,FALSE)","v":{"$error":"#REF!"}},{"$f":"VLOOKUP($B196,#REF!,10,FALSE)","v":{"$error":"#REF!"}},{"$f":"VLOOKUP($B196,#REF!,17,FALSE)","v":{"$error":"#REF!"}},{"$f":"IFERROR(VLOOKUP($B196,#REF!,2,FALSE),\"-\")","v":"-"}]
[null,194,{"$f":"VLOOKUP($B197,#REF!,2,FALSE)","v":{"$error":"#REF!"}},{"$f":"VLOOKUP($B197,#REF!,3,FALSE)","v":{"$error":"#REF!"}},{"$f":"VLOOKUP($B197,#REF!,5,FALSE)","v":{"$error":"#REF!"}},{"$f":"VLOOKUP($B197,#REF!,6,FALSE)","v":{"$error":"#REF!"}},"-",{"$f":"+C197","v":{"$error":"#REF!"}},null,{"$f":"VLOOKUP($B197,#REF!,13,FALSE)","v":{"$error":"#REF!"}},{"$f":"VLOOKUP($B197,#REF!,10,FALSE)","v":{"$error":"#REF!"}},{"$f":"VLOOKUP($B197,#REF!,17,FALSE)","v":{"$error":"#REF!"}},{"$f":"IFERROR(VLOOKUP($B197,#REF!,2,FALSE),\"-\")","v":"-"}]
[null,195,{"$f":"VLOOKUP($B198,#REF!,2,FALSE)","v":{"$error":"#REF!"}},{"$f":"VLOOKUP($B198,#REF!,3,FALSE)","v":{"$error":"#REF!"}},{"$f":"VLOOKUP($B198,#REF!,5,FALSE)","v":{"$error":"#REF!"}},{"$f":"VLOOKUP($B198,#REF!,6,FALSE)","v":{"$error":"#REF!"}},"-",{"$error":"#REF!"},null,{"$f":"VLOOKUP($B198,#REF!,13,FALSE)","v":{"$error":"#REF!"}},{"$f":"VLOOKUP($B198,#REF!,10,FALSE)","v":{"$error":"#REF!"}},{"$f":"VLOOKUP($B198,#REF!,17,FALSE)","v":{"$error":"#REF!"}},{"$f":"IFERROR(VLOOKUP($B198,#REF!,2,FALSE),\"-\")","v":"-"}]
[null,196,{"$f":"VLOOKUP($B199,#REF!,2,FALSE)","v":{"$error":"#REF!"}},{"$f":"VLOOKUP($B199,#REF!,3,FALSE)","v":{"$error":"#REF!"}},{"$f":"VLOOKUP($B199,#REF!,5,FALSE)","v":{"$error":"#REF!"}},{"$f":"VLOOKUP($B199,#REF!,6,FALSE)","v":{"$error":"#REF!"}},"-",{"$error":"#REF!"},null,{"$f":"VLOOKUP($B199,#REF!,13,FALSE)","v":{"$error":"#REF!"}},{"$f":"VLOOKUP($B199,#REF!,10,FALSE)","v":{"$error":"#REF!"}},{"$f":"VLOOKUP($B199,#REF!,17,FALSE)","v":{"$error":"#REF!"}},{"$f":"IFERROR(VLOOKUP($B199,#REF!,2,FALSE),\"-\")","v":"-"}]
[null,197,{"$f":"VLOOKUP($B200,#REF!,2,FALSE)","v":{"$error":"#REF!"}},{"$f":"VLOOKUP($B200,#REF!,3,FALSE)","v":{"$error":"#REF!"}},{"$f":"VLOOKUP($B200,#REF!,5,FALSE)","v":{"$error":"#REF!"}},{"$f":"VLOOKUP($B200,#REF!,6,FALSE)","v":{"$error":"#REF!"}},"-",{"$error":"#REF!"},null,{"$f":"VLOOKUP($B200,#REF!,13,FALSE)","v":{"$error":"#REF!"}},{"$f":"VLOOKUP($B200,#REF!,10,FALSE)","v":{"$error":"#REF!"}},{"$f":"VLOOKUP($B200,#REF!,17,FALSE)","v":{"$error":"#REF!"}},{"$f":"IFERROR(VLOOKUP($B200,#REF!,2,FALSE),\"-\")","v":"-"}]
[null,198,{"$f":"VLOOKUP($B201,#REF!,2,FALSE)","v":{"$error":"#REF!"}},{"$f":"VLOOKUP($B201,#REF!,3,FALSE)","v":{"$error":"#REF!"}},{"$f":"VLOOKUP($B201,#REF!,5,FALSE)","v":{"$error":"#REF!"}},{"$f":"VLOOKUP($B201,#REF!,6,FALSE)","v":{"$error":"#REF!"}},"-",{"$error":"#REF!"},null,{"$f":"VLOOKUP($B201,#REF!,13,FALSE)","v":{"$error":"#REF!"}},{"$f":"VLOOKUP($B201,#REF!,10,FALSE)","v":{"$error":"#REF!"}},{"$f":"VLOOKUP($B201,#REF!,17,FALSE)","v":{"$error":"#REF!"}},{"$f":"IFERROR(VLOOKUP($B201,#REF!,2,FALSE),\"-\")","v":"-"}]
[null,199,{"$f":"VLOOKUP($B202,#REF!,2,FALSE)","v":{"$error":"#REF!"}},{"$f":"VLOOKUP($B202,#REF!,3,FALSE)","v":{"$error":"#REF!"}},{"$f":"VLOOKUP($B202,#REF!,5,FALSE)","v":{"$error":"#REF!"}},{"$f":"VLOOKUP($B202,#REF!,6,FALSE)","v":{"$error":"#REF!"}},"-",{"$error":"#REF!"},null,{"$f":"VLOOKUP($B202,#REF!,13,FALSE)","v":{"$error":"#REF!"}},{"$f":"VLOOKUP($B202,#REF!,10,FALSE)","v":{"$error":"#REF!"}},{"$f":"VLOOKUP($B202,#REF!,17,FALSE)","v":{"$error":"#REF!"}},{"$f":"IFERROR(VLOOKUP($B202,#REF!,2,FALSE),\"-\")","v":"-"}]
[null,200,{"$f":"VLOOKUP($B203,#REF!,2,FALSE)","v":{"$error":"#REF!"}},{"$f":"VLOOKUP($B203,#REF!,3,FALSE)","v":{"$error":"#REF!"}},{"$f":"VLOOKUP($B203,#REF!,5,FALSE)","v":{"$error":"#REF!"}},{"$f":"VLOOKUP($B203,#REF!,6,FALSE)","v":{"$error":"#REF!"}},"-",{"$error":"#REF!"},null,{"$f":"VLOOKUP($B203,#REF!,13,FALSE)","v":{"$error":"#REF!"}},{"$f":"VLOOKUP($B203,#REF!,10,FALSE)","v":{"$error":"#REF!"}},{"$f":"VLOOKUP($B203,#REF!,17,FALSE)","v":{"$error":"#REF!"}},{"$f":"IFERROR(VLOOKUP($B203,#REF!,2,FALSE),\"-\")","v":"-"}]
[null,201,{"$f":"VLOOKUP($B204,#REF!,2,FALSE)","v":{"$error":"#REF!"}},{"$f":"VLOOKUP($B204,#REF!,3,FALSE)","v":{"$error":"#REF!"}},{"$f":"VLOOKUP($B204,#REF!,5,FALSE)","v":{"$error":"#REF!"}},{"$f":"VLOOKUP($B204,#REF!,6,FALSE)","v":{"$error":"#REF!"}},"-",{"$error":"#REF!"},null,{"$f":"VLOOKUP($B204,#REF!,13,FALSE)","v":{"$error":"#REF!"}},{"$f":"VLOOKUP($B204,#REF!,10,FALSE)","v":{"$error":"#REF!"}},{"$f":"VLOOKUP($B204,#REF!,17,FALSE)","v":{"$error":"#REF!"}},{"$f":"IFERROR(VLOOKUP($B204,#REF!,2,FALSE),\"-\")","v":"-"}]
[null,202,{"$f":"VLOOKUP($B205,#REF!,2,FALSE)","v":{"$error":"#REF!"}},{"$f":"VLOOKUP($B205,#REF!,3,FALSE)","v":{"$error":"#REF!"}},{"$f":"VLOOKUP($B205,#REF!,5,FALSE)","v":{"$error":"#REF!"}},{"$f":"VLOOKUP($B205,#REF!,6,FALSE)","v":{"$error":"#REF!"}},"-",{"$error":"#REF!"},null,{"$f":"VLOOKUP($B205,#REF!,13,FALSE)","v":{"$error":"#REF!"}},{"$f":"VLOOKUP($B205,#REF!,10,FALSE)","v":{"$error":"#REF!"}},{"$f":"VLOOKUP($B205,#REF!,17,FALSE)","v":{"$error":"#REF!"}},{"$f":"IFERROR(VLOOKUP($B205,#REF!,2,FALSE),\"-\")","v":"-"}]
[null,203,{"$f":"VLOOKUP($B206,#REF!,2,FALSE)","v":{"$error":"#REF!"}},{"$f":"VLOOKUP($B206,#REF!,3,FALSE)","v":{"$error":"#REF!"}},{"$f":"VLOOKUP($B206,#REF!,5,FALSE)","v":{"$error":"#REF!"}},{"$f":"VLOOKUP($B206,#REF!,6,FALSE)","v":{"$error":"#REF!"}},"-",{"$error":"#REF!"},null,{"$f":"VLOOKUP($B206,#REF!,13,FALSE)","v":{"$error":"#REF!"}},{"$f":"VLOOKUP($B206,#REF!,10,FALSE)","v":{"$error":"#REF!"}},{"$f":"VLOOKUP($B206,#REF!,17,FALSE)","v":{"$error":"#REF!"}},{"$f":"IFERROR(VLOOKUP($B206,#REF!,2,FALSE),\"-\")","v":"-"}]
[null,204,{"$f":"VLOOKUP($B207,#REF!,2,FALSE)","v":{"$error":"#REF!"}},{"$f":"VLOOKUP($B207,#REF!,3,FALSE)","v":{"$error":"#REF!"}},{"$f":"VLOOKUP($B207,#REF!,5,FALSE)","v":{"$error":"#REF!"}},{"$f":"VLOOKUP($B207,#REF!,6,FALSE)","v":{"$error":"#REF!"}},"-",{"$error":"#REF!"},null,{"$f":"VLOOKUP($B207,#REF!,13,FALSE)","v":{"$error":"#REF!"}},{"$f":"VLOOKUP($B207,#REF!,10,FALSE)","v":{"$error":"#REF!"}},{"$f":"VLOOKUP($B207,#REF!,17,FALSE)","v":{"$error":"#REF!"}},{"$f":"IFERROR(VLOOKUP($B207,#REF!,2,FALSE),\"-\")","v":"-"}]
[null,205,{"$f":"VLOOKUP($B208,#REF!,2,FALSE)","v":{"$error":"#REF!"}},{"$f":"VLOOKUP($B208,#REF!,3,FALSE)","v":{"$error":"#REF!"}},{"$f":"VLOOKUP($B208,#REF!,5,FALSE)","v":{"$error":"#REF!"}},{"$f":"VLOOKUP($B208,#REF!,6,FALSE)","v":{"$error":"#REF!"}},"-",{"$error":"#REF!"},null,{"$f":"VLOOKUP($B208,#REF!,13,FALSE)","v":{"$error":"#REF!"}},{"$f":"VLOOKUP($B208,#REF!,10,FALSE)","v":{"$error":"#REF!"}},{"$f":"VLOOKUP($B208,#REF!,17,FALSE)","v":{"$error":"#REF!"}},{"$f":"IFERROR(VLOOKUP($B208,#REF!,2,FALSE),\"-\")","v":"-"}]
[null,206,{"$f":"VLOOKUP($B209,#REF!,2,FALSE)","v":{"$error":"#REF!"}},{"$f":"VLOOKUP($B209,#REF!,3,FALSE)","v":{"$error":"#REF!"}},{"$f":"VLOOKUP($B209,#REF!,5,FALSE)","v":{"$error":"#REF!"}},{"$f":"VLOOKUP($B209,#REF!,6,FALSE)","v":{"$error":"#REF!"}},"-",{"$error":"#REF!"},null,{"$f":"VLOOKUP($B209,#REF!,13,FALSE)","v":{"$error":"#REF!"}},{"$f":"VLOOKUP($B209,#REF!,10,FALSE)","v":{"$error":"#REF!"}},{"$f":"VLOOKUP($B209,#REF!,17,FALSE)","v":{"$error":"#REF!"}},{"$f":"IFERROR(VLOOKUP($B209,#REF!,2,FALSE),\"-\")","v":"-"}]
[null,207,{"$f":"VLOOKUP($B210,#REF!,2,FALSE)","v":{"$error":"#REF!"}},{"$f":"VLOOKUP($B210,#REF!,3,FALSE)","v":{"$error":"#REF!"}},{"$f":"VLOOKUP($B210,#REF!,5,FALSE)","v":{"$error":"#REF!"}},{"$f":"VLOOKUP($B210,#REF!,6,FALSE)","v":{"$error":"#REF!"}},"-",{"$error":"#REF!"},null,{"$f":"VLOOKUP($B210,#REF!,13,FALSE)","v":{"$error":"#REF!"}},{"$f":"VLOOKUP($B210,#REF!,10,FALSE)","v":{"$error":"#REF!"}},{"$f":"VLOOKUP($B210,#REF!,17,FALSE)","v":{"$error":"#REF!"}},{"$f":"IFERROR(VLOOKUP($B210,#REF!,2,FALSE),\"-\")","v":"-"}]
[null,208,{"$f":"VLOOKUP($B211,#REF!,2,FALSE)","v":{"$error":"#REF!"}},{"$f":"VLOOKUP($B211,#REF!,3,FALSE)","v":{"$error":"#REF!"}},{"$f":"VLOOKUP($B211,#REF!,5,FALSE)","v":{"$error":"#REF!"}},{"$f":"VLOOKUP($B211,#REF!,6,FALSE)","v":{"$error":"#REF!"}},"-",{"$error":"#REF!"},null,{"$f":"VLOOKUP($B211,#REF!,13,FALSE)","v":{"$error":"#REF!"}},{"$f":"VLOOKUP($B211,#REF!,10,FALSE)","v":{"$error":"#REF!"}},{"$f":"VLOOKUP($B211,#REF!,17,FALSE)","v":{"$error":"#REF!"}},{"$f":"IFERROR(VLOOKUP($B211,#REF!,2,FALSE),\"-\")","v":"-"}]
[null,209,{"$f":"VLOOKUP($B212,#REF!,2,FALSE)","v":{"$error":"#REF!"}},{"$f":"VLOOKUP($B212,#REF!,3,FALSE)","v":{"$error":"#REF!"}},{"$f":"VLOOKUP($B212,#REF!,5,FALSE)","v":{"$error":"#REF!"}},{"$f":"VLOOKUP($B212,#REF!,6,FALSE)","v":{"$error":"#REF!"}},"-",{"$error":"#REF!"},null,{"$f":"VLOOKUP($B212,#REF!,13,FALSE)","v":{"$error":"#REF!"}},{"$f":"VLOOKUP($B212,#REF!,10,FALSE)","v":{"$error":"#REF!"}},{"$f":"VLOOKUP($B212,#REF!,17,FALSE)","v":{"$error":"#REF!"}},{"$f":"IFERROR(VLOOKUP($B212,#REF!,2,FALSE),\"-\")","v":"-"}]
[null,210,{"$f":"VLOOKUP($B213,#REF!,2,FALSE)","v":{"$error":"#REF!"}},{"$f":"VLOOKUP($B213,#REF!,3,FALSE)","v":{"$error":"#REF!"}},{"$f":"VLOOKUP($B213,#REF!,5,FALSE)","v":{"$error":"#REF!"}},{"$f":"VLOOKUP($B213,#REF!,6,FALSE)","v":{"$error":"#REF!"}},"-",{"$error":"#REF!"},null,{"$f":"VLOOKUP($B213,#REF!,13,FALSE)","v":{"$error":"#REF!"}},{"$f":"VLOOKUP($B213,#REF!,10,FALSE)","v":{"$error":"#REF!"}},{"$f":"VLOOKUP($B213,#REF!,17,FALSE)","v":{"$error":"#REF!"}},{"$f":"IFERROR(VLOOKUP($B213,#REF!,2,FALSE),\"-\")","v":"-"}]
[null,211,{"$f":"VLOOKUP($B214,#REF!,2,FALSE)","v":{"$error":"#REF!"}},{"$f":"VLOOKUP($B214,#REF!,3,FALSE)","v":{"$error":"#REF!"}},{"$f":"VLOOKUP($B214,#REF!,5,FALSE)","v":{"$error":"#REF!"}},{"$f":"VLOOKUP($B214,#REF!,6,FALSE)","v":{"$error":"#REF!"}},"-",{"$error":"#REF!"},null,{"$f":"VLOOKUP($B214,#REF!,13,FALSE)","v":{"$error":"#REF!"}},{"$f":"VLOOKUP($B214,#REF!,10,FALSE)","v":{"$error":"#REF!"}},{"$f":"VLOOKUP($B214,#REF!,17,FALSE)","v":{"$error":"#REF!"}},{"$f":"IFERROR(VLOOKUP($B214,#REF!,2,FALSE),\"-\")","v":"-"}]
[null,212,{"$f":"VLOOKUP($B215,#REF!,2,FALSE)","v":{"$error":"#REF!"}},{"$f":"VLOOKUP($B215,#REF!,3,FALSE)","v":{"$error":"#REF!"}},{"$f":"VLOOKUP($B215,#REF!,5,FALSE)","v":{"$error":"#REF!"}},{"$f":"VLOOKUP($B215,#REF!,6,FALSE)","v":{"$error":"#REF!"}},"-",{"$error":"#REF!"},null,{"$f":"VLOOKUP($B215,#REF!,13,FALSE)","v":{"$error":"#REF!"}},{"$f":"VLOOKUP($B215,#REF!,10,FALSE)","v":{"$error":"#REF!"}},{"$f":"VLOOKUP($B215,#REF!,17,FALSE)","v":{"$error":"#REF!"}},{"$f":"IFERROR(VLOOKUP($B215,#REF!,2,FALSE),\"-\")","v":"-"}]
[null,213,{"$f":"VLOOKUP($B216,#REF!,2,FALSE)","v":{"$error":"#REF!"}},{"$f":"VLOOKUP($B216,#REF!,3,FALSE)","v":{"$error":"#REF!"}},{"$f":"VLOOKUP($B216,#REF!,5,FALSE)","v":{"$error":"#REF!"}},{"$f":"VLOOKUP($B216,#REF!,6,FALSE)","v":{"$error":"#REF!"}},"-",{"$error":"#REF!"},null,{"$f":"VLOOKUP($B216,#REF!,13,FALSE)","v":{"$error":"#REF!"}},{"$f":"VLOOKUP($B216,#REF!,10,FALSE)","v":{"$error":"#REF!"}},{"$f":"VLOOKUP($B216,#REF!,17,FALSE)","v":{"$error":"#REF!"}},{"$f":"IFERROR(VLOOKUP($B216,#REF!,2,FALSE),\"-\")","v":"-"}]
[null,214,{"$f":"VLOOKUP($B217,#REF!,2,FALSE)","v":{"$error":"#REF!"}},{"$f":"VLOOKUP($B217,#REF!,3,FALSE)","v":{"$error":"#REF!"}},{"$f":"VLOOKUP($B217,#REF!,5,FALSE)","v":{"$error":"#REF!"}},{"$f":"VLOOKUP($B217,#REF!,6,FALSE)","v":{"$error":"#REF!"}},"-",{"$error":"#REF!"},null,{"$f":"VLOOKUP($B217,#REF!,13,FALSE)","v":{"$error":"#REF!"}},{"$f":"VLOOKUP($B217,#REF!,10,FALSE)","v":{"$error":"#REF!"}},{"$f":"VLOOKUP($B217,#REF!,17,FALSE)","v":{"$error":"#REF!"}},{"$f":"IFERROR(VLOOKUP($B217,#REF!,2,FALSE),\"-\")","v":"-"}]
[null,215,{"$f":"VLOOKUP($B218,#REF!,2,FALSE)","v":{"$error":"#REF!"}},{"$f":"VLOOKUP($B218,#REF!,3,FALSE)","v":{"$error":"#REF!"}},{"$f":"VLOOKUP($B218,#REF!,5,FALSE)","v":{"$error":"#REF!"}},{"$f":"VLOOKUP($B218,#REF!,6,FALSE)","v":{"$error":"#REF!"}},"-",{"$error":"#REF!"},null,{"$f":"VLOOKUP($B218,#REF!,13,FALSE)","v":{"$error":"#REF!"}},{"$f":"VLOOKUP($B218,#REF!,10,FALSE)","v":{"$error":"#REF!"}},{"$f":"VLOOKUP($B218,#REF!,17,FALSE)","v":{"$error":"#REF!"}},{"$f":"IFERROR(VLOOKUP($B218,#REF!,2,FALSE),\"-\")","v":"-"}]
[null,216,{"$f":"VLOOKUP($B219,#REF!,2,FALSE)","v":{"$error":"#REF!"}},{"$f":"VLOOKUP($B219,#REF!,3,FALSE)","v":{"$error":"#REF!"}},{"$f":"VLOOKUP($B219,#REF!,5,FALSE)","v":{"$error":"#REF!"}},{"$f":"VLOOKUP($B219,#REF!,6,FALSE)","v":{"$error":"#REF!"}},"-",{"$error":"#REF!"},null,{"$f":"VLOOKUP($B219,#REF!,13,FALSE)","v":{"$error":"#REF!"}},{"$f":"VLOOKUP($B219,#REF!,10,FALSE)","v":{"$error":"#REF!"}},{"$f":"VLOOKUP($B219,#REF!,17,FALSE)","v":{"$error":"#REF!"}},{"$f":"IFERROR(VLOOKUP($B219,#REF!,2,FALSE),\"-\")","v":"-"}]
[null,217,{"$f":"VLOOKUP($B220,#REF!,2,FALSE)","v":{"$error":"#REF!"}},{"$f":"VLOOKUP($B220,#REF!,3,FALSE)","v":{"$error":"#REF!"}},{"$f":"VLOOKUP($B220,#REF!,5,FALSE)","v":{"$error":"#REF!"}},{"$f":"VLOOKUP($B220,#REF!,6,FALSE)","v":{"$error":"#REF!"}},"-",{"$error":"#REF!"},null,{"$f":"VLOOKUP($B220,#REF!,13,FALSE)","v":{"$error":"#REF!"}},{"$f":"VLOOKUP($B220,#REF!,10,FALSE)","v":{"$error":"#REF!"}},{"$f":"VLOOKUP($B220,#REF!,17,FALSE)","v":{"$error":"#REF!"}},{"$f":"IFERROR(VLOOKUP($B220,#REF!,2,FALSE),\"-\")","v":"-"}]
[null,218,{"$f":"VLOOKUP($B221,#REF!,2,FALSE)","v":{"$error":"#REF!"}},{"$f":"VLOOKUP($B221,#REF!,3,FALSE)","v":{"$error":"#REF!"}},{"$f":"VLOOKUP($B221,#REF!,5,FALSE)","v":{"$error":"#REF!"}},{"$f":"VLOOKUP($B221,#REF!,6,FALSE)","v":{"$error":"#REF!"}},"-",{"$error":"#REF!"},null,{"$f":"VLOOKUP($B221,#REF!,13,FALSE)","v":{"$error":"#REF!"}},{"$f":"VLOOKUP($B221,#REF!,10,FALSE)","v":{"$error":"#REF!"}},{"$f":"VLOOKUP($B221,#REF!,17,FALSE)","v":{"$error":"#REF!"}},{"$f":"IFERROR(VLOOKUP($B221,#REF!,2,FALSE),\"-\")","v":"-"}]
[null,219,{"$f":"VLOOKUP($B222,#REF!,2,FALSE)","v":{"$error":"#REF!"}},{"$f":"VLOOKUP($B222,#REF!,3,FALSE)","v":{"$error":"#REF!"}},{"$f":"VLOOKUP($B222,#REF!,5,FALSE)","v":{"$error":"#REF!"}},{"$f":"VLOOKUP($B222,#REF!,6,FALSE)","v":{"$error":"#REF!"}},"-",{"$error":"#REF!"},null,{"$f":"VLOOKUP($B222,#REF!,13,FALSE)","v":{"$error":"#REF!"}},{"$f":"VLOOKUP($B222,#REF!,10,FALSE)","v":{"$error":"#REF!"}},{"$f":"VLOOKUP($B222,#REF!,17,FALSE)","v":{"$error":"#REF!"}},{"$f":"IFERROR(VLOOKUP($B222,#REF!,2,FALSE),\"-\")","v":"-"}]
[null,220,{"$f":"VLOOKUP($B223,#REF!,2,FALSE)","v":{"$error":"#REF!"}},{"$f":"VLOOKUP($B223,#REF!,3,FALSE)","v":{"$error":"#REF!"}},{"$f":"VLOOKUP($B223,#REF!,5,FALSE)","v":{"$error":"#REF!"}},{"$f":"VLOOKUP($B223,#REF!,6,FALSE)","v":{"$error":"#REF!"}},"-",{"$error":"#REF!"},null,{"$f":"VLOOKUP($B223,#REF!,13,FALSE)","v":{"$error":"#REF!"}},{"$f":"VLOOKUP($B223,#REF!,10,FALSE)","v":{"$error":"#REF!"}},{"$f":"VLOOKUP($B223,#REF!,17,FALSE)","v":{"$error":"#REF!"}},{"$f":"IFERROR(VLOOKUP($B223,#REF!,2,FALSE),\"-\")","v":"-"}]
[null,221,{"$f":"VLOOKUP($B224,#REF!,2,FALSE)","v":{"$error":"#REF!"}},{"$f":"VLOOKUP($B224,#REF!,3,FALSE)","v":{"$error":"#REF!"}},{"$f":"VLOOKUP($B224,#REF!,5,FALSE)","v":{"$error":"#REF!"}},{"$f":"VLOOKUP($B224,#REF!,6,FALSE)","v":{"$error":"#REF!"}},"-",{"$error":"#REF!"},null,{"$f":"VLOOKUP($B224,#REF!,13,FALSE)","v":{"$error":"#REF!"}},{"$f":"VLOOKUP($B224,#REF!,10,FALSE)","v":{"$error":"#REF!"}},{"$f":"VLOOKUP($B224,#REF!,17,FALSE)","v":{"$error":"#REF!"}},{"$f":"IFERROR(VLOOKUP($B224,#REF!,2,FALSE),\"-\")","v":"-"}]
[null,222,{"$f":"VLOOKUP($B225,#REF!,2,FALSE)","v":{"$error":"#REF!"}},{"$f":"VLOOKUP($B225,#REF!,3,FALSE)","v":{"$error":"#REF!"}},{"$f":"VLOOKUP($B225,#REF!,5,FALSE)","v":{"$error":"#REF!"}},{"$f":"VLOOKUP($B225,#REF!,6,FALSE)","v":{"$error":"#REF!"}},"-",{"$error":"#REF!"},null,{"$f":"VLOOKUP($B225,#REF!,13,FALSE)","v":{"$error":"#REF!"}},{"$f":"VLOOKUP($B225,#REF!,10,FALSE)","v":{"$error":"#REF!"}},{"$f":"VLOOKUP($B225,#REF!,17,FALSE)","v":{"$error":"#REF!"}},{"$f":"IFERROR(VLOOKUP($B225,#REF!,2,FALSE),\"-\")","v":"-"}]
[null,223,{"$f":"VLOOKUP($B226,#REF!,2,FALSE)","v":{"$error":"#REF!"}},{"$f":"VLOOKUP($B226,#REF!,3,FALSE)","v":{"$error":"#REF!"}},{"$f":"VLOOKUP($B226,#REF!,5,FALSE)","v":{"$error":"#REF!"}},{"$f":"VLOOKUP($B226,#REF!,6,FALSE)","v":{"$error":"#REF!"}},"-",{"$error":"#REF!"},null,{"$f":"VLOOKUP($B226,#REF!,13,FALSE)","v":{"$error":"#REF!"}},{"$f":"VLOOKUP($B226,#REF!,10,FALSE)","v":{"$error":"#REF!"}},{"$f":"VLOOKUP($B226,#REF!,17,FALSE)","v":{"$error":"#REF!"}},{"$f":"IFERROR(VLOOKUP($B226,#REF!,2,FALSE),\"-\")","v":"-"}]
[null,224,{"$f":"VLOOKUP($B227,#REF!,2,FALSE)","v":{"$error":"#REF!"}},{"$f":"VLOOKUP($B227,#REF!,3,FALSE)","v":{"$error":"#REF!"}},{"$f":"VLOOKUP($B227,#REF!,5,FALSE)","v":{"$error":"#REF!"}},{"$f":"VLOOKUP($B227,#REF!,6,FALSE)","v":{"$error":"#REF!"}},"-",{"$error":"#REF!"},null,{"$f":"VLOOKUP($B227,#REF!,13,FALSE)","v":{"$error":"#REF!"}},{"$f":"VLOOKUP($B227,#REF!,10,FALSE)","v":{"$error":"#REF!"}},{"$f":"VLOOKUP($B227,#REF!,17,FALSE)","v":{"$error":"#REF!"}},{"$f":"IFERROR(VLOOKUP($B227,#REF!,2,FALSE),\"-\")","v":"-"}]
[null,225,{"$f":"VLOOKUP($B228,#REF!,2,FALSE)","v":{"$error":"#REF!"}},{"$f":"VLOOKUP($B228,#REF!,3,FALSE)","v":{"$error":"#REF!"}},{"$f":"VLOOKUP($B228,#REF!,5,FALSE)","v":{"$error":"#REF!"}},{"$f":"VLOOKUP($B228,#REF!,6,FALSE)","v":{"$error":"#REF!"}},"-",{"$error":"#REF!"},null,{"$f":"VLOOKUP($B228,#REF!,13,FALSE)","v":{"$error":"#REF!"}},{"$f":"VLOOKUP($B228,#REF!,10,FALSE)","v":{"$error":"#REF!"}},{"$f":"VLOOKUP($B228,#REF!,17,FALSE)","v":{"$error":"#REF!"}},{"$f":"IFERROR(VLOOKUP($B228,#REF!,2,FALSE),\"-\")","v":"-"}]
[null,226,{"$f":"VLOOKUP($B229,#REF!,2,FALSE)","v":{"$error":"#REF!"}},{"$f":"VLOOKUP($B229,#REF!,3,FALSE)","v":{"$error":"#REF!"}},{"$f":"VLOOKUP($B229,#REF!,5,FALSE)","v":{"$error":"#REF!"}},{"$f":"VLOOKUP($B229,#REF!,6,FALSE)","v":{"$error":"#REF!"}},"-",{"$error":"#REF!"},null,{"$f":"VLOOKUP($B229,#REF!,13,FALSE)","v":{"$error":"#REF!"}},{"$f":"VLOOKUP($B229,#REF!,10,FALSE)","v":{"$error":"#REF!"}},{"$f":"VLOOKUP($B229,#REF!,17,FALSE)","v":{"$error":"#REF!"}},{"$f":"IFERROR(VLOOKUP($B229,#REF!,2,FALSE),\"-\")","v":"-"}]
[null,227,{"$f":"VLOOKUP($B230,#REF!,2,FALSE)","v":{"$error":"#REF!"}},{"$f":"VLOOKUP($B230,#REF!,3,FALSE)","v":{"$error":"#REF!"}},{"$f":"VLOOKUP($B230,#REF!,5,FALSE)","v":{"$error":"#REF!"}},{"$f":"VLOOKUP($B230,#REF!,6,FALSE)","v":{"$error":"#REF!"}},"-",{"$error":"#REF!"},null,{"$f":"VLOOKUP($B230,#REF!,13,FALSE)","v":{"$error":"#REF!"}},{"$f":"VLOOKUP($B230,#REF!,10,FALSE)","v":{"$error":"#REF!"}},{"$f":"VLOOKUP($B230,#REF!,17,FALSE)","v":{"$error":"#REF!"}},{"$f":"IFERROR(VLOOKUP($B230,#REF!,2,FALSE),\"-\")","v":"-"}]
[null,228,{"$f":"VLOOKUP($B231,#REF!,2,FALSE)","v":{"$error":"#REF!"}},{"$f":"VLOOKUP($B231,#REF!,3,FALSE)","v":{"$error":"#REF!"}},{"$f":"VLOOKUP($B231,#REF!,5,FALSE)","v":{"$error":"#REF!"}},{"$f":"VLOOKUP($B231,#REF!,6,FALSE)","v":{"$error":"#REF!"}},"-",{"$error":"#REF!"},null,{"$f":"VLOOKUP($B231,#REF!,13,FALSE)","v":{"$error":"#REF!"}},{"$f":"VLOOKUP($B231,#REF!,10,FALSE)","v":{"$error":"#REF!"}},{"$f":"VLOOKUP($B231,#REF!,17,FALSE)","v":{"$error":"#REF!"}},{"$f":"IFERROR(VLOOKUP($B231,#REF!,2,FALSE),\"-\")","v":"-"}]
[null,229,{"$f":"VLOOKUP($B232,#REF!,2,FALSE)","v":{"$error":"#REF!"}},{"$f":"VLOOKUP($B232,#REF!,3,FALSE)","v":{"$error":"#REF!"}},{"$f":"VLOOKUP($B232,#REF!,5,FALSE)","v":{"$error":"#REF!"}},{"$f":"VLOOKUP($B232,#REF!,6,FALSE)","v":{"$error":"#REF!"}},"-",{"$error":"#REF!"},null,{"$f":"VLOOKUP($B232,#REF!,13,FALSE)","v":{"$error":"#REF!"}},{"$f":"VLOOKUP($B232,#REF!,10,FALSE)","v":{"$error":"#REF!"}},{"$f":"VLOOKUP($B232,#REF!,17,FALSE)","v":{"$error":"#REF!"}},{"$f":"IFERROR(VLOOKUP($B232,#REF!,2,FALSE),\"-\")","v":"-"}]
[null,230,{"$f":"VLOOKUP($B233,#REF!,2,FALSE)","v":{"$error":"#REF!"}},{"$f":"VLOOKUP($B233,#REF!,3,FALSE)","v":{"$error":"#REF!"}},{"$f":"VLOOKUP($B233,#REF!,5,FALSE)","v":{"$error":"#REF!"}},{"$f":"VLOOKUP($B233,#REF!,6,FALSE)","v":{"$error":"#REF!"}},"-",{"$error":"#REF!"},null,{"$f":"VLOOKUP($B233,#REF!,13,FALSE)","v":{"$error":"#REF!"}},{"$f":"VLOOKUP($B233,#REF!,10,FALSE)","v":{"$error":"#REF!"}},{"$f":"VLOOKUP($B233,#REF!,17,FALSE)","v":{"$error":"#REF!"}},{"$f":"IFERROR(VLOOKUP($B233,#REF!,2,FALSE),\"-\")","v":"-"}]
[null,231,{"$f":"VLOOKUP($B234,#REF!,2,FALSE)","v":{"$error":"#REF!"}},{"$f":"VLOOKUP($B234,#REF!,3,FALSE)","v":{"$error":"#REF!"}},{"$f":"VLOOKUP($B234,#REF!,5,FALSE)","v":{"$error":"#REF!"}},{"$f":"VLOOKUP($B234,#REF!,6,FALSE)","v":{"$error":"#REF!"}},"-",{"$error":"#REF!"},null,{"$f":"VLOOKUP($B234,#REF!,13,FALSE)","v":{"$error":"#REF!"}},{"$f":"VLOOKUP($B234,#REF!,10,FALSE)","v":{"$error":"#REF!"}},{"$f":"VLOOKUP($B234,#REF!,17,FALSE)","v":{"$error":"#REF!"}},{"$f":"IFERROR(VLOOKUP($B234,#REF!,2,FALSE),\"-\")","v":"-"}]
[null,232,{"$f":"VLOOKUP($B235,#REF!,2,FALSE)","v":{"$error":"#REF!"}},{"$f":"VLOOKUP($B235,#REF!,3,FALSE)","v":{"$error":"#REF!"}},{"$f":"VLOOKUP($B235,#REF!,5,FALSE)","v":{"$error":"#REF!"}},{"$f":"VLOOKUP($B235,#REF!,6,FALSE)","v":{"$error":"#REF!"}},"-",{"$error":"#REF!"},null,{"$f":"VLOOKUP($B235,#REF!,13,FALSE)","v":{"$error":"#REF!"}},{"$f":"VLOOKUP($B235,#REF!,10,FALSE)","v":{"$error":"#REF!"}},{"$f":"VLOOKUP($B235,#REF!,17,FALSE)","v":{"$error":"#REF!"}},{"$f":"IFERROR(VLOOKUP($B235,#REF!,2,FALSE),\"-\")","v":"-"}]
[null,233,{"$f":"VLOOKUP($B236,#REF!,2,FALSE)","v":{"$error":"#REF!"}},{"$f":"VLOOKUP($B236,#REF!,3,FALSE)","v":{"$error":"#REF!"}},{"$f":"VLOOKUP($B236,#REF!,5,FALSE)","v":{"$error":"#REF!"}},{"$f":"VLOOKUP($B236,#REF!,6,FALSE)","v":{"$error":"#REF!"}},"-",{"$error":"#REF!"},null,{"$f":"VLOOKUP($B236,#REF!,13,FALSE)","v":{"$error":"#REF!"}},{"$f":"VLOOKUP($B236,#REF!,10,FALSE)","v":{"$error":"#REF!"}},{"$f":"VLOOKUP($B236,#REF!,17,FALSE)","v":{"$error":"#REF!"}},{"$f":"IFERROR(VLOOKUP($B236,#REF!,2,FALSE),\"-\")","v":"-"}]
[null,234,{"$f":"VLOOKUP($B237,#REF!,2,FALSE)","v":{"$error":"#REF!"}},{"$f":"VLOOKUP($B237,#REF!,3,FALSE)","v":{"$error":"#REF!"}},{"$f":"VLOOKUP($B237,#REF!,5,FALSE)","v":{"$error":"#REF!"}},{"$f":"VLOOKUP($B237,#REF!,6,FALSE)","v":{"$error":"#REF!"}},"-",{"$error":"#REF!"},null,{"$f":"VLOOKUP($B237,#REF!,13,FALSE)","v":{"$error":"#REF!"}},{"$f":"VLOOKUP($B237,#REF!,10,FALSE)","v":{"$error":"#REF!"}},{"$f":"VLOOKUP($B237,#REF!,17,FALSE)","v":{"$error":"#REF!"}},{"$f":"IFERROR(VLOOKUP($B237,#REF!,2,FALSE),\"-\")","v":"-"}]
[null,235,{"$f":"VLOOKUP($B238,#REF!,2,FALSE)","v":{"$error":"#REF!"}},{"$f":"VLOOKUP($B238,#REF!,3,FALSE)","v":{"$error":"#REF!"}},{"$f":"VLOOKUP($B238,#REF!,5,FALSE)","v":{"$error":"#REF!"}},{"$f":"VLOOKUP($B238,#REF!,6,FALSE)","v":{"$error":"#REF!"}},"-",{"$error":"#REF!"},null,{"$f":"VLOOKUP($B238,#REF!,13,FALSE)","v":{"$error":"#REF!"}},{"$f":"VLOOKUP($B238,#REF!,10,FALSE)","v":{"$error":"#REF!"}},{"$f":"VLOOKUP($B238,#REF!,17,FALSE)","v":{"$error":"#REF!"}},{"$f":"IFERROR(VLOOKUP($B238,#REF!,2,FALSE),\"-\")","v":"-"}]
[null,236,{"$f":"VLOOKUP($B239,#REF!,2,FALSE)","v":{"$error":"#REF!"}},{"$f":"VLOOKUP($B239,#REF!,3,FALSE)","v":{"$error":"#REF!"}},{"$f":"VLOOKUP($B239,#REF!,5,FALSE)","v":{"$error":"#REF!"}},{"$f":"VLOOKUP($B239,#REF!,6,FALSE)","v":{"$error":"#REF!"}},"-",{"$error":"#REF!"},null,{"$f":"VLOOKUP($B239,#REF!,13,FALSE)","v":{"$error":"#REF!"}},{"$f":"VLOOKUP($B239,#REF!,10,FALSE)","v":{"$error":"#REF!"}},{"$f":"VLOOKUP($B239,#REF!,17,FALSE)","v":{"$error":"#REF!"}},{"$f":"IFERROR(VLOOKUP($B239,#REF!,2,FALSE),\"-\")","v":"-"}]
[null,237,{"$f":"VLOOKUP($B240,#REF!,2,FALSE)","v":{"$error":"#REF!"}},{"$f":"VLOOKUP($B240,#REF!,3,FALSE)","v":{"$error":"#REF!"}},{"$f":"VLOOKUP($B240,#REF!,5,FALSE)","v":{"$error":"#REF!"}},{"$f":"VLOOKUP($B240,#REF!,6,FALSE)","v":{"$error":"#REF!"}},"-",{"$error":"#REF!"},null,{"$f":"VLOOKUP($B240,#REF!,13,FALSE)","v":{"$error":"#REF!"}},{"$f":"VLOOKUP($B240,#REF!,10,FALSE)","v":{"$error":"#REF!"}},{"$f":"VLOOKUP($B240,#REF!,17,FALSE)","v":{"$error":"#REF!"}},{"$f":"IFERROR(VLOOKUP($B240,#REF!,2,FALSE),\"-\")","v":"-"}]
[null,238,{"$f":"VLOOKUP($B241,#REF!,2,FALSE)","v":{"$error":"#REF!"}},{"$f":"VLOOKUP($B241,#REF!,3,FALSE)","v":{"$error":"#REF!"}},{"$f":"VLOOKUP($B241,#REF!,5,FALSE)","v":{"$error":"#REF!"}},{"$f":"VLOOKUP($B241,#REF!,6,FALSE)","v":{"$error":"#REF!"}},"-",{"$error":"#REF!"},null,{"$f":"VLOOKUP($B241,#REF!,13,FALSE)","v":{"$error":"#REF!"}},{"$f":"VLOOKUP($B241,#REF!,10,FALSE)","v":{"$error":"#REF!"}},{"$f":"VLOOKUP($B241,#REF!,17,FALSE)","v":{"$error":"#REF!"}},{"$f":"IFERROR(VLOOKUP($B241,#REF!,2,FALSE),\"-\")","v":"-"}]
[null,239,{"$f":"VLOOKUP($B242,#REF!,2,FALSE)","v":{"$error":"#REF!"}},{"$f":"VLOOKUP($B242,#REF!,3,FALSE)","v":{"$error":"#REF!"}},{"$f":"VLOOKUP($B242,#REF!,5,FALSE)","v":{"$error":"#REF!"}},{"$f":"VLOOKUP($B242,#REF!,6,FALSE)","v":{"$error":"#REF!"}},"-",{"$error":"#REF!"},null,{"$f":"VLOOKUP($B242,#REF!,13,FALSE)","v":{"$error":"#REF!"}},{"$f":"VLOOKUP($B242,#REF!,10,FALSE)","v":{"$error":"#REF!"}},{"$f":"VLOOKUP($B242,#REF!,17,FALSE)","v":{"$error":"#REF!"}},{"$f":"IFERROR(VLOOKUP($B242,#REF!,2,FALSE),\"-\")","v":"-"}]
[null,240,{"$f":"VLOOKUP($B243,#REF!,2,FALSE)","v":{"$error":"#REF!"}},{"$f":"VLOOKUP($B243,#REF!,3,FALSE)","v":{"$error":"#REF!"}},{"$f":"VLOOKUP($B243,#REF!,5,FALSE)","v":{"$error":"#REF!"}},{"$f":"VLOOKUP($B243,#REF!,6,FALSE)","v":{"$error":"#REF!"}},"-",{"$error":"#REF!"},null,{"$f":"VLOOKUP($B243,#REF!,13,FALSE)","v":{"$error":"#REF!"}},{"$f":"VLOOKUP($B243,#REF!,10,FALSE)","v":{"$error":"#REF!"}},{"$f":"VLOOKUP($B243,#REF!,17,FALSE)","v":{"$error":"#REF!"}},{"$f":"IFERROR(VLOOKUP($B243,#REF!,2,FALSE),\"-\")","v":"-"}]
[null,241,{"$f":"VLOOKUP($B244,#REF!,2,FALSE)","v":{"$error":"#REF!"}},{"$f":"VLOOKUP($B244,#REF!,3,FALSE)","v":{"$error":"#REF!"}},{"$f":"VLOOKUP($B244,#REF!,5,FALSE)","v":{"$error":"#REF!"}},{"$f":"VLOOKUP($B244,#REF!,6,FALSE)","v":{"$error":"#REF!"}},"-",{"$error":"#REF!"},null,{"$f":"VLOOKUP($B244,#REF!,13,FALSE)","v":{"$error":"#REF!"}},{"$f":"VLOOKUP($B244,#REF!,10,FALSE)","v":{"$error":"#REF!"}},{"$f":"VLOOKUP($B244,#REF!,17,FALSE)","v":{"$error":"#REF!"}},{"$f":"IFERROR(VLOOKUP($B244,#REF!,2,FALSE),\"-\")","v":"-"}]
[null,242,{"$f":"VLOOKUP($B245,#REF!,2,FALSE)","v":{"$error":"#REF!"}},{"$f":"VLOOKUP($B245,#REF!,3,FALSE)","v":{"$error":"#REF!"}},{"$f":"VLOOKUP($B245,#REF!,5,FALSE)","v":{"$error":"#REF!"}},{"$f":"VLOOKUP($B245,#REF!,6,FALSE)","v":{"$error":"#REF!"}},"-",{"$error":"#REF!"},null,{"$f":"VLOOKUP($B245,#REF!,13,FALSE)","v":{"$error":"#REF!"}},{"$f":"VLOOKUP($B245,#REF!,10,FALSE)","v":{"$error":"#REF!"}},{"$f":"VLOOKUP($B245,#REF!,17,FALSE)","v":{"$error":"#REF!"}},{"$f":"IFERROR(VLOOKUP($B245,#REF!,2,FALSE),\"-\")","v":"-"}]
[null,243,{"$f":"VLOOKUP($B246,#REF!,2,FALSE)","v":{"$error":"#REF!"}},{"$f":"VLOOKUP($B246,#REF!,3,FALSE)","v":{"$error":"#REF!"}},{"$f":"VLOOKUP($B246,#REF!,5,FALSE)","v":{"$error":"#REF!"}},{"$f":"VLOOKUP($B246,#REF!,6,FALSE)","v":{"$error":"#REF!"}},"-",{"$error":"#REF!"},null,{"$f":"VLOOKUP($B246,#REF!,13,FALSE)","v":{"$error":"#REF!"}},{"$f":"VLOOKUP($B246,#REF!,10,FALSE)","v":{"$error":"#REF!"}},{"$f":"VLOOKUP($B246,#REF!,17,FALSE)","v":{"$error":"#REF!"}},{"$f":"IFERROR(VLOOKUP($B246,#REF!,2,FALSE),\"-\")","v":"-"}]
[null,244,{"$f":"VLOOKUP($B247,#REF!,2,FALSE)","v":{"$error":"#REF!"}},{"$f":"VLOOKUP($B247,#REF!,3,FALSE)","v":{"$error":"#REF!"}},{"$f":"VLOOKUP($B247,#REF!,5,FALSE)","v":{"$error":"#REF!"}},{"$f":"VLOOKUP($B247,#REF!,6,FALSE)","v":{"$error":"#REF!"}},"-",{"$error":"#REF!"},null,{"$f":"VLOOKUP($B247,#REF!,13,FALSE)","v":{"$error":"#REF!"}},{"$f":"VLOOKUP($B247,#REF!,10,FALSE)","v":{"$error":"#REF!"}},{"$f":"VLOOKUP($B247,#REF!,17,FALSE)","v":{"$error":"#REF!"}},{"$f":"IFERROR(VLOOKUP($B247,#REF!,2,FALSE),\"-\")","v":"-"}]
[null,245,{"$f":"VLOOKUP($B248,#REF!,2,FALSE)","v":{"$error":"#REF!"}},{"$f":"VLOOKUP($B248,#REF!,3,FALSE)","v":{"$error":"#REF!"}},{"$f":"VLOOKUP($B248,#REF!,5,FALSE)","v":{"$error":"#REF!"}},{"$f":"VLOOKUP($B248,#REF!,6,FALSE)","v":{"$error":"#REF!"}},"-",{"$error":"#REF!"},null,{"$f":"VLOOKUP($B248,#REF!,13,FALSE)","v":{"$error":"#REF!"}},{"$f":"VLOOKUP($B248,#REF!,10,FALSE)","v":{"$error":"#REF!"}},{"$f":"VLOOKUP($B248,#REF!,17,FALSE)","v":{"$error":"#REF!"}},{"$f":"IFERROR(VLOOKUP($B248,#REF!,2,FALSE),\"-\")","v":"-"}]
[null,246,{"$f":"VLOOKUP($B249,#REF!,2,FALSE)","v":{"$error":"#REF!"}},{"$f":"VLOOKUP($B249,#REF!,3,FALSE)","v":{"$error":"#REF!"}},{"$f":"VLOOKUP($B249,#REF!,5,FALSE)","v":{"$error":"#REF!"}},{"$f":"VLOOKUP($B249,#REF!,6,FALSE)","v":{"$error":"#REF!"}},"-",{"$error":"#REF!"},null,{"$f":"VLOOKUP($B249,#REF!,13,FALSE)","v":{"$error":"#REF!"}},{"$f":"VLOOKUP($B249,#REF!,10,FALSE)","v":{"$error":"#REF!"}},{"$f":"VLOOKUP($B249,#REF!,17,FALSE)","v":{"$error":"#REF!"}},{"$f":"IFERROR(VLOOKUP($B249,#REF!,2,FALSE),\"-\")","v":"-"}]
[null,247,{"$f":"VLOOKUP($B250,#REF!,2,FALSE)","v":{"$error":"#REF!"}},{"$f":"VLOOKUP($B250,#REF!,3,FALSE)","v":{"$error":"#REF!"}},{"$f":"VLOOKUP($B250,#REF!,5,FALSE)","v":{"$error":"#REF!"}},{"$f":"VLOOKUP($B250,#REF!,6,FALSE)","v":{"$error":"#REF!"}},"-",{"$error":"#REF!"},null,{"$f":"VLOOKUP($B250,#REF!,13,FALSE)","v":{"$error":"#REF!"}},{"$f":"VLOOKUP($B250,#REF!,10,FALSE)","v":{"$error":"#REF!"}},{"$f":"VLOOKUP($B250,#REF!,17,FALSE)","v":{"$error":"#REF!"}},{"$f":"IFERROR(VLOOKUP($B250,#REF!,2,FALSE),\"-\")","v":"-"}]
[null,248,{"$f":"VLOOKUP($B251,#REF!,2,FALSE)","v":{"$error":"#REF!"}},{"$f":"VLOOKUP($B251,#REF!,3,FALSE)","v":{"$error":"#REF!"}},{"$f":"VLOOKUP($B251,#REF!,5,FALSE)","v":{"$error":"#REF!"}},{"$f":"VLOOKUP($B251,#REF!,6,FALSE)","v":{"$error":"#REF!"}},"-",{"$error":"#REF!"},null,{"$f":"VLOOKUP($B251,#REF!,13,FALSE)","v":{"$error":"#REF!"}},{"$f":"VLOOKUP($B251,#REF!,10,FALSE)","v":{"$error":"#REF!"}},{"$f":"VLOOKUP($B251,#REF!,17,FALSE)","v":{"$error":"#REF!"}},{"$f":"IFERROR(VLOOKUP($B251,#REF!,2,FALSE),\"-\")","v":"-"}]
[null,249,{"$f":"VLOOKUP($B252,#REF!,2,FALSE)","v":{"$error":"#REF!"}},{"$f":"VLOOKUP($B252,#REF!,3,FALSE)","v":{"$error":"#REF!"}},{"$f":"VLOOKUP($B252,#REF!,5,FALSE)","v":{"$error":"#REF!"}},{"$f":"VLOOKUP($B252,#REF!,6,FALSE)","v":{"$error":"#REF!"}},"-",{"$error":"#REF!"},null,{"$f":"VLOOKUP($B252,#REF!,13,FALSE)","v":{"$error":"#REF!"}},{"$f":"VLOOKUP($B252,#REF!,10,FALSE)","v":{"$error":"#REF!"}},{"$f":"VLOOKUP($B252,#REF!,17,FALSE)","v":{"$error":"#REF!"}},{"$f":"IFERROR(VLOOKUP($B252,#REF!,2,FALSE),\"-\")","v":"-"}]
[null,250,{"$f":"VLOOKUP($B253,#REF!,2,FALSE)","v":{"$error":"#REF!"}},{"$f":"VLOOKUP($B253,#REF!,3,FALSE)","v":{"$error":"#REF!"}},{"$f":"VLOOKUP($B253,#REF!,5,FALSE)","v":{"$error":"#REF!"}},{"$f":"VLOOKUP($B253,#REF!,6,FALSE)","v":{"$error":"#REF!"}},"-",{"$error":"#REF!"},null,{"$f":"VLOOKUP($B253,#REF!,13,FALSE)","v":{"$error":"#REF!"}},{"$f":"VLOOKUP($B253,#REF!,10,FALSE)","v":{"$error":"#REF!"}},{"$f":"VLOOKUP($B253,#REF!,17,FALSE)","v":{"$error":"#REF!"}},{"$f":"IFERROR(VLOOKUP($B253,#REF!,2,FALSE),\"-\")","v":"-"}]
[null,251,{"$f":"VLOOKUP($B254,#REF!,2,FALSE)","v":{"$error":"#REF!"}},{"$f":"VLOOKUP($B254,#REF!,3,FALSE)","v":{"$error":"#REF!"}},{"$f":"VLOOKUP($B254,#REF!,5,FALSE)","v":{"$error":"#REF!"}},{"$f":"VLOOKUP($B254,#REF!,6,FALSE)","v":{"$error":"#REF!"}},"-",{"$error":"#REF!"},null,{"$f":"VLOOKUP($B254,#REF!,13,FALSE)","v":{"$error":"#REF!"}},{"$f":"VLOOKUP($B254,#REF!,10,FALSE)","v":{"$error":"#REF!"}},{"$f":"VLOOKUP($B254,#REF!,17,FALSE)","v":{"$error":"#REF!"}},{"$f":"IFERROR(VLOOKUP($B254,#REF!,2,FALSE),\"-\")","v":"-"}]
[null,252,{"$f":"VLOOKUP($B255,#REF!,2,FALSE)","v":{"$error":"#REF!"}},{"$f":"VLOOKUP($B255,#REF!,3,FALSE)","v":{"$error":"#REF!"}},{"$f":"VLOOKUP($B255,#REF!,5,FALSE)","v":{"$error":"#REF!"}},{"$f":"VLOOKUP($B255,#REF!,6,FALSE)","v":{"$error":"#REF!"}},"-",{"$error":"#REF!"},null,{"$f":"VLOOKUP($B255,#REF!,13,FALSE)","v":{"$error":"#REF!"}},{"$f":"VLOOKUP($B255,#REF!,10,FALSE)","v":{"$error":"#REF!"}},{"$f":"VLOOKUP($B255,#REF!,17,FALSE)","v":{"$error":"#REF!"}},{"$f":"IFERROR(VLOOKUP($B255,#REF!,2,FALSE),\"-\")","v":"-"}]
[null,253,{"$f":"VLOOKUP($B256,#REF!,2,FALSE)","v":{"$error":"#REF!"}},{"$f":"VLOOKUP($B256,#REF!,3,FALSE)","v":{"$error":"#REF!"}},{"$f":"VLOOKUP($B256,#REF!,5,FALSE)","v":{"$error":"#REF!"}},{"$f":"VLOOKUP($B256,#REF!,6,FALSE)","v":{"$error":"#REF!"}},"-",{"$error":"#REF!"},null,{"$f":"VLOOKUP($B256,#REF!,13,FALSE)","v":{"$error":"#REF!"}},{"$f":"VLOOKUP($B256,#REF!,10,FALSE)","v":{"$error":"#REF!"}},{"$f":"VLOOKUP($B256,#REF!,17,FALSE)","v":{"$error":"#REF!"}},{"$f":"IFERROR(VLOOKUP($B256,#REF!,2,FALSE),\"-\")","v":"-"}]
[null,254,{"$f":"VLOOKUP($B257,#REF!,2,FALSE)","v":{"$error":"#REF!"}},{"$f":"VLOOKUP($B257,#REF!,3,FALSE)","v":{"$error":"#REF!"}},{"$f":"VLOOKUP($B257,#REF!,5,FALSE)","v":{"$error":"#REF!"}},{"$f":"VLOOKUP($B257,#REF!,6,FALSE)","v":{"$error":"#REF!"}},"-",{"$error":"#REF!"},null,{"$f":"VLOOKUP($B257,#REF!,13,FALSE)","v":{"$error":"#REF!"}},{"$f":"VLOOKUP($B257,#REF!,10,FALSE)","v":{"$error":"#REF!"}},{"$f":"VLOOKUP($B257,#REF!,17,FALSE)","v":{"$error":"#REF!"}},{"$f":"IFERROR(VLOOKUP($B257,#REF!,2,FALSE),\"-\")","v":"-"}]
[null,255,{"$f":"VLOOKUP($B258,#REF!,2,FALSE)","v":{"$error":"#REF!"}},{"$f":"VLOOKUP($B258,#REF!,3,FALSE)","v":{"$error":"#REF!"}},{"$f":"VLOOKUP($B258,#REF!,5,FALSE)","v":{"$error":"#REF!"}},{"$f":"VLOOKUP($B258,#REF!,6,FALSE)","v":{"$error":"#REF!"}},"-",{"$error":"#REF!"},null,{"$f":"VLOOKUP($B258,#REF!,13,FALSE)","v":{"$error":"#REF!"}},{"$f":"VLOOKUP($B258,#REF!,10,FALSE)","v":{"$error":"#REF!"}},{"$f":"VLOOKUP($B258,#REF!,17,FALSE)","v":{"$error":"#REF!"}},{"$f":"IFERROR(VLOOKUP($B258,#REF!,2,FALSE),\"-\")","v":"-"}]
[null,256,{"$f":"VLOOKUP($B259,#REF!,2,FALSE)","v":{"$error":"#REF!"}},{"$f":"VLOOKUP($B259,#REF!,3,FALSE)","v":{"$error":"#REF!"}},{"$f":"VLOOKUP($B259,#REF!,5,FALSE)","v":{"$error":"#REF!"}},{"$f":"VLOOKUP($B259,#REF!,6,FALSE)","v":{"$error":"#REF!"}},"-",{"$error":"#REF!"},null,{"$f":"VLOOKUP($B259,#REF!,13,FALSE)","v":{"$error":"#REF!"}},{"$f":"VLOOKUP($B259,#REF!,10,FALSE)","v":{"$error":"#REF!"}},{"$f":"VLOOKUP($B259,#REF!,17,FALSE)","v":{"$error":"#REF!"}},{"$f":"IFERROR(VLOOKUP($B259,#REF!,2,FALSE),\"-\")","v":"-"}]
[null,257,{"$f":"VLOOKUP($B260,#REF!,2,FALSE)","v":{"$error":"#REF!"}},{"$f":"VLOOKUP($B260,#REF!,3,FALSE)","v":{"$error":"#REF!"}},{"$f":"VLOOKUP($B260,#REF!,5,FALSE)","v":{"$error":"#REF!"}},{"$f":"VLOOKUP($B260,#REF!,6,FALSE)","v":{"$error":"#REF!"}},{"$f":"IF(M260=1,\"欠席\",IF(M260=9,\"空ﾚｰﾝ\",\"-\"))","v":"-"},{"$error":"#REF!"},null,{"$f":"VLOOKUP($B260,#REF!,13,FALSE)","v":{"$error":"#REF!"}},{"$f":"VLOOKUP($B260,#REF!,10,FALSE)","v":{"$error":"#REF!"}},{"$f":"VLOOKUP($B260,#REF!,17,FALSE)","v":{"$error":"#REF!"}},{"$f":"IFERROR(VLOOKUP($B260,#REF!,2,FALSE),\"-\")","v":"-"}]
[null,258,{"$f":"VLOOKUP($B261,#REF!,2,FALSE)","v":{"$error":"#REF!"}},{"$f":"VLOOKUP($B261,#REF!,3,FALSE)","v":{"$error":"#REF!"}},{"$f":"VLOOKUP($B261,#REF!,5,FALSE)","v":{"$error":"#REF!"}},{"$f":"VLOOKUP($B261,#REF!,6,FALSE)","v":{"$error":"#REF!"}},"-",{"$f":"+C261","v":{"$error":"#REF!"}},null,{"$f":"VLOOKUP($B261,#REF!,13,FALSE)","v":{"$error":"#REF!"}},{"$f":"VLOOKUP($B261,#REF!,10,FALSE)","v":{"$error":"#REF!"}},{"$f":"VLOOKUP($B261,#REF!,17,FALSE)","v":{"$error":"#REF!"}},{"$f":"IFERROR(VLOOKUP($B261,#REF!,2,FALSE),\"-\")","v":"-"}]
[null,259,{"$f":"VLOOKUP($B262,#REF!,2,FALSE)","v":{"$error":"#REF!"}},{"$f":"VLOOKUP($B262,#REF!,3,FALSE)","v":{"$error":"#REF!"}},{"$f":"VLOOKUP($B262,#REF!,5,FALSE)","v":{"$error":"#REF!"}},{"$f":"VLOOKUP($B262,#REF!,6,FALSE)","v":{"$error":"#REF!"}},"-",{"$error":"#REF!"},null,{"$f":"VLOOKUP($B262,#REF!,13,FALSE)","v":{"$error":"#REF!"}},{"$f":"VLOOKUP($B262,#REF!,10,FALSE)","v":{"$error":"#REF!"}},{"$f":"VLOOKUP($B262,#REF!,17,FALSE)","v":{"$error":"#REF!"}},{"$f":"IFERROR(VLOOKUP($B262,#REF!,2,FALSE),\"-\")","v":"-"}]
[null,260,{"$f":"VLOOKUP($B263,#REF!,2,FALSE)","v":{"$error":"#REF!"}},{"$f":"VLOOKUP($B263,#REF!,3,FALSE)","v":{"$error":"#REF!"}},{"$f":"VLOOKUP($B263,#REF!,5,FALSE)","v":{"$error":"#REF!"}},{"$f":"VLOOKUP($B263,#REF!,6,FALSE)","v":{"$error":"#REF!"}},"-",{"$error":"#REF!"},null,{"$f":"VLOOKUP($B263,#REF!,13,FALSE)","v":{"$error":"#REF!"}},{"$f":"VLOOKUP($B263,#REF!,10,FALSE)","v":{"$error":"#REF!"}},{"$f":"VLOOKUP($B263,#REF!,17,FALSE)","v":{"$error":"#REF!"}},{"$f":"IFERROR(VLOOKUP($B263,#REF!,2,FALSE),\"-\")","v":"-"}]
[null,261,{"$f":"VLOOKUP($B264,#REF!,2,FALSE)","v":{"$error":"#REF!"}},{"$f":"VLOOKUP($B264,#REF!,3,FALSE)","v":{"$error":"#REF!"}},{"$f":"VLOOKUP($B264,#REF!,5,FALSE)","v":{"$error":"#REF!"}},{"$f":"VLOOKUP($B264,#REF!,6,FALSE)","v":{"$error":"#REF!"}},"-",{"$error":"#REF!"},null,{"$f":"VLOOKUP($B264,#REF!,13,FALSE)","v":{"$error":"#REF!"}},{"$f":"VLOOKUP($B264,#REF!,10,FALSE)","v":{"$error":"#REF!"}},{"$f":"VLOOKUP($B264,#REF!,17,FALSE)","v":{"$error":"#REF!"}},{"$f":"IFERROR(VLOOKUP($B264,#REF!,2,FALSE),\"-\")","v":"-"}]
[null,262,{"$f":"VLOOKUP($B265,#REF!,2,FALSE)","v":{"$error":"#REF!"}},{"$f":"VLOOKUP($B265,#REF!,3,FALSE)","v":{"$error":"#REF!"}},{"$f":"VLOOKUP($B265,#REF!,5,FALSE)","v":{"$error":"#REF!"}},{"$f":"VLOOKUP($B265,#REF!,6,FALSE)","v":{"$error":"#REF!"}},"-",{"$error":"#REF!"},null,{"$f":"VLOOKUP($B265,#REF!,13,FALSE)","v":{"$error":"#REF!"}},{"$f":"VLOOKUP($B265,#REF!,10,FALSE)","v":{"$error":"#REF!"}},{"$f":"VLOOKUP($B265,#REF!,17,FALSE)","v":{"$error":"#REF!"}},{"$f":"IFERROR(VLOOKUP($B265,#REF!,2,FALSE),\"-\")","v":"-"}]
[null,263,{"$f":"VLOOKUP($B266,#REF!,2,FALSE)","v":{"$error":"#REF!"}},{"$f":"VLOOKUP($B266,#REF!,3,FALSE)","v":{"$error":"#REF!"}},{"$f":"VLOOKUP($B266,#REF!,5,FALSE)","v":{"$error":"#REF!"}},{"$f":"VLOOKUP($B266,#REF!,6,FALSE)","v":{"$error":"#REF!"}},"-",{"$error":"#REF!"},null,{"$f":"VLOOKUP($B266,#REF!,13,FALSE)","v":{"$error":"#REF!"}},{"$f":"VLOOKUP($B266,#REF!,10,FALSE)","v":{"$error":"#REF!"}},{"$f":"VLOOKUP($B266,#REF!,17,FALSE)","v":{"$error":"#REF!"}},{"$f":"IFERROR(VLOOKUP($B266,#REF!,2,FALSE),\"-\")","v":"-"}]
[null,264,{"$f":"VLOOKUP($B267,#REF!,2,FALSE)","v":{"$error":"#REF!"}},{"$f":"VLOOKUP($B267,#REF!,3,FALSE)","v":{"$error":"#REF!"}},{"$f":"VLOOKUP($B267,#REF!,5,FALSE)","v":{"$error":"#REF!"}},{"$f":"VLOOKUP($B267,#REF!,6,FALSE)","v":{"$error":"#REF!"}},"-",{"$error":"#REF!"},null,{"$f":"VLOOKUP($B267,#REF!,13,FALSE)","v":{"$error":"#REF!"}},{"$f":"VLOOKUP($B267,#REF!,10,FALSE)","v":{"$error":"#REF!"}},{"$f":"VLOOKUP($B267,#REF!,17,FALSE)","v":{"$error":"#REF!"}},{"$f":"IFERROR(VLOOKUP($B267,#REF!,2,FALSE),\"-\")","v":"-"}]
[null,265,{"$f":"VLOOKUP($B268,#REF!,2,FALSE)","v":{"$error":"#REF!"}},{"$f":"VLOOKUP($B268,#REF!,3,FALSE)","v":{"$error":"#REF!"}},{"$f":"VLOOKUP($B268,#REF!,5,FALSE)","v":{"$error":"#REF!"}},{"$f":"VLOOKUP($B268,#REF!,6,FALSE)","v":{"$error":"#REF!"}},"-",{"$error":"#REF!"},null,{"$f":"VLOOKUP($B268,#REF!,13,FALSE)","v":{"$error":"#REF!"}},{"$f":"VLOOKUP($B268,#REF!,10,FALSE)","v":{"$error":"#REF!"}},{"$f":"VLOOKUP($B268,#REF!,17,FALSE)","v":{"$error":"#REF!"}},{"$f":"IFERROR(VLOOKUP($B268,#REF!,2,FALSE),\"-\")","v":"-"}]
[null,266,{"$f":"VLOOKUP($B269,#REF!,2,FALSE)","v":{"$error":"#REF!"}},{"$f":"VLOOKUP($B269,#REF!,3,FALSE)","v":{"$error":"#REF!"}},{"$f":"VLOOKUP($B269,#REF!,5,FALSE)","v":{"$error":"#REF!"}},{"$f":"VLOOKUP($B269,#REF!,6,FALSE)","v":{"$error":"#REF!"}},"-",{"$error":"#REF!"},null,{"$f":"VLOOKUP($B269,#REF!,13,FALSE)","v":{"$error":"#REF!"}},{"$f":"VLOOKUP($B269,#REF!,10,FALSE)","v":{"$error":"#REF!"}},{"$f":"VLOOKUP($B269,#REF!,17,FALSE)","v":{"$error":"#REF!"}},{"$f":"IFERROR(VLOOKUP($B269,#REF!,2,FALSE),\"-\")","v":"-"}]
[null,267,{"$f":"VLOOKUP($B270,#REF!,2,FALSE)","v":{"$error":"#REF!"}},{"$f":"VLOOKUP($B270,#REF!,3,FALSE)","v":{"$error":"#REF!"}},{"$f":"VLOOKUP($B270,#REF!,5,FALSE)","v":{"$error":"#REF!"}},{"$f":"VLOOKUP($B270,#REF!,6,FALSE)","v":{"$error":"#REF!"}},"-",{"$error":"#REF!"},null,{"$f":"VLOOKUP($B270,#REF!,13,FALSE)","v":{"$error":"#REF!"}},{"$f":"VLOOKUP($B270,#REF!,10,FALSE)","v":{"$error":"#REF!"}},{"$f":"VLOOKUP($B270,#REF!,17,FALSE)","v":{"$error":"#REF!"}},{"$f":"IFERROR(VLOOKUP($B270,#REF!,2,FALSE),\"-\")","v":"-"}]
[null,268,{"$f":"VLOOKUP($B271,#REF!,2,FALSE)","v":{"$error":"#REF!"}},{"$f":"VLOOKUP($B271,#REF!,3,FALSE)","v":{"$error":"#REF!"}},{"$f":"VLOOKUP($B271,#REF!,5,FALSE)","v":{"$error":"#REF!"}},{"$f":"VLOOKUP($B271,#REF!,6,FALSE)","v":{"$error":"#REF!"}},"-",{"$error":"#REF!"},null,{"$f":"VLOOKUP($B271,#REF!,13,FALSE)","v":{"$error":"#REF!"}},{"$f":"VLOOKUP($B271,#REF!,10,FALSE)","v":{"$error":"#REF!"}},{"$f":"VLOOKUP($B271,#REF!,17,FALSE)","v":{"$error":"#REF!"}},{"$f":"IFERROR(VLOOKUP($B271,#REF!,2,FALSE),\"-\")","v":"-"}]
[null,269,{"$f":"VLOOKUP($B272,#REF!,2,FALSE)","v":{"$error":"#REF!"}},{"$f":"VLOOKUP($B272,#REF!,3,FALSE)","v":{"$error":"#REF!"}},{"$f":"VLOOKUP($B272,#REF!,5,FALSE)","v":{"$error":"#REF!"}},{"$f":"VLOOKUP($B272,#REF!,6,FALSE)","v":{"$error":"#REF!"}},"-",{"$error":"#REF!"},null,{"$f":"VLOOKUP($B272,#REF!,13,FALSE)","v":{"$error":"#REF!"}},{"$f":"VLOOKUP($B272,#REF!,10,FALSE)","v":{"$error":"#REF!"}},{"$f":"VLOOKUP($B272,#REF!,17,FALSE)","v":{"$error":"#REF!"}},{"$f":"IFERROR(VLOOKUP($B272,#REF!,2,FALSE),\"-\")","v":"-"}]
[null,270,{"$f":"VLOOKUP($B273,#REF!,2,FALSE)","v":{"$error":"#REF!"}},{"$f":"VLOOKUP($B273,#REF!,3,FALSE)","v":{"$error":"#REF!"}},{"$f":"VLOOKUP($B273,#REF!,5,FALSE)","v":{"$error":"#REF!"}},{"$f":"VLOOKUP($B273,#REF!,6,FALSE)","v":{"$error":"#REF!"}},"-",{"$error":"#REF!"},null,{"$f":"VLOOKUP($B273,#REF!,13,FALSE)","v":{"$error":"#REF!"}},{"$f":"VLOOKUP($B273,#REF!,10,FALSE)","v":{"$error":"#REF!"}},{"$f":"VLOOKUP($B273,#REF!,17,FALSE)","v":{"$error":"#REF!"}},{"$f":"IFERROR(VLOOKUP($B273,#REF!,2,FALSE),\"-\")","v":"-"}]
[null,271,{"$f":"VLOOKUP($B274,#REF!,2,FALSE)","v":{"$error":"#REF!"}},{"$f":"VLOOKUP($B274,#REF!,3,FALSE)","v":{"$error":"#REF!"}},{"$f":"VLOOKUP($B274,#REF!,5,FALSE)","v":{"$error":"#REF!"}},{"$f":"VLOOKUP($B274,#REF!,6,FALSE)","v":{"$error":"#REF!"}},"-",{"$error":"#REF!"},null,{"$f":"VLOOKUP($B274,#REF!,13,FALSE)","v":{"$error":"#REF!"}},{"$f":"VLOOKUP($B274,#REF!,10,FALSE)","v":{"$error":"#REF!"}},{"$f":"VLOOKUP($B274,#REF!,17,FALSE)","v":{"$error":"#REF!"}},{"$f":"IFERROR(VLOOKUP($B274,#REF!,2,FALSE),\"-\")","v":"-"}]
[null,272,{"$f":"VLOOKUP($B275,#REF!,2,FALSE)","v":{"$error":"#REF!"}},{"$f":"VLOOKUP($B275,#REF!,3,FALSE)","v":{"$error":"#REF!"}},{"$f":"VLOOKUP($B275,#REF!,5,FALSE)","v":{"$error":"#REF!"}},{"$f":"VLOOKUP($B275,#REF!,6,FALSE)","v":{"$error":"#REF!"}},"-",{"$error":"#REF!"},null,{"$f":"VLOOKUP($B275,#REF!,13,FALSE)","v":{"$error":"#REF!"}},{"$f":"VLOOKUP($B275,#REF!,10,FALSE)","v":{"$error":"#REF!"}},{"$f":"VLOOKUP($B275,#REF!,17,FALSE)","v":{"$error":"#REF!"}},{"$f":"IFERROR(VLOOKUP($B275,#REF!,2,FALSE),\"-\")","v":"-"}]
[null,273,{"$f":"VLOOKUP($B276,#REF!,2,FALSE)","v":{"$error":"#REF!"}},{"$f":"VLOOKUP($B276,#REF!,3,FALSE)","v":{"$error":"#REF!"}},{"$f":"VLOOKUP($B276,#REF!,5,FALSE)","v":{"$error":"#REF!"}},{"$f":"VLOOKUP($B276,#REF!,6,FALSE)","v":{"$error":"#REF!"}},"-",{"$error":"#REF!"},null,{"$f":"VLOOKUP($B276,#REF!,13,FALSE)","v":{"$error":"#REF!"}},{"$f":"VLOOKUP($B276,#REF!,10,FALSE)","v":{"$error":"#REF!"}},{"$f":"VLOOKUP($B276,#REF!,17,FALSE)","v":{"$error":"#REF!"}},{"$f":"IFERROR(VLOOKUP($B276,#REF!,2,FALSE),\"-\")","v":"-"}]
[null,274,{"$f":"VLOOKUP($B277,#REF!,2,FALSE)","v":{"$error":"#REF!"}},{"$f":"VLOOKUP($B277,#REF!,3,FALSE)","v":{"$error":"#REF!"}},{"$f":"VLOOKUP($B277,#REF!,5,FALSE)","v":{"$error":"#REF!"}},{"$f":"VLOOKUP($B277,#REF!,6,FALSE)","v":{"$error":"#REF!"}},"-",{"$error":"#REF!"},null,{"$f":"VLOOKUP($B277,#REF!,13,FALSE)","v":{"$error":"#REF!"}},{"$f":"VLOOKUP($B277,#REF!,10,FALSE)","v":{"$error":"#REF!"}},{"$f":"VLOOKUP($B277,#REF!,17,FALSE)","v":{"$error":"#REF!"}},{"$f":"IFERROR(VLOOKUP($B277,#REF!,2,FALSE),\"-\")","v":"-"}]
[null,275,{"$f":"VLOOKUP($B278,#REF!,2,FALSE)","v":{"$error":"#REF!"}},{"$f":"VLOOKUP($B278,#REF!,3,FALSE)","v":{"$error":"#REF!"}},{"$f":"VLOOKUP($B278,#REF!,5,FALSE)","v":{"$error":"#REF!"}},{"$f":"VLOOKUP($B278,#REF!,6,FALSE)","v":{"$error":"#REF!"}},"-",{"$error":"#REF!"},null,{"$f":"VLOOKUP($B278,#REF!,13,FALSE)","v":{"$error":"#REF!"}},{"$f":"VLOOKUP($B278,#REF!,10,FALSE)","v":{"$error":"#REF!"}},{"$f":"VLOOKUP($B278,#REF!,17,FALSE)","v":{"$error":"#REF!"}},{"$f":"IFERROR(VLOOKUP($B278,#REF!,2,FALSE),\"-\")","v":"-"}]
[null,276,{"$f":"VLOOKUP($B279,#REF!,2,FALSE)","v":{"$error":"#REF!"}},{"$f":"VLOOKUP($B279,#REF!,3,FALSE)","v":{"$error":"#REF!"}},{"$f":"VLOOKUP($B279,#REF!,5,FALSE)","v":{"$error":"#REF!"}},{"$f":"VLOOKUP($B279,#REF!,6,FALSE)","v":{"$error":"#REF!"}},"-",{"$error":"#REF!"},null,{"$f":"VLOOKUP($B279,#REF!,13,FALSE)","v":{"$error":"#REF!"}},{"$f":"VLOOKUP($B279,#REF!,10,FALSE)","v":{"$error":"#REF!"}},{"$f":"VLOOKUP($B279,#REF!,17,FALSE)","v":{"$error":"#REF!"}},{"$f":"IFERROR(VLOOKUP($B279,#REF!,2,FALSE),\"-\")","v":"-"}]
[null,277,{"$f":"VLOOKUP($B280,#REF!,2,FALSE)","v":{"$error":"#REF!"}},{"$f":"VLOOKUP($B280,#REF!,3,FALSE)","v":{"$error":"#REF!"}},{"$f":"VLOOKUP($B280,#REF!,5,FALSE)","v":{"$error":"#REF!"}},{"$f":"VLOOKUP($B280,#REF!,6,FALSE)","v":{"$error":"#REF!"}},"-",{"$error":"#REF!"},null,{"$f":"VLOOKUP($B280,#REF!,13,FALSE)","v":{"$error":"#REF!"}},{"$f":"VLOOKUP($B280,#REF!,10,FALSE)","v":{"$error":"#REF!"}},{"$f":"VLOOKUP($B280,#REF!,17,FALSE)","v":{"$error":"#REF!"}},{"$f":"IFERROR(VLOOKUP($B280,#REF!,2,FALSE),\"-\")","v":"-"}]
[null,278,{"$f":"VLOOKUP($B281,#REF!,2,FALSE)","v":{"$error":"#REF!"}},{"$f":"VLOOKUP($B281,#REF!,3,FALSE)","v":{"$error":"#REF!"}},{"$f":"VLOOKUP($B281,#REF!,5,FALSE)","v":{"$error":"#REF!"}},{"$f":"VLOOKUP($B281,#REF!,6,FALSE)","v":{"$error":"#REF!"}},"-",{"$error":"#REF!"},null,{"$f":"VLOOKUP($B281,#REF!,13,FALSE)","v":{"$error":"#REF!"}},{"$f":"VLOOKUP($B281,#REF!,10,FALSE)","v":{"$error":"#REF!"}},{"$f":"VLOOKUP($B281,#REF!,17,FALSE)","v":{"$error":"#REF!"}},{"$f":"IFERROR(VLOOKUP($B281,#REF!,2,FALSE),\"-\")","v":"-"}]
[null,279,{"$f":"VLOOKUP($B282,#REF!,2,FALSE)","v":{"$error":"#REF!"}},{"$f":"VLOOKUP($B282,#REF!,3,FALSE)","v":{"$error":"#REF!"}},{"$f":"VLOOKUP($B282,#REF!,5,FALSE)","v":{"$error":"#REF!"}},{"$f":"VLOOKUP($B282,#REF!,6,FALSE)","v":{"$error":"#REF!"}},"-",{"$error":"#REF!"},null,{"$f":"VLOOKUP($B282,#REF!,13,FALSE)","v":{"$error":"#REF!"}},{"$f":"VLOOKUP($B282,#REF!,10,FALSE)","v":{"$error":"#REF!"}},{"$f":"VLOOKUP($B282,#REF!,17,FALSE)","v":{"$error":"#REF!"}},{"$f":"IFERROR(VLOOKUP($B282,#REF!,2,FALSE),\"-\")","v":"-"}]
[null,280,{"$f":"VLOOKUP($B283,#REF!,2,FALSE)","v":{"$error":"#REF!"}},{"$f":"VLOOKUP($B283,#REF!,3,FALSE)","v":{"$error":"#REF!"}},{"$f":"VLOOKUP($B283,#REF!,5,FALSE)","v":{"$error":"#REF!"}},{"$f":"VLOOKUP($B283,#REF!,6,FALSE)","v":{"$error":"#REF!"}},"-",{"$error":"#REF!"},null,{"$f":"VLOOKUP($B283,#REF!,13,FALSE)","v":{"$error":"#REF!"}},{"$f":"VLOOKUP($B283,#REF!,10,FALSE)","v":{"$error":"#REF!"}},{"$f":"VLOOKUP($B283,#REF!,17,FALSE)","v":{"$error":"#REF!"}},{"$f":"IFERROR(VLOOKUP($B283,#REF!,2,FALSE),\"-\")","v":"-"}]
[null,281,{"$f":"VLOOKUP($B284,#REF!,2,FALSE)","v":{"$error":"#REF!"}},{"$f":"VLOOKUP($B284,#REF!,3,FALSE)","v":{"$error":"#REF!"}},{"$f":"VLOOKUP($B284,#REF!,5,FALSE)","v":{"$error":"#REF!"}},{"$f":"VLOOKUP($B284,#REF!,6,FALSE)","v":{"$error":"#REF!"}},"-",{"$error":"#REF!"},null,{"$f":"VLOOKUP($B284,#REF!,13,FALSE)","v":{"$error":"#REF!"}},{"$f":"VLOOKUP($B284,#REF!,10,FALSE)","v":{"$error":"#REF!"}},{"$f":"VLOOKUP($B284,#REF!,17,FALSE)","v":{"$error":"#REF!"}},{"$f":"IFERROR(VLOOKUP($B284,#REF!,2,FALSE),\"-\")","v":"-"}]
[null,282,{"$f":"VLOOKUP($B285,#REF!,2,FALSE)","v":{"$error":"#REF!"}},{"$f":"VLOOKUP($B285,#REF!,3,FALSE)","v":{"$error":"#REF!"}},{"$f":"VLOOKUP($B285,#REF!,5,FALSE)","v":{"$error":"#REF!"}},{"$f":"VLOOKUP($B285,#REF!,6,FALSE)","v":{"$error":"#REF!"}},"-",{"$error":"#REF!"},null,{"$f":"VLOOKUP($B285,#REF!,13,FALSE)","v":{"$error":"#REF!"}},{"$f":"VLOOKUP($B285,#REF!,10,FALSE)","v":{"$error":"#REF!"}},{"$f":"VLOOKUP($B285,#REF!,17,FALSE)","v":{"$error":"#REF!"}},{"$f":"IFERROR(VLOOKUP($B285,#REF!,2,FALSE),\"-\")","v":"-"}]
[null,283,{"$f":"VLOOKUP($B286,#REF!,2,FALSE)","v":{"$error":"#REF!"}},{"$f":"VLOOKUP($B286,#REF!,3,FALSE)","v":{"$error":"#REF!"}},{"$f":"VLOOKUP($B286,#REF!,5,FALSE)","v":{"$error":"#REF!"}},{"$f":"VLOOKUP($B286,#REF!,6,FALSE)","v":{"$error":"#REF!"}},"-",{"$error":"#REF!"},null,{"$f":"VLOOKUP($B286,#REF!,13,FALSE)","v":{"$error":"#REF!"}},{"$f":"VLOOKUP($B286,#REF!,10,FALSE)","v":{"$error":"#REF!"}},{"$f":"VLOOKUP($B286,#REF!,17,FALSE)","v":{"$error":"#REF!"}},{"$f":"IFERROR(VLOOKUP($B286,#REF!,2,FALSE),\"-\")","v":"-"}]
[null,284,{"$f":"VLOOKUP($B287,#REF!,2,FALSE)","v":{"$error":"#REF!"}},{"$f":"VLOOKUP($B287,#REF!,3,FALSE)","v":{"$error":"#REF!"}},{"$f":"VLOOKUP($B287,#REF!,5,FALSE)","v":{"$error":"#REF!"}},{"$f":"VLOOKUP($B287,#REF!,6,FALSE)","v":{"$error":"#REF!"}},"-",{"$error":"#REF!"},null,{"$f":"VLOOKUP($B287,#REF!,13,FALSE)","v":{"$error":"#REF!"}},{"$f":"VLOOKUP($B287,#REF!,10,FALSE)","v":{"$error":"#REF!"}},{"$f":"VLOOKUP($B287,#REF!,17,FALSE)","v":{"$error":"#REF!"}},{"$f":"IFERROR(VLOOKUP($B287,#REF!,2,FALSE),\"-\")","v":"-"}]
[null,285,{"$f":"VLOOKUP($B288,#REF!,2,FALSE)","v":{"$error":"#REF!"}},{"$f":"VLOOKUP($B288,#REF!,3,FALSE)","v":{"$error":"#REF!"}},{"$f":"VLOOKUP($B288,#REF!,5,FALSE)","v":{"$error":"#REF!"}},{"$f":"VLOOKUP($B288,#REF!,6,FALSE)","v":{"$error":"#REF!"}},"-",{"$error":"#REF!"},null,{"$f":"VLOOKUP($B288,#REF!,13,FALSE)","v":{"$error":"#REF!"}},{"$f":"VLOOKUP($B288,#REF!,10,FALSE)","v":{"$error":"#REF!"}},{"$f":"VLOOKUP($B288,#REF!,17,FALSE)","v":{"$error":"#REF!"}},{"$f":"IFERROR(VLOOKUP($B288,#REF!,2,FALSE),\"-\")","v":"-"}]
[null,286,{"$f":"VLOOKUP($B289,#REF!,2,FALSE)","v":{"$error":"#REF!"}},{"$f":"VLOOKUP($B289,#REF!,3,FALSE)","v":{"$error":"#REF!"}},{"$f":"VLOOKUP($B289,#REF!,5,FALSE)","v":{"$error":"#REF!"}},{"$f":"VLOOKUP($B289,#REF!,6,FALSE)","v":{"$error":"#REF!"}},"-",{"$error":"#REF!"},null,{"$f":"VLOOKUP($B289,#REF!,13,FALSE)","v":{"$error":"#REF!"}},{"$f":"VLOOKUP($B289,#REF!,10,FALSE)","v":{"$error":"#REF!"}},{"$f":"VLOOKUP($B289,#REF!,17,FALSE)","v":{"$error":"#REF!"}},{"$f":"IFERROR(VLOOKUP($B289,#REF!,2,FALSE),\"-\")","v":"-"}]
[null,287,{"$f":"VLOOKUP($B290,#REF!,2,FALSE)","v":{"$error":"#REF!"}},{"$f":"VLOOKUP($B290,#REF!,3,FALSE)","v":{"$error":"#REF!"}},{"$f":"VLOOKUP($B290,#REF!,5,FALSE)","v":{"$error":"#REF!"}},{"$f":"VLOOKUP($B290,#REF!,6,FALSE)","v":{"$error":"#REF!"}},"-",{"$error":"#REF!"},null,{"$f":"VLOOKUP($B290,#REF!,13,FALSE)","v":{"$error":"#REF!"}},{"$f":"VLOOKUP($B290,#REF!,10,FALSE)","v":{"$error":"#REF!"}},{"$f":"VLOOKUP($B290,#REF!,17,FALSE)","v":{"$error":"#REF!"}},{"$f":"IFERROR(VLOOKUP($B290,#REF!,2,FALSE),\"-\")","v":"-"}]
[null,288,{"$f":"VLOOKUP($B291,#REF!,2,FALSE)","v":{"$error":"#REF!"}},{"$f":"VLOOKUP($B291,#REF!,3,FALSE)","v":{"$error":"#REF!"}},{"$f":"VLOOKUP($B291,#REF!,5,FALSE)","v":{"$error":"#REF!"}},{"$f":"VLOOKUP($B291,#REF!,6,FALSE)","v":{"$error":"#REF!"}},"-",{"$error":"#REF!"},null,{"$f":"VLOOKUP($B291,#REF!,13,FALSE)","v":{"$error":"#REF!"}},{"$f":"VLOOKUP($B291,#REF!,10,FALSE)","v":{"$error":"#REF!"}},{"$f":"VLOOKUP($B291,#REF!,17,FALSE)","v":{"$error":"#REF!"}},{"$f":"IFERROR(VLOOKUP($B291,#REF!,2,FALSE),\"-\")","v":"-"}]
[null,289,{"$f":"VLOOKUP($B292,#REF!,2,FALSE)","v":{"$error":"#REF!"}},{"$f":"VLOOKUP($B292,#REF!,3,FALSE)","v":{"$error":"#REF!"}},{"$f":"VLOOKUP($B292,#REF!,5,FALSE)","v":{"$error":"#REF!"}},{"$f":"VLOOKUP($B292,#REF!,6,FALSE)","v":{"$error":"#REF!"}},"-",{"$error":"#REF!"},null,{"$f":"VLOOKUP($B292,#REF!,13,FALSE)","v":{"$error":"#REF!"}},{"$f":"VLOOKUP($B292,#REF!,10,FALSE)","v":{"$error":"#REF!"}},{"$f":"VLOOKUP($B292,#REF!,17,FALSE)","v":{"$error":"#REF!"}},{"$f":"IFERROR(VLOOKUP($B292,#REF!,2,FALSE),\"-\")","v":"-"}]
[null,290,{"$f":"VLOOKUP($B293,#REF!,2,FALSE)","v":{"$error":"#REF!"}},{"$f":"VLOOKUP($B293,#REF!,3,FALSE)","v":{"$error":"#REF!"}},{"$f":"VLOOKUP($B293,#REF!,5,FALSE)","v":{"$error":"#REF!"}},{"$f":"VLOOKUP($B293,#REF!,6,FALSE)","v":{"$error":"#REF!"}},"-",{"$error":"#REF!"},null,{"$f":"VLOOKUP($B293,#REF!,13,FALSE)","v":{"$error":"#REF!"}},{"$f":"VLOOKUP($B293,#REF!,10,FALSE)","v":{"$error":"#REF!"}},{"$f":"VLOOKUP($B293,#REF!,17,FALSE)","v":{"$error":"#REF!"}},{"$f":"IFERROR(VLOOKUP($B293,#REF!,2,FALSE),\"-\")","v":"-"}]
[null,291,{"$f":"VLOOKUP($B294,#REF!,2,FALSE)","v":{"$error":"#REF!"}},{"$f":"VLOOKUP($B294,#REF!,3,FALSE)","v":{"$error":"#REF!"}},{"$f":"VLOOKUP($B294,#REF!,5,FALSE)","v":{"$error":"#REF!"}},{"$f":"VLOOKUP($B294,#REF!,6,FALSE)","v":{"$error":"#REF!"}},"-",{"$error":"#REF!"},null,{"$f":"VLOOKUP($B294,#REF!,13,FALSE)","v":{"$error":"#REF!"}},{"$f":"VLOOKUP($B294,#REF!,10,FALSE)","v":{"$error":"#REF!"}},{"$f":"VLOOKUP($B294,#REF!,17,FALSE)","v":{"$error":"#REF!"}},{"$f":"IFERROR(VLOOKUP($B294,#REF!,2,FALSE),\"-\")","v":"-"}]
[null,292,{"$f":"VLOOKUP($B295,#REF!,2,FALSE)","v":{"$error":"#REF!"}},{"$f":"VLOOKUP($B295,#REF!,3,FALSE)","v":{"$error":"#REF!"}},{"$f":"VLOOKUP($B295,#REF!,5,FALSE)","v":{"$error":"#REF!"}},{"$f":"VLOOKUP($B295,#REF!,6,FALSE)","v":{"$error":"#REF!"}},"-",{"$error":"#REF!"},null,{"$f":"VLOOKUP($B295,#REF!,13,FALSE)","v":{"$error":"#REF!"}},{"$f":"VLOOKUP($B295,#REF!,10,FALSE)","v":{"$error":"#REF!"}},{"$f":"VLOOKUP($B295,#REF!,17,FALSE)","v":{"$error":"#REF!"}},{"$f":"IFERROR(VLOOKUP($B295,#REF!,2,FALSE),\"-\")","v":"-"}]
[null,293,{"$f":"VLOOKUP($B296,#REF!,2,FALSE)","v":{"$error":"#REF!"}},{"$f":"VLOOKUP($B296,#REF!,3,FALSE)","v":{"$error":"#REF!"}},{"$f":"VLOOKUP($B296,#REF!,5,FALSE)","v":{"$error":"#REF!"}},{"$f":"VLOOKUP($B296,#REF!,6,FALSE)","v":{"$error":"#REF!"}},"-",{"$error":"#REF!"},null,{"$f":"VLOOKUP($B296,#REF!,13,FALSE)","v":{"$error":"#REF!"}},{"$f":"VLOOKUP($B296,#REF!,10,FALSE)","v":{"$error":"#REF!"}},{"$f":"VLOOKUP($B296,#REF!,17,FALSE)","v":{"$error":"#REF!"}},{"$f":"IFERROR(VLOOKUP($B296,#REF!,2,FALSE),\"-\")","v":"-"}]
[null,294,{"$f":"VLOOKUP($B297,#REF!,2,FALSE)","v":{"$error":"#REF!"}},{"$f":"VLOOKUP($B297,#REF!,3,FALSE)","v":{"$error":"#REF!"}},{"$f":"VLOOKUP($B297,#REF!,5,FALSE)","v":{"$error":"#REF!"}},{"$f":"VLOOKUP($B297,#REF!,6,FALSE)","v":{"$error":"#REF!"}},"-",{"$error":"#REF!"},null,{"$f":"VLOOKUP($B297,#REF!,13,FALSE)","v":{"$error":"#REF!"}},{"$f":"VLOOKUP($B297,#REF!,10,FALSE)","v":{"$error":"#REF!"}},{"$f":"VLOOKUP($B297,#REF!,17,FALSE)","v":{"$error":"#REF!"}},{"$f":"IFERROR(VLOOKUP($B297,#REF!,2,FALSE),\"-\")","v":"-"}]
[null,295,{"$f":"VLOOKUP($B298,#REF!,2,FALSE)","v":{"$error":"#REF!"}},{"$f":"VLOOKUP($B298,#REF!,3,FALSE)","v":{"$error":"#REF!"}},{"$f":"VLOOKUP($B298,#REF!,5,FALSE)","v":{"$error":"#REF!"}},{"$f":"VLOOKUP($B298,#REF!,6,FALSE)","v":{"$error":"#REF!"}},"-",{"$error":"#REF!"},null,{"$f":"VLOOKUP($B298,#REF!,13,FALSE)","v":{"$error":"#REF!"}},{"$f":"VLOOKUP($B298,#REF!,10,FALSE)","v":{"$error":"#REF!"}},{"$f":"VLOOKUP($B298,#REF!,17,FALSE)","v":{"$error":"#REF!"}},{"$f":"IFERROR(VLOOKUP($B298,#REF!,2,FALSE),\"-\")","v":"-"}]
[null,296,{"$f":"VLOOKUP($B299,#REF!,2,FALSE)","v":{"$error":"#REF!"}},{"$f":"VLOOKUP($B299,#REF!,3,FALSE)","v":{"$error":"#REF!"}},{"$f":"VLOOKUP($B299,#REF!,5,FALSE)","v":{"$error":"#REF!"}},{"$f":"VLOOKUP($B299,#REF!,6,FALSE)","v":{"$error":"#REF!"}},"-",{"$error":"#REF!"},null,{"$f":"VLOOKUP($B299,#REF!,13,FALSE)","v":{"$error":"#REF!"}},{"$f":"VLOOKUP($B299,#REF!,10,FALSE)","v":{"$error":"#REF!"}},{"$f":"VLOOKUP($B299,#REF!,17,FALSE)","v":{"$error":"#REF!"}},{"$f":"IFERROR(VLOOKUP($B299,#REF!,2,FALSE),\"-\")","v":"-"}]
[null,297,{"$f":"VLOOKUP($B300,#REF!,2,FALSE)","v":{"$error":"#REF!"}},{"$f":"VLOOKUP($B300,#REF!,3,FALSE)","v":{"$error":"#REF!"}},{"$f":"VLOOKUP($B300,#REF!,5,FALSE)","v":{"$error":"#REF!"}},{"$f":"VLOOKUP($B300,#REF!,6,FALSE)","v":{"$error":"#REF!"}},"-",{"$error":"#REF!"},null,{"$f":"VLOOKUP($B300,#REF!,13,FALSE)","v":{"$error":"#REF!"}},{"$f":"VLOOKUP($B300,#REF!,10,FALSE)","v":{"$error":"#REF!"}},{"$f":"VLOOKUP($B300,#REF!,17,FALSE)","v":{"$error":"#REF!"}},{"$f":"IFERROR(VLOOKUP($B300,#REF!,2,FALSE),\"-\")","v":"-"}]
[null,298,{"$f":"VLOOKUP($B301,#REF!,2,FALSE)","v":{"$error":"#REF!"}},{"$f":"VLOOKUP($B301,#REF!,3,FALSE)","v":{"$error":"#REF!"}},{"$f":"VLOOKUP($B301,#REF!,5,FALSE)","v":{"$error":"#REF!"}},{"$f":"VLOOKUP($B301,#REF!,6,FALSE)","v":{"$error":"#REF!"}},"-",{"$error":"#REF!"},null,{"$f":"VLOOKUP($B301,#REF!,13,FALSE)","v":{"$error":"#REF!"}},{"$f":"VLOOKUP($B301,#REF!,10,FALSE)","v":{"$error":"#REF!"}},{"$f":"VLOOKUP($B301,#REF!,17,FALSE)","v":{"$error":"#REF!"}},{"$f":"IFERROR(VLOOKUP($B301,#REF!,2,FALSE),\"-\")","v":"-"}]
[null,299,{"$f":"VLOOKUP($B302,#REF!,2,FALSE)","v":{"$error":"#REF!"}},{"$f":"VLOOKUP($B302,#REF!,3,FALSE)","v":{"$error":"#REF!"}},{"$f":"VLOOKUP($B302,#REF!,5,FALSE)","v":{"$error":"#REF!"}},{"$f":"VLOOKUP($B302,#REF!,6,FALSE)","v":{"$error":"#REF!"}},"-",{"$error":"#REF!"},null,{"$f":"VLOOKUP($B302,#REF!,13,FALSE)","v":{"$error":"#REF!"}},{"$f":"VLOOKUP($B302,#REF!,10,FALSE)","v":{"$error":"#REF!"}},{"$f":"VLOOKUP($B302,#REF!,17,FALSE)","v":{"$error":"#REF!"}},{"$f":"IFERROR(VLOOKUP($B302,#REF!,2,FALSE),\"-\")","v":"-"}]
[null,300,{"$f":"VLOOKUP($B303,#REF!,2,FALSE)","v":{"$error":"#REF!"}},{"$f":"VLOOKUP($B303,#REF!,3,FALSE)","v":{"$error":"#REF!"}},{"$f":"VLOOKUP($B303,#REF!,5,FALSE)","v":{"$error":"#REF!"}},{"$f":"VLOOKUP($B303,#REF!,6,FALSE)","v":{"$error":"#REF!"}},"-",{"$error":"#REF!"},null,{"$f":"VLOOKUP($B303,#REF!,13,FALSE)","v":{"$error":"#REF!"}},{"$f":"VLOOKUP($B303,#REF!,10,FALSE)","v":{"$error":"#REF!"}},{"$f":"VLOOKUP($B303,#REF!,17,FALSE)","v":{"$error":"#REF!"}},{"$f":"IFERROR(VLOOKUP($B303,#REF!,2,FALSE),\"-\")","v":"-"}]
[null,301,{"$f":"VLOOKUP($B304,#REF!,2,FALSE)","v":{"$error":"#REF!"}},{"$f":"VLOOKUP($B304,#REF!,3,FALSE)","v":{"$error":"#REF!"}},{"$f":"VLOOKUP($B304,#REF!,5,FALSE)","v":{"$error":"#REF!"}},{"$f":"VLOOKUP($B304,#REF!,6,FALSE)","v":{"$error":"#REF!"}},"-",{"$error":"#REF!"},null,{"$f":"VLOOKUP($B304,#REF!,13,FALSE)","v":{"$error":"#REF!"}},{"$f":"VLOOKUP($B304,#REF!,10,FALSE)","v":{"$error":"#REF!"}},{"$f":"VLOOKUP($B304,#REF!,17,FALSE)","v":{"$error":"#REF!"}},{"$f":"IFERROR(VLOOKUP($B304,#REF!,2,FALSE),\"-\")","v":"-"}]
[null,302,{"$f":"VLOOKUP($B305,#REF!,2,FALSE)","v":{"$error":"#REF!"}},{"$f":"VLOOKUP($B305,#REF!,3,FALSE)","v":{"$error":"#REF!"}},{"$f":"VLOOKUP($B305,#REF!,5,FALSE)","v":{"$error":"#REF!"}},{"$f":"VLOOKUP($B305,#REF!,6,FALSE)","v":{"$error":"#REF!"}},"-",{"$error":"#REF!"},null,{"$f":"VLOOKUP($B305,#REF!,13,FALSE)","v":{"$error":"#REF!"}},{"$f":"VLOOKUP($B305,#REF!,10,FALSE)","v":{"$error":"#REF!"}},{"$f":"VLOOKUP($B305,#REF!,17,FALSE)","v":{"$error":"#REF!"}},{"$f":"IFERROR(VLOOKUP($B305,#REF!,2,FALSE),\"-\")","v":"-"}]
[null,303,{"$f":"VLOOKUP($B306,#REF!,2,FALSE)","v":{"$error":"#REF!"}},{"$f":"VLOOKUP($B306,#REF!,3,FALSE)","v":{"$error":"#REF!"}},{"$f":"VLOOKUP($B306,#REF!,5,FALSE)","v":{"$error":"#REF!"}},{"$f":"VLOOKUP($B306,#REF!,6,FALSE)","v":{"$error":"#REF!"}},"-",{"$error":"#REF!"},null,{"$f":"VLOOKUP($B306,#REF!,13,FALSE)","v":{"$error":"#REF!"}},{"$f":"VLOOKUP($B306,#REF!,10,FALSE)","v":{"$error":"#REF!"}},{"$f":"VLOOKUP($B306,#REF!,17,FALSE)","v":{"$error":"#REF!"}},{"$f":"IFERROR(VLOOKUP($B306,#REF!,2,FALSE),\"-\")","v":"-"}]
[null,304,{"$f":"VLOOKUP($B307,#REF!,2,FALSE)","v":{"$error":"#REF!"}},{"$f":"VLOOKUP($B307,#REF!,3,FALSE)","v":{"$error":"#REF!"}},{"$f":"VLOOKUP($B307,#REF!,5,FALSE)","v":{"$error":"#REF!"}},{"$f":"VLOOKUP($B307,#REF!,6,FALSE)","v":{"$error":"#REF!"}},"-",{"$error":"#REF!"},null,{"$f":"VLOOKUP($B307,#REF!,13,FALSE)","v":{"$error":"#REF!"}},{"$f":"VLOOKUP($B307,#REF!,10,FALSE)","v":{"$error":"#REF!"}},{"$f":"VLOOKUP($B307,#REF!,17,FALSE)","v":{"$error":"#REF!"}},{"$f":"IFERROR(VLOOKUP($B307,#REF!,2,FALSE),\"-\")","v":"-"}]
[null,305,{"$f":"VLOOKUP($B308,#REF!,2,FALSE)","v":{"$error":"#REF!"}},{"$f":"VLOOKUP($B308,#REF!,3,FALSE)","v":{"$error":"#REF!"}},{"$f":"VLOOKUP($B308,#REF!,5,FALSE)","v":{"$error":"#REF!"}},{"$f":"VLOOKUP($B308,#REF!,6,FALSE)","v":{"$error":"#REF!"}},"-",{"$error":"#REF!"},null,{"$f":"VLOOKUP($B308,#REF!,13,FALSE)","v":{"$error":"#REF!"}},{"$f":"VLOOKUP($B308,#REF!,10,FALSE)","v":{"$error":"#REF!"}},{"$f":"VLOOKUP($B308,#REF!,17,FALSE)","v":{"$error":"#REF!"}},{"$f":"IFERROR(VLOOKUP($B308,#REF!,2,FALSE),\"-\")","v":"-"}]
[null,306,{"$f":"VLOOKUP($B309,#REF!,2,FALSE)","v":{"$error":"#REF!"}},{"$f":"VLOOKUP($B309,#REF!,3,FALSE)","v":{"$error":"#REF!"}},{"$f":"VLOOKUP($B309,#REF!,5,FALSE)","v":{"$error":"#REF!"}},{"$f":"VLOOKUP($B309,#REF!,6,FALSE)","v":{"$error":"#REF!"}},"-",{"$error":"#REF!"},null,{"$f":"VLOOKUP($B309,#REF!,13,FALSE)","v":{"$error":"#REF!"}},{"$f":"VLOOKUP($B309,#REF!,10,FALSE)","v":{"$error":"#REF!"}},{"$f":"VLOOKUP($B309,#REF!,17,FALSE)","v":{"$error":"#REF!"}},{"$f":"IFERROR(VLOOKUP($B309,#REF!,2,FALSE),\"-\")","v":"-"}]
[null,307,{"$f":"VLOOKUP($B310,#REF!,2,FALSE)","v":{"$error":"#REF!"}},{"$f":"VLOOKUP($B310,#REF!,3,FALSE)","v":{"$error":"#REF!"}},{"$f":"VLOOKUP($B310,#REF!,5,FALSE)","v":{"$error":"#REF!"}},{"$f":"VLOOKUP($B310,#REF!,6,FALSE)","v":{"$error":"#REF!"}},"-",{"$error":"#REF!"},null,{"$f":"VLOOKUP($B310,#REF!,13,FALSE)","v":{"$error":"#REF!"}},{"$f":"VLOOKUP($B310,#REF!,10,FALSE)","v":{"$error":"#REF!"}},{"$f":"VLOOKUP($B310,#REF!,17,FALSE)","v":{"$error":"#REF!"}},{"$f":"IFERROR(VLOOKUP($B310,#REF!,2,FALSE),\"-\")","v":"-"}]
[null,308,{"$f":"VLOOKUP($B311,#REF!,2,FALSE)","v":{"$error":"#REF!"}},{"$f":"VLOOKUP($B311,#REF!,3,FALSE)","v":{"$error":"#REF!"}},{"$f":"VLOOKUP($B311,#REF!,5,FALSE)","v":{"$error":"#REF!"}},{"$f":"VLOOKUP($B311,#REF!,6,FALSE)","v":{"$error":"#REF!"}},"-",{"$error":"#REF!"},null,{"$f":"VLOOKUP($B311,#REF!,13,FALSE)","v":{"$error":"#REF!"}},{"$f":"VLOOKUP($B311,#REF!,10,FALSE)","v":{"$error":"#REF!"}},{"$f":"VLOOKUP($B311,#REF!,17,FALSE)","v":{"$error":"#REF!"}},{"$f":"IFERROR(VLOOKUP($B311,#REF!,2,FALSE),\"-\")","v":"-"}]
[null,309,{"$f":"VLOOKUP($B312,#REF!,2,FALSE)","v":{"$error":"#REF!"}},{"$f":"VLOOKUP($B312,#REF!,3,FALSE)","v":{"$error":"#REF!"}},{"$f":"VLOOKUP($B312,#REF!,5,FALSE)","v":{"$error":"#REF!"}},{"$f":"VLOOKUP($B312,#REF!,6,FALSE)","v":{"$error":"#REF!"}},"-",{"$error":"#REF!"},null,{"$f":"VLOOKUP($B312,#REF!,13,FALSE)","v":{"$error":"#REF!"}},{"$f":"VLOOKUP($B312,#REF!,10,FALSE)","v":{"$error":"#REF!"}},{"$f":"VLOOKUP($B312,#REF!,17,FALSE)","v":{"$error":"#REF!"}},{"$f":"IFERROR(VLOOKUP($B312,#REF!,2,FALSE),\"-\")","v":"-"}]
[null,310,{"$f":"VLOOKUP($B313,#REF!,2,FALSE)","v":{"$error":"#REF!"}},{"$f":"VLOOKUP($B313,#REF!,3,FALSE)","v":{"$error":"#REF!"}},{"$f":"VLOOKUP($B313,#REF!,5,FALSE)","v":{"$error":"#REF!"}},{"$f":"VLOOKUP($B313,#REF!,6,FALSE)","v":{"$error":"#REF!"}},"-",{"$error":"#REF!"},null,{"$f":"VLOOKUP($B313,#REF!,13,FALSE)","v":{"$error":"#REF!"}},{"$f":"VLOOKUP($B313,#REF!,10,FALSE)","v":{"$error":"#REF!"}},{"$f":"VLOOKUP($B313,#REF!,17,FALSE)","v":{"$error":"#REF!"}},{"$f":"IFERROR(VLOOKUP($B313,#REF!,2,FALSE),\"-\")","v":"-"}]
[null,311,{"$f":"VLOOKUP($B314,#REF!,2,FALSE)","v":{"$error":"#REF!"}},{"$f":"VLOOKUP($B314,#REF!,3,FALSE)","v":{"$error":"#REF!"}},{"$f":"VLOOKUP($B314,#REF!,5,FALSE)","v":{"$error":"#REF!"}},{"$f":"VLOOKUP($B314,#REF!,6,FALSE)","v":{"$error":"#REF!"}},"-",{"$error":"#REF!"},null,{"$f":"VLOOKUP($B314,#REF!,13,FALSE)","v":{"$error":"#REF!"}},{"$f":"VLOOKUP($B314,#REF!,10,FALSE)","v":{"$error":"#REF!"}},{"$f":"VLOOKUP($B314,#REF!,17,FALSE)","v":{"$error":"#REF!"}},{"$f":"IFERROR(VLOOKUP($B314,#REF!,2,FALSE),\"-\")","v":"-"}]
[null,312,{"$f":"VLOOKUP($B315,#REF!,2,FALSE)","v":{"$error":"#REF!"}},{"$f":"VLOOKUP($B315,#REF!,3,FALSE)","v":{"$error":"#REF!"}},{"$f":"VLOOKUP($B315,#REF!,5,FALSE)","v":{"$error":"#REF!"}},{"$f":"VLOOKUP($B315,#REF!,6,FALSE)","v":{"$error":"#REF!"}},"-",{"$error":"#REF!"},null,{"$f":"VLOOKUP($B315,#REF!,13,FALSE)","v":{"$error":"#REF!"}},{"$f":"VLOOKUP($B315,#REF!,10,FALSE)","v":{"$error":"#REF!"}},{"$f":"VLOOKUP($B315,#REF!,17,FALSE)","v":{"$error":"#REF!"}},{"$f":"IFERROR(VLOOKUP($B315,#REF!,2,FALSE),\"-\")","v":"-"}]
[null,313,{"$f":"VLOOKUP($B316,#REF!,2,FALSE)","v":{"$error":"#REF!"}},{"$f":"VLOOKUP($B316,#REF!,3,FALSE)","v":{"$error":"#REF!"}},{"$f":"VLOOKUP($B316,#REF!,5,FALSE)","v":{"$error":"#REF!"}},{"$f":"VLOOKUP($B316,#REF!,6,FALSE)","v":{"$error":"#REF!"}},"-",{"$error":"#REF!"},null,{"$f":"VLOOKUP($B316,#REF!,13,FALSE)","v":{"$error":"#REF!"}},{"$f":"VLOOKUP($B316,#REF!,10,FALSE)","v":{"$error":"#REF!"}},{"$f":"VLOOKUP($B316,#REF!,17,FALSE)","v":{"$error":"#REF!"}},{"$f":"IFERROR(VLOOKUP($B316,#REF!,2,FALSE),\"-\")","v":"-"}]
[null,314,{"$f":"VLOOKUP($B317,#REF!,2,FALSE)","v":{"$error":"#REF!"}},{"$f":"VLOOKUP($B317,#REF!,3,FALSE)","v":{"$error":"#REF!"}},{"$f":"VLOOKUP($B317,#REF!,5,FALSE)","v":{"$error":"#REF!"}},{"$f":"VLOOKUP($B317,#REF!,6,FALSE)","v":{"$error":"#REF!"}},"-",{"$error":"#REF!"},null,{"$f":"VLOOKUP($B317,#REF!,13,FALSE)","v":{"$error":"#REF!"}},{"$f":"VLOOKUP($B317,#REF!,10,FALSE)","v":{"$error":"#REF!"}},{"$f":"VLOOKUP($B317,#REF!,17,FALSE)","v":{"$error":"#REF!"}},{"$f":"IFERROR(VLOOKUP($B317,#REF!,2,FALSE),\"-\")","v":"-"}]
[null,315,{"$f":"VLOOKUP($B318,#REF!,2,FALSE)","v":{"$error":"#REF!"}},{"$f":"VLOOKUP($B318,#REF!,3,FALSE)","v":{"$error":"#REF!"}},{"$f":"VLOOKUP($B318,#REF!,5,FALSE)","v":{"$error":"#REF!"}},{"$f":"VLOOKUP($B318,#REF!,6,FALSE)","v":{"$error":"#REF!"}},"-",{"$error":"#REF!"},null,{"$f":"VLOOKUP($B318,#REF!,13,FALSE)","v":{"$error":"#REF!"}},{"$f":"VLOOKUP($B318,#REF!,10,FALSE)","v":{"$error":"#REF!"}},{"$f":"VLOOKUP($B318,#REF!,17,FALSE)","v":{"$error":"#REF!"}},{"$f":"IFERROR(VLOOKUP($B318,#REF!,2,FALSE),\"-\")","v":"-"}]
[null,316,{"$f":"VLOOKUP($B319,#REF!,2,FALSE)","v":{"$error":"#REF!"}},{"$f":"VLOOKUP($B319,#REF!,3,FALSE)","v":{"$error":"#REF!"}},{"$f":"VLOOKUP($B319,#REF!,5,FALSE)","v":{"$error":"#REF!"}},{"$f":"VLOOKUP($B319,#REF!,6,FALSE)","v":{"$error":"#REF!"}},"-",{"$error":"#REF!"},null,{"$f":"VLOOKUP($B319,#REF!,13,FALSE)","v":{"$error":"#REF!"}},{"$f":"VLOOKUP($B319,#REF!,10,FALSE)","v":{"$error":"#REF!"}},{"$f":"VLOOKUP($B319,#REF!,17,FALSE)","v":{"$error":"#REF!"}},{"$f":"IFERROR(VLOOKUP($B319,#REF!,2,FALSE),\"-\")","v":"-"}]
[null,317,{"$f":"VLOOKUP($B320,#REF!,2,FALSE)","v":{"$error":"#REF!"}},{"$f":"VLOOKUP($B320,#REF!,3,FALSE)","v":{"$error":"#REF!"}},{"$f":"VLOOKUP($B320,#REF!,5,FALSE)","v":{"$error":"#REF!"}},{"$f":"VLOOKUP($B320,#REF!,6,FALSE)","v":{"$error":"#REF!"}},"-",{"$error":"#REF!"},null,{"$f":"VLOOKUP($B320,#REF!,13,FALSE)","v":{"$error":"#REF!"}},{"$f":"VLOOKUP($B320,#REF!,10,FALSE)","v":{"$error":"#REF!"}},{"$f":"VLOOKUP($B320,#REF!,17,FALSE)","v":{"$error":"#REF!"}},{"$f":"IFERROR(VLOOKUP($B320,#REF!,2,FALSE),\"-\")","v":"-"}]
[null,318,{"$f":"VLOOKUP($B321,#REF!,2,FALSE)","v":{"$error":"#REF!"}},{"$f":"VLOOKUP($B321,#REF!,3,FALSE)","v":{"$error":"#REF!"}},{"$f":"VLOOKUP($B321,#REF!,5,FALSE)","v":{"$error":"#REF!"}},{"$f":"VLOOKUP($B321,#REF!,6,FALSE)","v":{"$error":"#REF!"}},"-",{"$error":"#REF!"},null,{"$f":"VLOOKUP($B321,#REF!,13,FALSE)","v":{"$error":"#REF!"}},{"$f":"VLOOKUP($B321,#REF!,10,FALSE)","v":{"$error":"#REF!"}},{"$f":"VLOOKUP($B321,#REF!,17,FALSE)","v":{"$error":"#REF!"}},{"$f":"IFERROR(VLOOKUP($B321,#REF!,2,FALSE),\"-\")","v":"-"}]
[null,319,{"$f":"VLOOKUP($B322,#REF!,2,FALSE)","v":{"$error":"#REF!"}},{"$f":"VLOOKUP($B322,#REF!,3,FALSE)","v":{"$error":"#REF!"}},{"$f":"VLOOKUP($B322,#REF!,5,FALSE)","v":{"$error":"#REF!"}},{"$f":"VLOOKUP($B322,#REF!,6,FALSE)","v":{"$error":"#REF!"}},"-",{"$error":"#REF!"},null,{"$f":"VLOOKUP($B322,#REF!,13,FALSE)","v":{"$error":"#REF!"}},{"$f":"VLOOKUP($B322,#REF!,10,FALSE)","v":{"$error":"#REF!"}},{"$f":"VLOOKUP($B322,#REF!,17,FALSE)","v":{"$error":"#REF!"}},{"$f":"IFERROR(VLOOKUP($B322,#REF!,2,FALSE),\"-\")","v":"-"}]
[null,320,{"$f":"VLOOKUP($B323,#REF!,2,FALSE)","v":{"$error":"#REF!"}},{"$f":"VLOOKUP($B323,#REF!,3,FALSE)","v":{"$error":"#REF!"}},{"$f":"VLOOKUP($B323,#REF!,5,FALSE)","v":{"$error":"#REF!"}},{"$f":"VLOOKUP($B323,#REF!,6,FALSE)","v":{"$error":"#REF!"}},"-",{"$error":"#REF!"},null,{"$f":"VLOOKUP($B323,#REF!,13,FALSE)","v":{"$error":"#REF!"}},{"$f":"VLOOKUP($B323,#REF!,10,FALSE)","v":{"$error":"#REF!"}},{"$f":"VLOOKUP($B323,#REF!,17,FALSE)","v":{"$error":"#REF!"}},{"$f":"IFERROR(VLOOKUP($B323,#REF!,2,FALSE),\"-\")","v":"-"}]
[null,321,{"$f":"VLOOKUP($B324,#REF!,2,FALSE)","v":{"$error":"#REF!"}},{"$f":"VLOOKUP($B324,#REF!,3,FALSE)","v":{"$error":"#REF!"}},{"$f":"VLOOKUP($B324,#REF!,5,FALSE)","v":{"$error":"#REF!"}},{"$f":"VLOOKUP($B324,#REF!,6,FALSE)","v":{"$error":"#REF!"}},{"$f":"IF(M324=1,\"欠席\",IF(M324=9,\"空ﾚｰﾝ\",\"-\"))","v":"-"},{"$error":"#REF!"},null,{"$f":"VLOOKUP($B324,#REF!,13,FALSE)","v":{"$error":"#REF!"}},{"$f":"VLOOKUP($B324,#REF!,10,FALSE)","v":{"$error":"#REF!"}},{"$f":"VLOOKUP($B324,#REF!,17,FALSE)","v":{"$error":"#REF!"}},{"$f":"IFERROR(VLOOKUP($B324,#REF!,2,FALSE),\"-\")","v":"-"}]
[null,322,{"$f":"VLOOKUP($B325,#REF!,2,FALSE)","v":{"$error":"#REF!"}},{"$f":"VLOOKUP($B325,#REF!,3,FALSE)","v":{"$error":"#REF!"}},{"$f":"VLOOKUP($B325,#REF!,5,FALSE)","v":{"$error":"#REF!"}},{"$f":"VLOOKUP($B325,#REF!,6,FALSE)","v":{"$error":"#REF!"}},"-",{"$f":"+C325","v":{"$error":"#REF!"}},null,{"$f":"VLOOKUP($B325,#REF!,13,FALSE)","v":{"$error":"#REF!"}},{"$f":"VLOOKUP($B325,#REF!,10,FALSE)","v":{"$error":"#REF!"}},{"$f":"VLOOKUP($B325,#REF!,17,FALSE)","v":{"$error":"#REF!"}},{"$f":"IFERROR(VLOOKUP($B325,#REF!,2,FALSE),\"-\")","v":"-"}]
[null,323,{"$f":"VLOOKUP($B326,#REF!,2,FALSE)","v":{"$error":"#REF!"}},{"$f":"VLOOKUP($B326,#REF!,3,FALSE)","v":{"$error":"#REF!"}},{"$f":"VLOOKUP($B326,#REF!,5,FALSE)","v":{"$error":"#REF!"}},{"$f":"VLOOKUP($B326,#REF!,6,FALSE)","v":{"$error":"#REF!"}},"-",{"$error":"#REF!"},null,{"$f":"VLOOKUP($B326,#REF!,13,FALSE)","v":{"$error":"#REF!"}},{"$f":"VLOOKUP($B326,#REF!,10,FALSE)","v":{"$error":"#REF!"}},{"$f":"VLOOKUP($B326,#REF!,17,FALSE)","v":{"$error":"#REF!"}},{"$f":"IFERROR(VLOOKUP($B326,#REF!,2,FALSE),\"-\")","v":"-"}]
[null,324,{"$f":"VLOOKUP($B327,#REF!,2,FALSE)","v":{"$error":"#REF!"}},{"$f":"VLOOKUP($B327,#REF!,3,FALSE)","v":{"$error":"#REF!"}},{"$f":"VLOOKUP($B327,#REF!,5,FALSE)","v":{"$error":"#REF!"}},{"$f":"VLOOKUP($B327,#REF!,6,FALSE)","v":{"$error":"#REF!"}},"-",{"$error":"#REF!"},null,{"$f":"VLOOKUP($B327,#REF!,13,FALSE)","v":{"$error":"#REF!"}},{"$f":"VLOOKUP($B327,#REF!,10,FALSE)","v":{"$error":"#REF!"}},{"$f":"VLOOKUP($B327,#REF!,17,FALSE)","v":{"$error":"#REF!"}},{"$f":"IFERROR(VLOOKUP($B327,#REF!,2,FALSE),\"-\")","v":"-"}]
[null,325,{"$f":"VLOOKUP($B328,#REF!,2,FALSE)","v":{"$error":"#REF!"}},{"$f":"VLOOKUP($B328,#REF!,3,FALSE)","v":{"$error":"#REF!"}},{"$f":"VLOOKUP($B328,#REF!,5,FALSE)","v":{"$error":"#REF!"}},{"$f":"VLOOKUP($B328,#REF!,6,FALSE)","v":{"$error":"#REF!"}},"-",{"$error":"#REF!"},null,{"$f":"VLOOKUP($B328,#REF!,13,FALSE)","v":{"$error":"#REF!"}},{"$f":"VLOOKUP($B328,#REF!,10,FALSE)","v":{"$error":"#REF!"}},{"$f":"VLOOKUP($B328,#REF!,17,FALSE)","v":{"$error":"#REF!"}},{"$f":"IFERROR(VLOOKUP($B328,#REF!,2,FALSE),\"-\")","v":"-"}]
[null,326,{"$f":"VLOOKUP($B329,#REF!,2,FALSE)","v":{"$error":"#REF!"}},{"$f":"VLOOKUP($B329,#REF!,3,FALSE)","v":{"$error":"#REF!"}},{"$f":"VLOOKUP($B329,#REF!,5,FALSE)","v":{"$error":"#REF!"}},{"$f":"VLOOKUP($B329,#REF!,6,FALSE)","v":{"$error":"#REF!"}},"-",{"$error":"#REF!"},null,{"$f":"VLOOKUP($B329,#REF!,13,FALSE)","v":{"$error":"#REF!"}},{"$f":"VLOOKUP($B329,#REF!,10,FALSE)","v":{"$error":"#REF!"}},{"$f":"VLOOKUP($B329,#REF!,17,FALSE)","v":{"$error":"#REF!"}},{"$f":"IFERROR(VLOOKUP($B329,#REF!,2,FALSE),\"-\")","v":"-"}]
[null,327,{"$f":"VLOOKUP($B330,#REF!,2,FALSE)","v":{"$error":"#REF!"}},{"$f":"VLOOKUP($B330,#REF!,3,FALSE)","v":{"$error":"#REF!"}},{"$f":"VLOOKUP($B330,#REF!,5,FALSE)","v":{"$error":"#REF!"}},{"$f":"VLOOKUP($B330,#REF!,6,FALSE)","v":{"$error":"#REF!"}},"-",{"$error":"#REF!"},null,{"$f":"VLOOKUP($B330,#REF!,13,FALSE)","v":{"$error":"#REF!"}},{"$f":"VLOOKUP($B330,#REF!,10,FALSE)","v":{"$error":"#REF!"}},{"$f":"VLOOKUP($B330,#REF!,17,FALSE)","v":{"$error":"#REF!"}},{"$f":"IFERROR(VLOOKUP($B330,#REF!,2,FALSE),\"-\")","v":"-"}]
[null,328,{"$f":"VLOOKUP($B331,#REF!,2,FALSE)","v":{"$error":"#REF!"}},{"$f":"VLOOKUP($B331,#REF!,3,FALSE)","v":{"$error":"#REF!"}},{"$f":"VLOOKUP($B331,#REF!,5,FALSE)","v":{"$error":"#REF!"}},{"$f":"VLOOKUP($B331,#REF!,6,FALSE)","v":{"$error":"#REF!"}},"-",{"$error":"#REF!"},null,{"$f":"VLOOKUP($B331,#REF!,13,FALSE)","v":{"$error":"#REF!"}},{"$f":"VLOOKUP($B331,#REF!,10,FALSE)","v":{"$error":"#REF!"}},{"$f":"VLOOKUP($B331,#REF!,17,FALSE)","v":{"$error":"#REF!"}},{"$f":"IFERROR(VLOOKUP($B331,#REF!,2,FALSE),\"-\")","v":"-"}]
[null,329,{"$f":"VLOOKUP($B332,#REF!,2,FALSE)","v":{"$error":"#REF!"}},{"$f":"VLOOKUP($B332,#REF!,3,FALSE)","v":{"$error":"#REF!"}},{"$f":"VLOOKUP($B332,#REF!,5,FALSE)","v":{"$error":"#REF!"}},{"$f":"VLOOKUP($B332,#REF!,6,FALSE)","v":{"$error":"#REF!"}},"-",{"$error":"#REF!"},null,{"$f":"VLOOKUP($B332,#REF!,13,FALSE)","v":{"$error":"#REF!"}},{"$f":"VLOOKUP($B332,#REF!,10,FALSE)","v":{"$error":"#REF!"}},{"$f":"VLOOKUP($B332,#REF!,17,FALSE)","v":{"$error":"#REF!"}},{"$f":"IFERROR(VLOOKUP($B332,#REF!,2,FALSE),\"-\")","v":"-"}]
[null,330,{"$f":"VLOOKUP($B333,#REF!,2,FALSE)","v":{"$error":"#REF!"}},{"$f":"VLOOKUP($B333,#REF!,3,FALSE)","v":{"$error":"#REF!"}},{"$f":"VLOOKUP($B333,#REF!,5,FALSE)","v":{"$error":"#REF!"}},{"$f":"VLOOKUP($B333,#REF!,6,FALSE)","v":{"$error":"#REF!"}},"-",{"$error":"#REF!"},null,{"$f":"VLOOKUP($B333,#REF!,13,FALSE)","v":{"$error":"#REF!"}},{"$f":"VLOOKUP($B333,#REF!,10,FALSE)","v":{"$error":"#REF!"}},{"$f":"VLOOKUP($B333,#REF!,17,FALSE)","v":{"$error":"#REF!"}},{"$f":"IFERROR(VLOOKUP($B333,#REF!,2,FALSE),\"-\")","v":"-"}]
[null,331,{"$f":"VLOOKUP($B334,#REF!,2,FALSE)","v":{"$error":"#REF!"}},{"$f":"VLOOKUP($B334,#REF!,3,FALSE)","v":{"$error":"#REF!"}},{"$f":"VLOOKUP($B334,#REF!,5,FALSE)","v":{"$error":"#REF!"}},{"$f":"VLOOKUP($B334,#REF!,6,FALSE)","v":{"$error":"#REF!"}},"-",{"$error":"#REF!"},null,{"$f":"VLOOKUP($B334,#REF!,13,FALSE)","v":{"$error":"#REF!"}},{"$f":"VLOOKUP($B334,#REF!,10,FALSE)","v":{"$error":"#REF!"}},{"$f":"VLOOKUP($B334,#REF!,17,FALSE)","v":{"$error":"#REF!"}},{"$f":"IFERROR(VLOOKUP($B334,#REF!,2,FALSE),\"-\")","v":"-"}]
[null,332,{"$f":"VLOOKUP($B335,#REF!,2,FALSE)","v":{"$error":"#REF!"}},{"$f":"VLOOKUP($B335,#REF!,3,FALSE)","v":{"$error":"#REF!"}},{"$f":"VLOOKUP($B335,#REF!,5,FALSE)","v":{"$error":"#REF!"}},{"$f":"VLOOKUP($B335,#REF!,6,FALSE)","v":{"$error":"#REF!"}},"-",{"$error":"#REF!"},null,{"$f":"VLOOKUP($B335,#REF!,13,FALSE)","v":{"$error":"#REF!"}},{"$f":"VLOOKUP($B335,#REF!,10,FALSE)","v":{"$error":"#REF!"}},{"$f":"VLOOKUP($B335,#REF!,17,FALSE)","v":{"$error":"#REF!"}},{"$f":"IFERROR(VLOOKUP($B335,#REF!,2,FALSE),\"-\")","v":"-"}]
[null,333,{"$f":"VLOOKUP($B336,#REF!,2,FALSE)","v":{"$error":"#REF!"}},{"$f":"VLOOKUP($B336,#REF!,3,FALSE)","v":{"$error":"#REF!"}},{"$f":"VLOOKUP($B336,#REF!,5,FALSE)","v":{"$error":"#REF!"}},{"$f":"VLOOKUP($B336,#REF!,6,FALSE)","v":{"$error":"#REF!"}},"-",{"$error":"#REF!"},null,{"$f":"VLOOKUP($B336,#REF!,13,FALSE)","v":{"$error":"#REF!"}},{"$f":"VLOOKUP($B336,#REF!,10,FALSE)","v":{"$error":"#REF!"}},{"$f":"VLOOKUP($B336,#REF!,17,FALSE)","v":{"$error":"#REF!"}},{"$f":"IFERROR(VLOOKUP($B336,#REF!,2,FALSE),\"-\")","v":"-"}]
[null,334,{"$f":"VLOOKUP($B337,#REF!,2,FALSE)","v":{"$error":"#REF!"}},{"$f":"VLOOKUP($B337,#REF!,3,FALSE)","v":{"$error":"#REF!"}},{"$f":"VLOOKUP($B337,#REF!,5,FALSE)","v":{"$error":"#REF!"}},{"$f":"VLOOKUP($B337,#REF!,6,FALSE)","v":{"$error":"#REF!"}},"-",{"$error":"#REF!"},null,{"$f":"VLOOKUP($B337,#REF!,13,FALSE)","v":{"$error":"#REF!"}},{"$f":"VLOOKUP($B337,#REF!,10,FALSE)","v":{"$error":"#REF!"}},{"$f":"VLOOKUP($B337,#REF!,17,FALSE)","v":{"$error":"#REF!"}},{"$f":"IFERROR(VLOOKUP($B337,#REF!,2,FALSE),\"-\")","v":"-"}]
[null,335,{"$f":"VLOOKUP($B338,#REF!,2,FALSE)","v":{"$error":"#REF!"}},{"$f":"VLOOKUP($B338,#REF!,3,FALSE)","v":{"$error":"#REF!"}},{"$f":"VLOOKUP($B338,#REF!,5,FALSE)","v":{"$error":"#REF!"}},{"$f":"VLOOKUP($B338,#REF!,6,FALSE)","v":{"$error":"#REF!"}},"-",{"$error":"#REF!"},null,{"$f":"VLOOKUP($B338,#REF!,13,FALSE)","v":{"$error":"#REF!"}},{"$f":"VLOOKUP($B338,#REF!,10,FALSE)","v":{"$error":"#REF!"}},{"$f":"VLOOKUP($B338,#REF!,17,FALSE)","v":{"$error":"#REF!"}},{"$f":"IFERROR(VLOOKUP($B338,#REF!,2,FALSE),\"-\")","v":"-"}]
[null,336,{"$f":"VLOOKUP($B339,#REF!,2,FALSE)","v":{"$error":"#REF!"}},{"$f":"VLOOKUP($B339,#REF!,3,FALSE)","v":{"$error":"#REF!"}},{"$f":"VLOOKUP($B339,#REF!,5,FALSE)","v":{"$error":"#REF!"}},{"$f":"VLOOKUP($B339,#REF!,6,FALSE)","v":{"$error":"#REF!"}},"-",{"$error":"#REF!"},null,{"$f":"VLOOKUP($B339,#REF!,13,FALSE)","v":{"$error":"#REF!"}},{"$f":"VLOOKUP($B339,#REF!,10,FALSE)","v":{"$error":"#REF!"}},{"$f":"VLOOKUP($B339,#REF!,17,FALSE)","v":{"$error":"#REF!"}},{"$f":"IFERROR(VLOOKUP($B339,#REF!,2,FALSE),\"-\")","v":"-"}]
[null,337,{"$f":"VLOOKUP($B340,#REF!,2,FALSE)","v":{"$error":"#REF!"}},{"$f":"VLOOKUP($B340,#REF!,3,FALSE)","v":{"$error":"#REF!"}},{"$f":"VLOOKUP($B340,#REF!,5,FALSE)","v":{"$error":"#REF!"}},{"$f":"VLOOKUP($B340,#REF!,6,FALSE)","v":{"$error":"#REF!"}},"-",{"$error":"#REF!"},null,{"$f":"VLOOKUP($B340,#REF!,13,FALSE)","v":{"$error":"#REF!"}},{"$f":"VLOOKUP($B340,#REF!,10,FALSE)","v":{"$error":"#REF!"}},{"$f":"VLOOKUP($B340,#REF!,17,FALSE)","v":{"$error":"#REF!"}},{"$f":"IFERROR(VLOOKUP($B340,#REF!,2,FALSE),\"-\")","v":"-"}]
[null,338,{"$f":"VLOOKUP($B341,#REF!,2,FALSE)","v":{"$error":"#REF!"}},{"$f":"VLOOKUP($B341,#REF!,3,FALSE)","v":{"$error":"#REF!"}},{"$f":"VLOOKUP($B341,#REF!,5,FALSE)","v":{"$error":"#REF!"}},{"$f":"VLOOKUP($B341,#REF!,6,FALSE)","v":{"$error":"#REF!"}},"-",{"$error":"#REF!"},null,{"$f":"VLOOKUP($B341,#REF!,13,FALSE)","v":{"$error":"#REF!"}},{"$f":"VLOOKUP($B341,#REF!,10,FALSE)","v":{"$error":"#REF!"}},{"$f":"VLOOKUP($B341,#REF!,17,FALSE)","v":{"$error":"#REF!"}},{"$f":"IFERROR(VLOOKUP($B341,#REF!,2,FALSE),\"-\")","v":"-"}]
[null,339,{"$f":"VLOOKUP($B342,#REF!,2,FALSE)","v":{"$error":"#REF!"}},{"$f":"VLOOKUP($B342,#REF!,3,FALSE)","v":{"$error":"#REF!"}},{"$f":"VLOOKUP($B342,#REF!,5,FALSE)","v":{"$error":"#REF!"}},{"$f":"VLOOKUP($B342,#REF!,6,FALSE)","v":{"$error":"#REF!"}},"-",{"$error":"#REF!"},null,{"$f":"VLOOKUP($B342,#REF!,13,FALSE)","v":{"$error":"#REF!"}},{"$f":"VLOOKUP($B342,#REF!,10,FALSE)","v":{"$error":"#REF!"}},{"$f":"VLOOKUP($B342,#REF!,17,FALSE)","v":{"$error":"#REF!"}},{"$f":"IFERROR(VLOOKUP($B342,#REF!,2,FALSE),\"-\")","v":"-"}]
[null,340,{"$f":"VLOOKUP($B343,#REF!,2,FALSE)","v":{"$error":"#REF!"}},{"$f":"VLOOKUP($B343,#REF!,3,FALSE)","v":{"$error":"#REF!"}},{"$f":"VLOOKUP($B343,#REF!,5,FALSE)","v":{"$error":"#REF!"}},{"$f":"VLOOKUP($B343,#REF!,6,FALSE)","v":{"$error":"#REF!"}},"-",{"$error":"#REF!"},null,{"$f":"VLOOKUP($B343,#REF!,13,FALSE)","v":{"$error":"#REF!"}},{"$f":"VLOOKUP($B343,#REF!,10,FALSE)","v":{"$error":"#REF!"}},{"$f":"VLOOKUP($B343,#REF!,17,FALSE)","v":{"$error":"#REF!"}},{"$f":"IFERROR(VLOOKUP($B343,#REF!,2,FALSE),\"-\")","v":"-"}]
[null,341,{"$f":"VLOOKUP($B344,#REF!,2,FALSE)","v":{"$error":"#REF!"}},{"$f":"VLOOKUP($B344,#REF!,3,FALSE)","v":{"$error":"#REF!"}},{"$f":"VLOOKUP($B344,#REF!,5,FALSE)","v":{"$error":"#REF!"}},{"$f":"VLOOKUP($B344,#REF!,6,FALSE)","v":{"$error":"#REF!"}},"-",{"$error":"#REF!"},null,{"$f":"VLOOKUP($B344,#REF!,13,FALSE)","v":{"$error":"#REF!"}},{"$f":"VLOOKUP($B344,#REF!,10,FALSE)","v":{"$error":"#REF!"}},{"$f":"VLOOKUP($B344,#REF!,17,FALSE)","v":{"$error":"#REF!"}},{"$f":"IFERROR(VLOOKUP($B344,#REF!,2,FALSE),\"-\")","v":"-"}]
[null,342,{"$f":"VLOOKUP($B345,#REF!,2,FALSE)","v":{"$error":"#REF!"}},{"$f":"VLOOKUP($B345,#REF!,3,FALSE)","v":{"$error":"#REF!"}},{"$f":"VLOOKUP($B345,#REF!,5,FALSE)","v":{"$error":"#REF!"}},{"$f":"VLOOKUP($B345,#REF!,6,FALSE)","v":{"$error":"#REF!"}},"-",{"$error":"#REF!"},null,{"$f":"VLOOKUP($B345,#REF!,13,FALSE)","v":{"$error":"#REF!"}},{"$f":"VLOOKUP($B345,#REF!,10,FALSE)","v":{"$error":"#REF!"}},{"$f":"VLOOKUP($B345,#REF!,17,FALSE)","v":{"$error":"#REF!"}},{"$f":"IFERROR(VLOOKUP($B345,#REF!,2,FALSE),\"-\")","v":"-"}]
[null,343,{"$f":"VLOOKUP($B346,#REF!,2,FALSE)","v":{"$error":"#REF!"}},{"$f":"VLOOKUP($B346,#REF!,3,FALSE)","v":{"$error":"#REF!"}},{"$f":"VLOOKUP($B346,#REF!,5,FALSE)","v":{"$error":"#REF!"}},{"$f":"VLOOKUP($B346,#REF!,6,FALSE)","v":{"$error":"#REF!"}},"-",{"$error":"#REF!"},null,{"$f":"VLOOKUP($B346,#REF!,13,FALSE)","v":{"$error":"#REF!"}},{"$f":"VLOOKUP($B346,#REF!,10,FALSE)","v":{"$error":"#REF!"}},{"$f":"VLOOKUP($B346,#REF!,17,FALSE)","v":{"$error":"#REF!"}},{"$f":"IFERROR(VLOOKUP($B346,#REF!,2,FALSE),\"-\")","v":"-"}]
[null,344,{"$f":"VLOOKUP($B347,#REF!,2,FALSE)","v":{"$error":"#REF!"}},{"$f":"VLOOKUP($B347,#REF!,3,FALSE)","v":{"$error":"#REF!"}},{"$f":"VLOOKUP($B347,#REF!,5,FALSE)","v":{"$error":"#REF!"}},{"$f":"VLOOKUP($B347,#REF!,6,FALSE)","v":{"$error":"#REF!"}},"-",{"$error":"#REF!"},null,{"$f":"VLOOKUP($B347,#REF!,13,FALSE)","v":{"$error":"#REF!"}},{"$f":"VLOOKUP($B347,#REF!,10,FALSE)","v":{"$error":"#REF!"}},{"$f":"VLOOKUP($B347,#REF!,17,FALSE)","v":{"$error":"#REF!"}},{"$f":"IFERROR(VLOOKUP($B347,#REF!,2,FALSE),\"-\")","v":"-"}]
[null,345,{"$f":"VLOOKUP($B348,#REF!,2,FALSE)","v":{"$error":"#REF!"}},{"$f":"VLOOKUP($B348,#REF!,3,FALSE)","v":{"$error":"#REF!"}},{"$f":"VLOOKUP($B348,#REF!,5,FALSE)","v":{"$error":"#REF!"}},{"$f":"VLOOKUP($B348,#REF!,6,FALSE)","v":{"$error":"#REF!"}},"-",{"$error":"#REF!"},null,{"$f":"VLOOKUP($B348,#REF!,13,FALSE)","v":{"$error":"#REF!"}},{"$f":"VLOOKUP($B348,#REF!,10,FALSE)","v":{"$error":"#REF!"}},{"$f":"VLOOKUP($B348,#REF!,17,FALSE)","v":{"$error":"#REF!"}},{"$f":"IFERROR(VLOOKUP($B348,#REF!,2,FALSE),\"-\")","v":"-"}]
[null,346,{"$f":"VLOOKUP($B349,#REF!,2,FALSE)","v":{"$error":"#REF!"}},{"$f":"VLOOKUP($B349,#REF!,3,FALSE)","v":{"$error":"#REF!"}},{"$f":"VLOOKUP($B349,#REF!,5,FALSE)","v":{"$error":"#REF!"}},{"$f":"VLOOKUP($B349,#REF!,6,FALSE)","v":{"$error":"#REF!"}},"-",{"$error":"#REF!"},null,{"$f":"VLOOKUP($B349,#REF!,13,FALSE)","v":{"$error":"#REF!"}},{"$f":"VLOOKUP($B349,#REF!,10,FALSE)","v":{"$error":"#REF!"}},{"$f":"VLOOKUP($B349,#REF!,17,FALSE)","v":{"$error":"#REF!"}},{"$f":"IFERROR(VLOOKUP($B349,#REF!,2,FALSE),\"-\")","v":"-"}]
[null,347,{"$f":"VLOOKUP($B350,#REF!,2,FALSE)","v":{"$error":"#REF!"}},{"$f":"VLOOKUP($B350,#REF!,3,FALSE)","v":{"$error":"#REF!"}},{"$f":"VLOOKUP($B350,#REF!,5,FALSE)","v":{"$error":"#REF!"}},{"$f":"VLOOKUP($B350,#REF!,6,FALSE)","v":{"$error":"#REF!"}},"-",{"$error":"#REF!"},null,{"$f":"VLOOKUP($B350,#REF!,13,FALSE)","v":{"$error":"#REF!"}},{"$f":"VLOOKUP($B350,#REF!,10,FALSE)","v":{"$error":"#REF!"}},{"$f":"VLOOKUP($B350,#REF!,17,FALSE)","v":{"$error":"#REF!"}},{"$f":"IFERROR(VLOOKUP($B350,#REF!,2,FALSE),\"-\")","v":"-"}]
[null,348,{"$f":"VLOOKUP($B351,#REF!,2,FALSE)","v":{"$error":"#REF!"}},{"$f":"VLOOKUP($B351,#REF!,3,FALSE)","v":{"$error":"#REF!"}},{"$f":"VLOOKUP($B351,#REF!,5,FALSE)","v":{"$error":"#REF!"}},{"$f":"VLOOKUP($B351,#REF!,6,FALSE)","v":{"$error":"#REF!"}},"-",{"$error":"#REF!"},null,{"$f":"VLOOKUP($B351,#REF!,13,FALSE)","v":{"$error":"#REF!"}},{"$f":"VLOOKUP($B351,#REF!,10,FALSE)","v":{"$error":"#REF!"}},{"$f":"VLOOKUP($B351,#REF!,17,FALSE)","v":{"$error":"#REF!"}},{"$f":"IFERROR(VLOOKUP($B351,#REF!,2,FALSE),\"-\")","v":"-"}]
[null,349,{"$f":"VLOOKUP($B352,#REF!,2,FALSE)","v":{"$error":"#REF!"}},{"$f":"VLOOKUP($B352,#REF!,3,FALSE)","v":{"$error":"#REF!"}},{"$f":"VLOOKUP($B352,#REF!,5,FALSE)","v":{"$error":"#REF!"}},{"$f":"VLOOKUP($B352,#REF!,6,FALSE)","v":{"$error":"#REF!"}},"-",{"$error":"#REF!"},null,{"$f":"VLOOKUP($B352,#REF!,13,FALSE)","v":{"$error":"#REF!"}},{"$f":"VLOOKUP($B352,#REF!,10,FALSE)","v":{"$error":"#REF!"}},{"$f":"VLOOKUP($B352,#REF!,17,FALSE)","v":{"$error":"#REF!"}},{"$f":"IFERROR(VLOOKUP($B352,#REF!,2,FALSE),\"-\")","v":"-"}]
[null,350,{"$f":"VLOOKUP($B353,#REF!,2,FALSE)","v":{"$error":"#REF!"}},{"$f":"VLOOKUP($B353,#REF!,3,FALSE)","v":{"$error":"#REF!"}},{"$f":"VLOOKUP($B353,#REF!,5,FALSE)","v":{"$error":"#REF!"}},{"$f":"VLOOKUP($B353,#REF!,6,FALSE)","v":{"$error":"#REF!"}},"-",{"$error":"#REF!"},null,{"$f":"VLOOKUP($B353,#REF!,13,FALSE)","v":{"$error":"#REF!"}},{"$f":"VLOOKUP($B353,#REF!,10,FALSE)","v":{"$error":"#REF!"}},{"$f":"VLOOKUP($B353,#REF!,17,FALSE)","v":{"$error":"#REF!"}},{"$f":"IFERROR(VLOOKUP($B353,#REF!,2,FALSE),\"-\")","v":"-"}]
[null,351,{"$f":"VLOOKUP($B354,#REF!,2,FALSE)","v":{"$error":"#REF!"}},{"$f":"VLOOKUP($B354,#REF!,3,FALSE)","v":{"$error":"#REF!"}},{"$f":"VLOOKUP($B354,#REF!,5,FALSE)","v":{"$error":"#REF!"}},{"$f":"VLOOKUP($B354,#REF!,6,FALSE)","v":{"$error":"#REF!"}},"-",{"$error":"#REF!"},null,{"$f":"VLOOKUP($B354,#REF!,13,FALSE)","v":{"$error":"#REF!"}},{"$f":"VLOOKUP($B354,#REF!,10,FALSE)","v":{"$error":"#REF!"}},{"$f":"VLOOKUP($B354,#REF!,17,FALSE)","v":{"$error":"#REF!"}},{"$f":"IFERROR(VLOOKUP($B354,#REF!,2,FALSE),\"-\")","v":"-"}]
[null,352,{"$f":"VLOOKUP($B355,#REF!,2,FALSE)","v":{"$error":"#REF!"}},{"$f":"VLOOKUP($B355,#REF!,3,FALSE)","v":{"$error":"#REF!"}},{"$f":"VLOOKUP($B355,#REF!,5,FALSE)","v":{"$error":"#REF!"}},{"$f":"VLOOKUP($B355,#REF!,6,FALSE)","v":{"$error":"#REF!"}},"-",{"$error":"#REF!"},null,{"$f":"VLOOKUP($B355,#REF!,13,FALSE)","v":{"$error":"#REF!"}},{"$f":"VLOOKUP($B355,#REF!,10,FALSE)","v":{"$error":"#REF!"}},{"$f":"VLOOKUP($B355,#REF!,17,FALSE)","v":{"$error":"#REF!"}},{"$f":"IFERROR(VLOOKUP($B355,#REF!,2,FALSE),\"-\")","v":"-"}]
[null,353,{"$f":"VLOOKUP($B356,#REF!,2,FALSE)","v":{"$error":"#REF!"}},{"$f":"VLOOKUP($B356,#REF!,3,FALSE)","v":{"$error":"#REF!"}},{"$f":"VLOOKUP($B356,#REF!,5,FALSE)","v":{"$error":"#REF!"}},{"$f":"VLOOKUP($B356,#REF!,6,FALSE)","v":{"$error":"#REF!"}},"-",{"$error":"#REF!"},null,{"$f":"VLOOKUP($B356,#REF!,13,FALSE)","v":{"$error":"#REF!"}},{"$f":"VLOOKUP($B356,#REF!,10,FALSE)","v":{"$error":"#REF!"}},{"$f":"VLOOKUP($B356,#REF!,17,FALSE)","v":{"$error":"#REF!"}},{"$f":"IFERROR(VLOOKUP($B356,#REF!,2,FALSE),\"-\")","v":"-"}]
[null,354,{"$f":"VLOOKUP($B357,#REF!,2,FALSE)","v":{"$error":"#REF!"}},{"$f":"VLOOKUP($B357,#REF!,3,FALSE)","v":{"$error":"#REF!"}},{"$f":"VLOOKUP($B357,#REF!,5,FALSE)","v":{"$error":"#REF!"}},{"$f":"VLOOKUP($B357,#REF!,6,FALSE)","v":{"$error":"#REF!"}},"-",{"$error":"#REF!"},null,{"$f":"VLOOKUP($B357,#REF!,13,FALSE)","v":{"$error":"#REF!"}},{"$f":"VLOOKUP($B357,#REF!,10,FALSE)","v":{"$error":"#REF!"}},{"$f":"VLOOKUP($B357,#REF!,17,FALSE)","v":{"$error":"#REF!"}},{"$f":"IFERROR(VLOOKUP($B357,#REF!,2,FALSE),\"-\")","v":"-"}]
[null,355,{"$f":"VLOOKUP($B358,#REF!,2,FALSE)","v":{"$error":"#REF!"}},{"$f":"VLOOKUP($B358,#REF!,3,FALSE)","v":{"$error":"#REF!"}},{"$f":"VLOOKUP($B358,#REF!,5,FALSE)","v":{"$error":"#REF!"}},{"$f":"VLOOKUP($B358,#REF!,6,FALSE)","v":{"$error":"#REF!"}},"-",{"$error":"#REF!"},null,{"$f":"VLOOKUP($B358,#REF!,13,FALSE)","v":{"$error":"#REF!"}},{"$f":"VLOOKUP($B358,#REF!,10,FALSE)","v":{"$error":"#REF!"}},{"$f":"VLOOKUP($B358,#REF!,17,FALSE)","v":{"$error":"#REF!"}},{"$f":"IFERROR(VLOOKUP($B358,#REF!,2,FALSE),\"-\")","v":"-"}]
[null,356,{"$f":"VLOOKUP($B359,#REF!,2,FALSE)","v":{"$error":"#REF!"}},{"$f":"VLOOKUP($B359,#REF!,3,FALSE)","v":{"$error":"#REF!"}},{"$f":"VLOOKUP($B359,#REF!,5,FALSE)","v":{"$error":"#REF!"}},{"$f":"VLOOKUP($B359,#REF!,6,FALSE)","v":{"$error":"#REF!"}},"-",{"$error":"#REF!"},null,{"$f":"VLOOKUP($B359,#REF!,13,FALSE)","v":{"$error":"#REF!"}},{"$f":"VLOOKUP($B359,#REF!,10,FALSE)","v":{"$error":"#REF!"}},{"$f":"VLOOKUP($B359,#REF!,17,FALSE)","v":{"$error":"#REF!"}},{"$f":"IFERROR(VLOOKUP($B359,#REF!,2,FALSE),\"-\")","v":"-"}]
[null,357,{"$f":"VLOOKUP($B360,#REF!,2,FALSE)","v":{"$error":"#REF!"}},{"$f":"VLOOKUP($B360,#REF!,3,FALSE)","v":{"$error":"#REF!"}},{"$f":"VLOOKUP($B360,#REF!,5,FALSE)","v":{"$error":"#REF!"}},{"$f":"VLOOKUP($B360,#REF!,6,FALSE)","v":{"$error":"#REF!"}},"-",{"$error":"#REF!"},null,{"$f":"VLOOKUP($B360,#REF!,13,FALSE)","v":{"$error":"#REF!"}},{"$f":"VLOOKUP($B360,#REF!,10,FALSE)","v":{"$error":"#REF!"}},{"$f":"VLOOKUP($B360,#REF!,17,FALSE)","v":{"$error":"#REF!"}},{"$f":"IFERROR(VLOOKUP($B360,#REF!,2,FALSE),\"-\")","v":"-"}]
[null,358,{"$f":"VLOOKUP($B361,#REF!,2,FALSE)","v":{"$error":"#REF!"}},{"$f":"VLOOKUP($B361,#REF!,3,FALSE)","v":{"$error":"#REF!"}},{"$f":"VLOOKUP($B361,#REF!,5,FALSE)","v":{"$error":"#REF!"}},{"$f":"VLOOKUP($B361,#REF!,6,FALSE)","v":{"$error":"#REF!"}},"-",{"$error":"#REF!"},null,{"$f":"VLOOKUP($B361,#REF!,13,FALSE)","v":{"$error":"#REF!"}},{"$f":"VLOOKUP($B361,#REF!,10,FALSE)","v":{"$error":"#REF!"}},{"$f":"VLOOKUP($B361,#REF!,17,FALSE)","v":{"$error":"#REF!"}},{"$f":"IFERROR(VLOOKUP($B361,#REF!,2,FALSE),\"-\")","v":"-"}]
[null,359,{"$f":"VLOOKUP($B362,#REF!,2,FALSE)","v":{"$error":"#REF!"}},{"$f":"VLOOKUP($B362,#REF!,3,FALSE)","v":{"$error":"#REF!"}},{"$f":"VLOOKUP($B362,#REF!,5,FALSE)","v":{"$error":"#REF!"}},{"$f":"VLOOKUP($B362,#REF!,6,FALSE)","v":{"$error":"#REF!"}},"-",{"$error":"#REF!"},null,{"$f":"VLOOKUP($B362,#REF!,13,FALSE)","v":{"$error":"#REF!"}},{"$f":"VLOOKUP($B362,#REF!,10,FALSE)","v":{"$error":"#REF!"}},{"$f":"VLOOKUP($B362,#REF!,17,FALSE)","v":{"$error":"#REF!"}},{"$f":"IFERROR(VLOOKUP($B362,#REF!,2,FALSE),\"-\")","v":"-"}]
[null,360,{"$f":"VLOOKUP($B363,#REF!,2,FALSE)","v":{"$error":"#REF!"}},{"$f":"VLOOKUP($B363,#REF!,3,FALSE)","v":{"$error":"#REF!"}},{"$f":"VLOOKUP($B363,#REF!,5,FALSE)","v":{"$error":"#REF!"}},{"$f":"VLOOKUP($B363,#REF!,6,FALSE)","v":{"$error":"#REF!"}},"-",{"$error":"#REF!"},null,{"$f":"VLOOKUP($B363,#REF!,13,FALSE)","v":{"$error":"#REF!"}},{"$f":"VLOOKUP($B363,#REF!,10,FALSE)","v":{"$error":"#REF!"}},{"$f":"VLOOKUP($B363,#REF!,17,FALSE)","v":{"$error":"#REF!"}},{"$f":"IFERROR(VLOOKUP($B363,#REF!,2,FALSE),\"-\")","v":"-"}]
[null,361,{"$f":"VLOOKUP($B364,#REF!,2,FALSE)","v":{"$error":"#REF!"}},{"$f":"VLOOKUP($B364,#REF!,3,FALSE)","v":{"$error":"#REF!"}},{"$f":"VLOOKUP($B364,#REF!,5,FALSE)","v":{"$error":"#REF!"}},{"$f":"VLOOKUP($B364,#REF!,6,FALSE)","v":{"$error":"#REF!"}},"-",{"$error":"#REF!"},null,{"$f":"VLOOKUP($B364,#REF!,13,FALSE)","v":{"$error":"#REF!"}},{"$f":"VLOOKUP($B364,#REF!,10,FALSE)","v":{"$error":"#REF!"}},{"$f":"VLOOKUP($B364,#REF!,17,FALSE)","v":{"$error":"#REF!"}},{"$f":"IFERROR(VLOOKUP($B364,#REF!,2,FALSE),\"-\")","v":"-"}]
[null,362,{"$f":"VLOOKUP($B365,#REF!,2,FALSE)","v":{"$error":"#REF!"}},{"$f":"VLOOKUP($B365,#REF!,3,FALSE)","v":{"$error":"#REF!"}},{"$f":"VLOOKUP($B365,#REF!,5,FALSE)","v":{"$error":"#REF!"}},{"$f":"VLOOKUP($B365,#REF!,6,FALSE)","v":{"$error":"#REF!"}},"-",{"$error":"#REF!"},null,{"$f":"VLOOKUP($B365,#REF!,13,FALSE)","v":{"$error":"#REF!"}},{"$f":"VLOOKUP($B365,#REF!,10,FALSE)","v":{"$error":"#REF!"}},{"$f":"VLOOKUP($B365,#REF!,17,FALSE)","v":{"$error":"#REF!"}},{"$f":"IFERROR(VLOOKUP($B365,#REF!,2,FALSE),\"-\")","v":"-"}]
[null,363,{"$f":"VLOOKUP($B366,#REF!,2,FALSE)","v":{"$error":"#REF!"}},{"$f":"VLOOKUP($B366,#REF!,3,FALSE)","v":{"$error":"#REF!"}},{"$f":"VLOOKUP($B366,#REF!,5,FALSE)","v":{"$error":"#REF!"}},{"$f":"VLOOKUP($B366,#REF!,6,FALSE)","v":{"$error":"#REF!"}},"-",{"$error":"#REF!"},null,{"$f":"VLOOKUP($B366,#REF!,13,FALSE)","v":{"$error":"#REF!"}},{"$f":"VLOOKUP($B366,#REF!,10,FALSE)","v":{"$error":"#REF!"}},{"$f":"VLOOKUP($B366,#REF!,17,FALSE)","v":{"$error":"#REF!"}},{"$f":"IFERROR(VLOOKUP($B366,#REF!,2,FALSE),\"-\")","v":"-"}]
[null,364,{"$f":"VLOOKUP($B367,#REF!,2,FALSE)","v":{"$error":"#REF!"}},{"$f":"VLOOKUP($B367,#REF!,3,FALSE)","v":{"$error":"#REF!"}},{"$f":"VLOOKUP($B367,#REF!,5,FALSE)","v":{"$error":"#REF!"}},{"$f":"VLOOKUP($B367,#REF!,6,FALSE)","v":{"$error":"#REF!"}},"-",{"$error":"#REF!"},null,{"$f":"VLOOKUP($B367,#REF!,13,FALSE)","v":{"$error":"#REF!"}},{"$f":"VLOOKUP($B367,#REF!,10,FALSE)","v":{"$error":"#REF!"}},{"$f":"VLOOKUP($B367,#REF!,17,FALSE)","v":{"$error":"#REF!"}},{"$f":"IFERROR(VLOOKUP($B367,#REF!,2,FALSE),\"-\")","v":"-"}]
[null,365,{"$f":"VLOOKUP($B368,#REF!,2,FALSE)","v":{"$error":"#REF!"}},{"$f":"VLOOKUP($B368,#REF!,3,FALSE)","v":{"$error":"#REF!"}},{"$f":"VLOOKUP($B368,#REF!,5,FALSE)","v":{"$error":"#REF!"}},{"$f":"VLOOKUP($B368,#REF!,6,FALSE)","v":{"$error":"#REF!"}},"-",{"$error":"#REF!"},null,{"$f":"VLOOKUP($B368,#REF!,13,FALSE)","v":{"$error":"#REF!"}},{"$f":"VLOOKUP($B368,#REF!,10,FALSE)","v":{"$error":"#REF!"}},{"$f":"VLOOKUP($B368,#REF!,17,FALSE)","v":{"$error":"#REF!"}},{"$f":"IFERROR(VLOOKUP($B368,#REF!,2,FALSE),\"-\")","v":"-"}]
[null,366,{"$f":"VLOOKUP($B369,#REF!,2,FALSE)","v":{"$error":"#REF!"}},{"$f":"VLOOKUP($B369,#REF!,3,FALSE)","v":{"$error":"#REF!"}},{"$f":"VLOOKUP($B369,#REF!,5,FALSE)","v":{"$error":"#REF!"}},{"$f":"VLOOKUP($B369,#REF!,6,FALSE)","v":{"$error":"#REF!"}},"-",{"$error":"#REF!"},null,{"$f":"VLOOKUP($B369,#REF!,13,FALSE)","v":{"$error":"#REF!"}},{"$f":"VLOOKUP($B369,#REF!,10,FALSE)","v":{"$error":"#REF!"}},{"$f":"VLOOKUP($B369,#REF!,17,FALSE)","v":{"$error":"#REF!"}},{"$f":"IFERROR(VLOOKUP($B369,#REF!,2,FALSE),\"-\")","v":"-"}]
[null,367,{"$f":"VLOOKUP($B370,#REF!,2,FALSE)","v":{"$error":"#REF!"}},{"$f":"VLOOKUP($B370,#REF!,3,FALSE)","v":{"$error":"#REF!"}},{"$f":"VLOOKUP($B370,#REF!,5,FALSE)","v":{"$error":"#REF!"}},{"$f":"VLOOKUP($B370,#REF!,6,FALSE)","v":{"$error":"#REF!"}},"-",{"$error":"#REF!"},null,{"$f":"VLOOKUP($B370,#REF!,13,FALSE)","v":{"$error":"#REF!"}},{"$f":"VLOOKUP($B370,#REF!,10,FALSE)","v":{"$error":"#REF!"}},{"$f":"VLOOKUP($B370,#REF!,17,FALSE)","v":{"$error":"#REF!"}},{"$f":"IFERROR(VLOOKUP($B370,#REF!,2,FALSE),\"-\")","v":"-"}]
[null,368,{"$f":"VLOOKUP($B371,#REF!,2,FALSE)","v":{"$error":"#REF!"}},{"$f":"VLOOKUP($B371,#REF!,3,FALSE)","v":{"$error":"#REF!"}},{"$f":"VLOOKUP($B371,#REF!,5,FALSE)","v":{"$error":"#REF!"}},{"$f":"VLOOKUP($B371,#REF!,6,FALSE)","v":{"$error":"#REF!"}},"-",{"$error":"#REF!"},null,{"$f":"VLOOKUP($B371,#REF!,13,FALSE)","v":{"$error":"#REF!"}},{"$f":"VLOOKUP($B371,#REF!,10,FALSE)","v":{"$error":"#REF!"}},{"$f":"VLOOKUP($B371,#REF!,17,FALSE)","v":{"$error":"#REF!"}},{"$f":"IFERROR(VLOOKUP($B371,#REF!,2,FALSE),\"-\")","v":"-"}]
[null,369,{"$f":"VLOOKUP($B372,#REF!,2,FALSE)","v":{"$error":"#REF!"}},{"$f":"VLOOKUP($B372,#REF!,3,FALSE)","v":{"$error":"#REF!"}},{"$f":"VLOOKUP($B372,#REF!,5,FALSE)","v":{"$error":"#REF!"}},{"$f":"VLOOKUP($B372,#REF!,6,FALSE)","v":{"$error":"#REF!"}},"-",{"$error":"#REF!"},null,{"$f":"VLOOKUP($B372,#REF!,13,FALSE)","v":{"$error":"#REF!"}},{"$f":"VLOOKUP($B372,#REF!,10,FALSE)","v":{"$error":"#REF!"}},{"$f":"VLOOKUP($B372,#REF!,17,FALSE)","v":{"$error":"#REF!"}},{"$f":"IFERROR(VLOOKUP($B372,#REF!,2,FALSE),\"-\")","v":"-"}]
[null,370,{"$f":"VLOOKUP($B373,#REF!,2,FALSE)","v":{"$error":"#REF!"}},{"$f":"VLOOKUP($B373,#REF!,3,FALSE)","v":{"$error":"#REF!"}},{"$f":"VLOOKUP($B373,#REF!,5,FALSE)","v":{"$error":"#REF!"}},{"$f":"VLOOKUP($B373,#REF!,6,FALSE)","v":{"$error":"#REF!"}},"-",{"$error":"#REF!"},null,{"$f":"VLOOKUP($B373,#REF!,13,FALSE)","v":{"$error":"#REF!"}},{"$f":"VLOOKUP($B373,#REF!,10,FALSE)","v":{"$error":"#REF!"}},{"$f":"VLOOKUP($B373,#REF!,17,FALSE)","v":{"$error":"#REF!"}},{"$f":"IFERROR(VLOOKUP($B373,#REF!,2,FALSE),\"-\")","v":"-"}]
[null,371,{"$f":"VLOOKUP($B374,#REF!,2,FALSE)","v":{"$error":"#REF!"}},{"$f":"VLOOKUP($B374,#REF!,3,FALSE)","v":{"$error":"#REF!"}},{"$f":"VLOOKUP($B374,#REF!,5,FALSE)","v":{"$error":"#REF!"}},{"$f":"VLOOKUP($B374,#REF!,6,FALSE)","v":{"$error":"#REF!"}},"-",{"$error":"#REF!"},null,{"$f":"VLOOKUP($B374,#REF!,13,FALSE)","v":{"$error":"#REF!"}},{"$f":"VLOOKUP($B374,#REF!,10,FALSE)","v":{"$error":"#REF!"}},{"$f":"VLOOKUP($B374,#REF!,17,FALSE)","v":{"$error":"#REF!"}},{"$f":"IFERROR(VLOOKUP($B374,#REF!,2,FALSE),\"-\")","v":"-"}]
[null,372,{"$f":"VLOOKUP($B375,#REF!,2,FALSE)","v":{"$error":"#REF!"}},{"$f":"VLOOKUP($B375,#REF!,3,FALSE)","v":{"$error":"#REF!"}},{"$f":"VLOOKUP($B375,#REF!,5,FALSE)","v":{"$error":"#REF!"}},{"$f":"VLOOKUP($B375,#REF!,6,FALSE)","v":{"$error":"#REF!"}},"-",{"$error":"#REF!"},null,{"$f":"VLOOKUP($B375,#REF!,13,FALSE)","v":{"$error":"#REF!"}},{"$f":"VLOOKUP($B375,#REF!,10,FALSE)","v":{"$error":"#REF!"}},{"$f":"VLOOKUP($B375,#REF!,17,FALSE)","v":{"$error":"#REF!"}},{"$f":"IFERROR(VLOOKUP($B375,#REF!,2,FALSE),\"-\")","v":"-"}]
[null,373,{"$f":"VLOOKUP($B376,#REF!,2,FALSE)","v":{"$error":"#REF!"}},{"$f":"VLOOKUP($B376,#REF!,3,FALSE)","v":{"$error":"#REF!"}},{"$f":"VLOOKUP($B376,#REF!,5,FALSE)","v":{"$error":"#REF!"}},{"$f":"VLOOKUP($B376,#REF!,6,FALSE)","v":{"$error":"#REF!"}},"-",{"$error":"#REF!"},null,{"$f":"VLOOKUP($B376,#REF!,13,FALSE)","v":{"$error":"#REF!"}},{"$f":"VLOOKUP($B376,#REF!,10,FALSE)","v":{"$error":"#REF!"}},{"$f":"VLOOKUP($B376,#REF!,17,FALSE)","v":{"$error":"#REF!"}},{"$f":"IFERROR(VLOOKUP($B376,#REF!,2,FALSE),\"-\")","v":"-"}]
[null,374,{"$f":"VLOOKUP($B377,#REF!,2,FALSE)","v":{"$error":"#REF!"}},{"$f":"VLOOKUP($B377,#REF!,3,FALSE)","v":{"$error":"#REF!"}},{"$f":"VLOOKUP($B377,#REF!,5,FALSE)","v":{"$error":"#REF!"}},{"$f":"VLOOKUP($B377,#REF!,6,FALSE)","v":{"$error":"#REF!"}},"-",{"$error":"#REF!"},null,{"$f":"VLOOKUP($B377,#REF!,13,FALSE)","v":{"$error":"#REF!"}},{"$f":"VLOOKUP($B377,#REF!,10,FALSE)","v":{"$error":"#REF!"}},{"$f":"VLOOKUP($B377,#REF!,17,FALSE)","v":{"$error":"#REF!"}},{"$f":"IFERROR(VLOOKUP($B377,#REF!,2,FALSE),\"-\")","v":"-"}]
[null,375,{"$f":"VLOOKUP($B378,#REF!,2,FALSE)","v":{"$error":"#REF!"}},{"$f":"VLOOKUP($B378,#REF!,3,FALSE)","v":{"$error":"#REF!"}},{"$f":"VLOOKUP($B378,#REF!,5,FALSE)","v":{"$error":"#REF!"}},{"$f":"VLOOKUP($B378,#REF!,6,FALSE)","v":{"$error":"#REF!"}},"-",{"$error":"#REF!"},null,{"$f":"VLOOKUP($B378,#REF!,13,FALSE)","v":{"$error":"#REF!"}},{"$f":"VLOOKUP($B378,#REF!,10,FALSE)","v":{"$error":"#REF!"}},{"$f":"VLOOKUP($B378,#REF!,17,FALSE)","v":{"$error":"#REF!"}},{"$f":"IFERROR(VLOOKUP($B378,#REF!,2,FALSE),\"-\")","v":"-"}]
[null,376,{"$f":"VLOOKUP($B379,#REF!,2,FALSE)","v":{"$error":"#REF!"}},{"$f":"VLOOKUP($B379,#REF!,3,FALSE)","v":{"$error":"#REF!"}},{"$f":"VLOOKUP($B379,#REF!,5,FALSE)","v":{"$error":"#REF!"}},{"$f":"VLOOKUP($B379,#REF!,6,FALSE)","v":{"$error":"#REF!"}},"-",{"$error":"#REF!"},null,{"$f":"VLOOKUP($B379,#REF!,13,FALSE)","v":{"$error":"#REF!"}},{"$f":"VLOOKUP($B379,#REF!,10,FALSE)","v":{"$error":"#REF!"}},{"$f":"VLOOKUP($B379,#REF!,17,FALSE)","v":{"$error":"#REF!"}},{"$f":"IFERROR(VLOOKUP($B379,#REF!,2,FALSE),\"-\")","v":"-"}]
[null,377,{"$f":"VLOOKUP($B380,#REF!,2,FALSE)","v":{"$error":"#REF!"}},{"$f":"VLOOKUP($B380,#REF!,3,FALSE)","v":{"$error":"#REF!"}},{"$f":"VLOOKUP($B380,#REF!,5,FALSE)","v":{"$error":"#REF!"}},{"$f":"VLOOKUP($B380,#REF!,6,FALSE)","v":{"$error":"#REF!"}},"-",{"$error":"#REF!"},null,{"$f":"VLOOKUP($B380,#REF!,13,FALSE)","v":{"$error":"#REF!"}},{"$f":"VLOOKUP($B380,#REF!,10,FALSE)","v":{"$error":"#REF!"}},{"$f":"VLOOKUP($B380,#REF!,17,FALSE)","v":{"$error":"#REF!"}},{"$f":"IFERROR(VLOOKUP($B380,#REF!,2,FALSE),\"-\")","v":"-"}]
[null,378,{"$f":"VLOOKUP($B381,#REF!,2,FALSE)","v":{"$error":"#REF!"}},{"$f":"VLOOKUP($B381,#REF!,3,FALSE)","v":{"$error":"#REF!"}},{"$f":"VLOOKUP($B381,#REF!,5,FALSE)","v":{"$error":"#REF!"}},{"$f":"VLOOKUP($B381,#REF!,6,FALSE)","v":{"$error":"#REF!"}},"-",{"$error":"#REF!"},null,{"$f":"VLOOKUP($B381,#REF!,13,FALSE)","v":{"$error":"#REF!"}},{"$f":"VLOOKUP($B381,#REF!,10,FALSE)","v":{"$error":"#REF!"}},{"$f":"VLOOKUP($B381,#REF!,17,FALSE)","v":{"$error":"#REF!"}},{"$f":"IFERROR(VLOOKUP($B381,#REF!,2,FALSE),\"-\")","v":"-"}]
[null,379,{"$f":"VLOOKUP($B382,#REF!,2,FALSE)","v":{"$error":"#REF!"}},{"$f":"VLOOKUP($B382,#REF!,3,FALSE)","v":{"$error":"#REF!"}},{"$f":"VLOOKUP($B382,#REF!,5,FALSE)","v":{"$error":"#REF!"}},{"$f":"VLOOKUP($B382,#REF!,6,FALSE)","v":{"$error":"#REF!"}},"-",{"$error":"#REF!"},null,{"$f":"VLOOKUP($B382,#REF!,13,FALSE)","v":{"$error":"#REF!"}},{"$f":"VLOOKUP($B382,#REF!,10,FALSE)","v":{"$error":"#REF!"}},{"$f":"VLOOKUP($B382,#REF!,17,FALSE)","v":{"$error":"#REF!"}},{"$f":"IFERROR(VLOOKUP($B382,#REF!,2,FALSE),\"-\")","v":"-"}]
[null,380,{"$f":"VLOOKUP($B383,#REF!,2,FALSE)","v":{"$error":"#REF!"}},{"$f":"VLOOKUP($B383,#REF!,3,FALSE)","v":{"$error":"#REF!"}},{"$f":"VLOOKUP($B383,#REF!,5,FALSE)","v":{"$error":"#REF!"}},{"$f":"VLOOKUP($B383,#REF!,6,FALSE)","v":{"$error":"#REF!"}},"-",{"$error":"#REF!"},null,{"$f":"VLOOKUP($B383,#REF!,13,FALSE)","v":{"$error":"#REF!"}},{"$f":"VLOOKUP($B383,#REF!,10,FALSE)","v":{"$error":"#REF!"}},{"$f":"VLOOKUP($B383,#REF!,17,FALSE)","v":{"$error":"#REF!"}},{"$f":"IFERROR(VLOOKUP($B383,#REF!,2,FALSE),\"-\")","v":"-"}]
[null,381,{"$f":"VLOOKUP($B384,#REF!,2,FALSE)","v":{"$error":"#REF!"}},{"$f":"VLOOKUP($B384,#REF!,3,FALSE)","v":{"$error":"#REF!"}},{"$f":"VLOOKUP($B384,#REF!,5,FALSE)","v":{"$error":"#REF!"}},{"$f":"VLOOKUP($B384,#REF!,6,FALSE)","v":{"$error":"#REF!"}},"-",{"$error":"#REF!"},null,{"$f":"VLOOKUP($B384,#REF!,13,FALSE)","v":{"$error":"#REF!"}},{"$f":"VLOOKUP($B384,#REF!,10,FALSE)","v":{"$error":"#REF!"}},{"$f":"VLOOKUP($B384,#REF!,17,FALSE)","v":{"$error":"#REF!"}},{"$f":"IFERROR(VLOOKUP($B384,#REF!,2,FALSE),\"-\")","v":"-"}]
[null,382,{"$f":"VLOOKUP($B385,#REF!,2,FALSE)","v":{"$error":"#REF!"}},{"$f":"VLOOKUP($B385,#REF!,3,FALSE)","v":{"$error":"#REF!"}},{"$f":"VLOOKUP($B385,#REF!,5,FALSE)","v":{"$error":"#REF!"}},{"$f":"VLOOKUP($B385,#REF!,6,FALSE)","v":{"$error":"#REF!"}},"-",{"$error":"#REF!"},null,{"$f":"VLOOKUP($B385,#REF!,13,FALSE)","v":{"$error":"#REF!"}},{"$f":"VLOOKUP($B385,#REF!,10,FALSE)","v":{"$error":"#REF!"}},{"$f":"VLOOKUP($B385,#REF!,17,FALSE)","v":{"$error":"#REF!"}},{"$f":"IFERROR(VLOOKUP($B385,#REF!,2,FALSE),\"-\")","v":"-"}]
[null,383,{"$f":"VLOOKUP($B386,#REF!,2,FALSE)","v":{"$error":"#REF!"}},{"$f":"VLOOKUP($B386,#REF!,3,FALSE)","v":{"$error":"#REF!"}},{"$f":"VLOOKUP($B386,#REF!,5,FALSE)","v":{"$error":"#REF!"}},{"$f":"VLOOKUP($B386,#REF!,6,FALSE)","v":{"$error":"#REF!"}},"-",{"$error":"#REF!"},null,{"$f":"VLOOKUP($B386,#REF!,13,FALSE)","v":{"$error":"#REF!"}},{"$f":"VLOOKUP($B386,#REF!,10,FALSE)","v":{"$error":"#REF!"}},{"$f":"VLOOKUP($B386,#REF!,17,FALSE)","v":{"$error":"#REF!"}},{"$f":"IFERROR(VLOOKUP($B386,#REF!,2,FALSE),\"-\")","v":"-"}]
[null,384,{"$f":"VLOOKUP($B387,#REF!,2,FALSE)","v":{"$error":"#REF!"}},{"$f":"VLOOKUP($B387,#REF!,3,FALSE)","v":{"$error":"#REF!"}},{"$f":"VLOOKUP($B387,#REF!,5,FALSE)","v":{"$error":"#REF!"}},{"$f":"VLOOKUP($B387,#REF!,6,FALSE)","v":{"$error":"#REF!"}},"-",{"$error":"#REF!"},null,{"$f":"VLOOKUP($B387,#REF!,13,FALSE)","v":{"$error":"#REF!"}},{"$f":"VLOOKUP($B387,#REF!,10,FALSE)","v":{"$error":"#REF!"}},{"$f":"VLOOKUP($B387,#REF!,17,FALSE)","v":{"$error":"#REF!"}},{"$f":"IFERROR(VLOOKUP($B387,#REF!,2,FALSE),\"-\")","v":"-"}]
[null,385,{"$f":"VLOOKUP($B388,#REF!,2,FALSE)","v":{"$error":"#REF!"}},{"$f":"VLOOKUP($B388,#REF!,3,FALSE)","v":{"$error":"#REF!"}},{"$f":"VLOOKUP($B388,#REF!,5,FALSE)","v":{"$error":"#REF!"}},{"$f":"VLOOKUP($B388,#REF!,6,FALSE)","v":{"$error":"#REF!"}},{"$f":"IF(M388=1,\"欠席\",IF(M388=9,\"空ﾚｰﾝ\",\"-\"))","v":"-"},{"$error":"#REF!"},null,{"$f":"VLOOKUP($B388,#REF!,13,FALSE)","v":{"$error":"#REF!"}},{"$f":"VLOOKUP($B388,#REF!,10,FALSE)","v":{"$error":"#REF!"}},{"$f":"VLOOKUP($B388,#REF!,17,FALSE)","v":{"$error":"#REF!"}},{"$f":"IFERROR(VLOOKUP($B388,#REF!,2,FALSE),\"-\")","v":"-"}]
[null,386,{"$f":"VLOOKUP($B389,#REF!,2,FALSE)","v":{"$error":"#REF!"}},{"$f":"VLOOKUP($B389,#REF!,3,FALSE)","v":{"$error":"#REF!"}},{"$f":"VLOOKUP($B389,#REF!,5,FALSE)","v":{"$error":"#REF!"}},{"$f":"VLOOKUP($B389,#REF!,6,FALSE)","v":{"$error":"#REF!"}},"-",{"$f":"+C389","v":{"$error":"#REF!"}},null,{"$f":"VLOOKUP($B389,#REF!,13,FALSE)","v":{"$error":"#REF!"}},{"$f":"VLOOKUP($B389,#REF!,10,FALSE)","v":{"$error":"#REF!"}},{"$f":"VLOOKUP($B389,#REF!,17,FALSE)","v":{"$error":"#REF!"}},{"$f":"IFERROR(VLOOKUP($B389,#REF!,2,FALSE),\"-\")","v":"-"}]
[null,387,{"$f":"VLOOKUP($B390,#REF!,2,FALSE)","v":{"$error":"#REF!"}},{"$f":"VLOOKUP($B390,#REF!,3,FALSE)","v":{"$error":"#REF!"}},{"$f":"VLOOKUP($B390,#REF!,5,FALSE)","v":{"$error":"#REF!"}},{"$f":"VLOOKUP($B390,#REF!,6,FALSE)","v":{"$error":"#REF!"}},"-",{"$error":"#REF!"},null,{"$f":"VLOOKUP($B390,#REF!,13,FALSE)","v":{"$error":"#REF!"}},{"$f":"VLOOKUP($B390,#REF!,10,FALSE)","v":{"$error":"#REF!"}},{"$f":"VLOOKUP($B390,#REF!,17,FALSE)","v":{"$error":"#REF!"}},{"$f":"IFERROR(VLOOKUP($B390,#REF!,2,FALSE),\"-\")","v":"-"}]
[null,388,{"$f":"VLOOKUP($B391,#REF!,2,FALSE)","v":{"$error":"#REF!"}},{"$f":"VLOOKUP($B391,#REF!,3,FALSE)","v":{"$error":"#REF!"}},{"$f":"VLOOKUP($B391,#REF!,5,FALSE)","v":{"$error":"#REF!"}},{"$f":"VLOOKUP($B391,#REF!,6,FALSE)","v":{"$error":"#REF!"}},"-",{"$error":"#REF!"},null,{"$f":"VLOOKUP($B391,#REF!,13,FALSE)","v":{"$error":"#REF!"}},{"$f":"VLOOKUP($B391,#REF!,10,FALSE)","v":{"$error":"#REF!"}},{"$f":"VLOOKUP($B391,#REF!,17,FALSE)","v":{"$error":"#REF!"}},{"$f":"IFERROR(VLOOKUP($B391,#REF!,2,FALSE),\"-\")","v":"-"}]
[null,389,{"$f":"VLOOKUP($B392,#REF!,2,FALSE)","v":{"$error":"#REF!"}},{"$f":"VLOOKUP($B392,#REF!,3,FALSE)","v":{"$error":"#REF!"}},{"$f":"VLOOKUP($B392,#REF!,5,FALSE)","v":{"$error":"#REF!"}},{"$f":"VLOOKUP($B392,#REF!,6,FALSE)","v":{"$error":"#REF!"}},"-",{"$error":"#REF!"},null,{"$f":"VLOOKUP($B392,#REF!,13,FALSE)","v":{"$error":"#REF!"}},{"$f":"VLOOKUP($B392,#REF!,10,FALSE)","v":{"$error":"#REF!"}},{"$f":"VLOOKUP($B392,#REF!,17,FALSE)","v":{"$error":"#REF!"}},{"$f":"IFERROR(VLOOKUP($B392,#REF!,2,FALSE),\"-\")","v":"-"}]
[null,390,{"$f":"VLOOKUP($B393,#REF!,2,FALSE)","v":{"$error":"#REF!"}},{"$f":"VLOOKUP($B393,#REF!,3,FALSE)","v":{"$error":"#REF!"}},{"$f":"VLOOKUP($B393,#REF!,5,FALSE)","v":{"$error":"#REF!"}},{"$f":"VLOOKUP($B393,#REF!,6,FALSE)","v":{"$error":"#REF!"}},"-",{"$error":"#REF!"},null,{"$f":"VLOOKUP($B393,#REF!,13,FALSE)","v":{"$error":"#REF!"}},{"$f":"VLOOKUP($B393,#REF!,10,FALSE)","v":{"$error":"#REF!"}},{"$f":"VLOOKUP($B393,#REF!,17,FALSE)","v":{"$error":"#REF!"}},{"$f":"IFERROR(VLOOKUP($B393,#REF!,2,FALSE),\"-\")","v":"-"}]
[null,391,{"$f":"VLOOKUP($B394,#REF!,2,FALSE)","v":{"$error":"#REF!"}},{"$f":"VLOOKUP($B394,#REF!,3,FALSE)","v":{"$error":"#REF!"}},{"$f":"VLOOKUP($B394,#REF!,5,FALSE)","v":{"$error":"#REF!"}},{"$f":"VLOOKUP($B394,#REF!,6,FALSE)","v":{"$error":"#REF!"}},"-",{"$error":"#REF!"},null,{"$f":"VLOOKUP($B394,#REF!,13,FALSE)","v":{"$error":"#REF!"}},{"$f":"VLOOKUP($B394,#REF!,10,FALSE)","v":{"$error":"#REF!"}},{"$f":"VLOOKUP($B394,#REF!,17,FALSE)","v":{"$error":"#REF!"}},{"$f":"IFERROR(VLOOKUP($B394,#REF!,2,FALSE),\"-\")","v":"-"}]
[null,392,{"$f":"VLOOKUP($B395,#REF!,2,FALSE)","v":{"$error":"#REF!"}},{"$f":"VLOOKUP($B395,#REF!,3,FALSE)","v":{"$error":"#REF!"}},{"$f":"VLOOKUP($B395,#REF!,5,FALSE)","v":{"$error":"#REF!"}},{"$f":"VLOOKUP($B395,#REF!,6,FALSE)","v":{"$error":"#REF!"}},"-",{"$error":"#REF!"},null,{"$f":"VLOOKUP($B395,#REF!,13,FALSE)","v":{"$error":"#REF!"}},{"$f":"VLOOKUP($B395,#REF!,10,FALSE)","v":{"$error":"#REF!"}},{"$f":"VLOOKUP($B395,#REF!,17,FALSE)","v":{"$error":"#REF!"}},{"$f":"IFERROR(VLOOKUP($B395,#REF!,2,FALSE),\"-\")","v":"-"}]
[null,393,{"$f":"VLOOKUP($B396,#REF!,2,FALSE)","v":{"$error":"#REF!"}},{"$f":"VLOOKUP($B396,#REF!,3,FALSE)","v":{"$error":"#REF!"}},{"$f":"VLOOKUP($B396,#REF!,5,FALSE)","v":{"$error":"#REF!"}},{"$f":"VLOOKUP($B396,#REF!,6,FALSE)","v":{"$error":"#REF!"}},"-",{"$error":"#REF!"},null,{"$f":"VLOOKUP($B396,#REF!,13,FALSE)","v":{"$error":"#REF!"}},{"$f":"VLOOKUP($B396,#REF!,10,FALSE)","v":{"$error":"#REF!"}},{"$f":"VLOOKUP($B396,#REF!,17,FALSE)","v":{"$error":"#REF!"}},{"$f":"IFERROR(VLOOKUP($B396,#REF!,2,FALSE),\"-\")","v":"-"}]
[null,394,{"$f":"VLOOKUP($B397,#REF!,2,FALSE)","v":{"$error":"#REF!"}},{"$f":"VLOOKUP($B397,#REF!,3,FALSE)","v":{"$error":"#REF!"}},{"$f":"VLOOKUP($B397,#REF!,5,FALSE)","v":{"$error":"#REF!"}},{"$f":"VLOOKUP($B397,#REF!,6,FALSE)","v":{"$error":"#REF!"}},"-",{"$error":"#REF!"},null,{"$f":"VLOOKUP($B397,#REF!,13,FALSE)","v":{"$error":"#REF!"}},{"$f":"VLOOKUP($B397,#REF!,10,FALSE)","v":{"$error":"#REF!"}},{"$f":"VLOOKUP($B397,#REF!,17,FALSE)","v":{"$error":"#REF!"}},{"$f":"IFERROR(VLOOKUP($B397,#REF!,2,FALSE),\"-\")","v":"-"}]
[null,395,{"$f":"VLOOKUP($B398,#REF!,2,FALSE)","v":{"$error":"#REF!"}},{"$f":"VLOOKUP($B398,#REF!,3,FALSE)","v":{"$error":"#REF!"}},{"$f":"VLOOKUP($B398,#REF!,5,FALSE)","v":{"$error":"#REF!"}},{"$f":"VLOOKUP($B398,#REF!,6,FALSE)","v":{"$error":"#REF!"}},"-",{"$error":"#REF!"},null,{"$f":"VLOOKUP($B398,#REF!,13,FALSE)","v":{"$error":"#REF!"}},{"$f":"VLOOKUP($B398,#REF!,10,FALSE)","v":{"$error":"#REF!"}},{"$f":"VLOOKUP($B398,#REF!,17,FALSE)","v":{"$error":"#REF!"}},{"$f":"IFERROR(VLOOKUP($B398,#REF!,2,FALSE),\"-\")","v":"-"}]
[null,396,{"$f":"VLOOKUP($B399,#REF!,2,FALSE)","v":{"$error":"#REF!"}},{"$f":"VLOOKUP($B399,#REF!,3,FALSE)","v":{"$error":"#REF!"}},{"$f":"VLOOKUP($B399,#REF!,5,FALSE)","v":{"$error":"#REF!"}},{"$f":"VLOOKUP($B399,#REF!,6,FALSE)","v":{"$error":"#REF!"}},"-",{"$error":"#REF!"},null,{"$f":"VLOOKUP($B399,#REF!,13,FALSE)","v":{"$error":"#REF!"}},{"$f":"VLOOKUP($B399,#REF!,10,FALSE)","v":{"$error":"#REF!"}},{"$f":"VLOOKUP($B399,#REF!,17,FALSE)","v":{"$error":"#REF!"}},{"$f":"IFERROR(VLOOKUP($B399,#REF!,2,FALSE),\"-\")","v":"-"}]
[null,397,{"$f":"VLOOKUP($B400,#REF!,2,FALSE)","v":{"$error":"#REF!"}},{"$f":"VLOOKUP($B400,#REF!,3,FALSE)","v":{"$error":"#REF!"}},{"$f":"VLOOKUP($B400,#REF!,5,FALSE)","v":{"$error":"#REF!"}},{"$f":"VLOOKUP($B400,#REF!,6,FALSE)","v":{"$error":"#REF!"}},"-",{"$error":"#REF!"},null,{"$f":"VLOOKUP($B400,#REF!,13,FALSE)","v":{"$error":"#REF!"}},{"$f":"VLOOKUP($B400,#REF!,10,FALSE)","v":{"$error":"#REF!"}},{"$f":"VLOOKUP($B400,#REF!,17,FALSE)","v":{"$error":"#REF!"}},{"$f":"IFERROR(VLOOKUP($B400,#REF!,2,FALSE),\"-\")","v":"-"}]
[null,398,{"$f":"VLOOKUP($B401,#REF!,2,FALSE)","v":{"$error":"#REF!"}},{"$f":"VLOOKUP($B401,#REF!,3,FALSE)","v":{"$error":"#REF!"}},{"$f":"VLOOKUP($B401,#REF!,5,FALSE)","v":{"$error":"#REF!"}},{"$f":"VLOOKUP($B401,#REF!,6,FALSE)","v":{"$error":"#REF!"}},"-",{"$error":"#REF!"},null,{"$f":"VLOOKUP($B401,#REF!,13,FALSE)","v":{"$error":"#REF!"}},{"$f":"VLOOKUP($B401,#REF!,10,FALSE)","v":{"$error":"#REF!"}},{"$f":"VLOOKUP($B401,#REF!,17,FALSE)","v":{"$error":"#REF!"}},{"$f":"IFERROR(VLOOKUP($B401,#REF!,2,FALSE),\"-\")","v":"-"}]
[null,399,{"$f":"VLOOKUP($B402,#REF!,2,FALSE)","v":{"$error":"#REF!"}},{"$f":"VLOOKUP($B402,#REF!,3,FALSE)","v":{"$error":"#REF!"}},{"$f":"VLOOKUP($B402,#REF!,5,FALSE)","v":{"$error":"#REF!"}},{"$f":"VLOOKUP($B402,#REF!,6,FALSE)","v":{"$error":"#REF!"}},"-",{"$error":"#REF!"},null,{"$f":"VLOOKUP($B402,#REF!,13,FALSE)","v":{"$error":"#REF!"}},{"$f":"VLOOKUP($B402,#REF!,10,FALSE)","v":{"$error":"#REF!"}},{"$f":"VLOOKUP($B402,#REF!,17,FALSE)","v":{"$error":"#REF!"}},{"$f":"IFERROR(VLOOKUP($B402,#REF!,2,FALSE),\"-\")","v":"-"}]
[null,400,{"$f":"VLOOKUP($B403,#REF!,2,FALSE)","v":{"$error":"#REF!"}},{"$f":"VLOOKUP($B403,#REF!,3,FALSE)","v":{"$error":"#REF!"}},{"$f":"VLOOKUP($B403,#REF!,5,FALSE)","v":{"$error":"#REF!"}},{"$f":"VLOOKUP($B403,#REF!,6,FALSE)","v":{"$error":"#REF!"}},"-",{"$error":"#REF!"},null,{"$f":"VLOOKUP($B403,#REF!,13,FALSE)","v":{"$error":"#REF!"}},{"$f":"VLOOKUP($B403,#REF!,10,FALSE)","v":{"$error":"#REF!"}},{"$f":"VLOOKUP($B403,#REF!,17,FALSE)","v":{"$error":"#REF!"}},{"$f":"IFERROR(VLOOKUP($B403,#REF!,2,FALSE),\"-\")","v":"-"}]
[null,401,{"$f":"VLOOKUP($B404,#REF!,2,FALSE)","v":{"$error":"#REF!"}},{"$f":"VLOOKUP($B404,#REF!,3,FALSE)","v":{"$error":"#REF!"}},{"$f":"VLOOKUP($B404,#REF!,5,FALSE)","v":{"$error":"#REF!"}},{"$f":"VLOOKUP($B404,#REF!,6,FALSE)","v":{"$error":"#REF!"}},"-",{"$error":"#REF!"},null,{"$f":"VLOOKUP($B404,#REF!,13,FALSE)","v":{"$error":"#REF!"}},{"$f":"VLOOKUP($B404,#REF!,10,FALSE)","v":{"$error":"#REF!"}},{"$f":"VLOOKUP($B404,#REF!,17,FALSE)","v":{"$error":"#REF!"}},{"$f":"IFERROR(VLOOKUP($B404,#REF!,2,FALSE),\"-\")","v":"-"}]
[null,402,{"$f":"VLOOKUP($B405,#REF!,2,FALSE)","v":{"$error":"#REF!"}},{"$f":"VLOOKUP($B405,#REF!,3,FALSE)","v":{"$error":"#REF!"}},{"$f":"VLOOKUP($B405,#REF!,5,FALSE)","v":{"$error":"#REF!"}},{"$f":"VLOOKUP($B405,#REF!,6,FALSE)","v":{"$error":"#REF!"}},"-",{"$error":"#REF!"},null,{"$f":"VLOOKUP($B405,#REF!,13,FALSE)","v":{"$error":"#REF!"}},{"$f":"VLOOKUP($B405,#REF!,10,FALSE)","v":{"$error":"#REF!"}},{"$f":"VLOOKUP($B405,#REF!,17,FALSE)","v":{"$error":"#REF!"}},{"$f":"IFERROR(VLOOKUP($B405,#REF!,2,FALSE),\"-\")","v":"-"}]
[null,403,{"$f":"VLOOKUP($B406,#REF!,2,FALSE)","v":{"$error":"#REF!"}},{"$f":"VLOOKUP($B406,#REF!,3,FALSE)","v":{"$error":"#REF!"}},{"$f":"VLOOKUP($B406,#REF!,5,FALSE)","v":{"$error":"#REF!"}},{"$f":"VLOOKUP($B406,#REF!,6,FALSE)","v":{"$error":"#REF!"}},"-",{"$error":"#REF!"},null,{"$f":"VLOOKUP($B406,#REF!,13,FALSE)","v":{"$error":"#REF!"}},{"$f":"VLOOKUP($B406,#REF!,10,FALSE)","v":{"$error":"#REF!"}},{"$f":"VLOOKUP($B406,#REF!,17,FALSE)","v":{"$error":"#REF!"}},{"$f":"IFERROR(VLOOKUP($B406,#REF!,2,FALSE),\"-\")","v":"-"}]
[null,404,{"$f":"VLOOKUP($B407,#REF!,2,FALSE)","v":{"$error":"#REF!"}},{"$f":"VLOOKUP($B407,#REF!,3,FALSE)","v":{"$error":"#REF!"}},{"$f":"VLOOKUP($B407,#REF!,5,FALSE)","v":{"$error":"#REF!"}},{"$f":"VLOOKUP($B407,#REF!,6,FALSE)","v":{"$error":"#REF!"}},"-",{"$error":"#REF!"},null,{"$f":"VLOOKUP($B407,#REF!,13,FALSE)","v":{"$error":"#REF!"}},{"$f":"VLOOKUP($B407,#REF!,10,FALSE)","v":{"$error":"#REF!"}},{"$f":"VLOOKUP($B407,#REF!,17,FALSE)","v":{"$error":"#REF!"}},{"$f":"IFERROR(VLOOKUP($B407,#REF!,2,FALSE),\"-\")","v":"-"}]
[null,405,{"$f":"VLOOKUP($B408,#REF!,2,FALSE)","v":{"$error":"#REF!"}},{"$f":"VLOOKUP($B408,#REF!,3,FALSE)","v":{"$error":"#REF!"}},{"$f":"VLOOKUP($B408,#REF!,5,FALSE)","v":{"$error":"#REF!"}},{"$f":"VLOOKUP($B408,#REF!,6,FALSE)","v":{"$error":"#REF!"}},"-",{"$error":"#REF!"},null,{"$f":"VLOOKUP($B408,#REF!,13,FALSE)","v":{"$error":"#REF!"}},{"$f":"VLOOKUP($B408,#REF!,10,FALSE)","v":{"$error":"#REF!"}},{"$f":"VLOOKUP($B408,#REF!,17,FALSE)","v":{"$error":"#REF!"}},{"$f":"IFERROR(VLOOKUP($B408,#REF!,2,FALSE),\"-\")","v":"-"}]
[null,406,{"$f":"VLOOKUP($B409,#REF!,2,FALSE)","v":{"$error":"#REF!"}},{"$f":"VLOOKUP($B409,#REF!,3,FALSE)","v":{"$error":"#REF!"}},{"$f":"VLOOKUP($B409,#REF!,5,FALSE)","v":{"$error":"#REF!"}},{"$f":"VLOOKUP($B409,#REF!,6,FALSE)","v":{"$error":"#REF!"}},"-",{"$error":"#REF!"},null,{"$f":"VLOOKUP($B409,#REF!,13,FALSE)","v":{"$error":"#REF!"}},{"$f":"VLOOKUP($B409,#REF!,10,FALSE)","v":{"$error":"#REF!"}},{"$f":"VLOOKUP($B409,#REF!,17,FALSE)","v":{"$error":"#REF!"}},{"$f":"IFERROR(VLOOKUP($B409,#REF!,2,FALSE),\"-\")","v":"-"}]
[null,407,{"$f":"VLOOKUP($B410,#REF!,2,FALSE)","v":{"$error":"#REF!"}},{"$f":"VLOOKUP($B410,#REF!,3,FALSE)","v":{"$error":"#REF!"}},{"$f":"VLOOKUP($B410,#REF!,5,FALSE)","v":{"$error":"#REF!"}},{"$f":"VLOOKUP($B410,#REF!,6,FALSE)","v":{"$error":"#REF!"}},"-",{"$error":"#REF!"},null,{"$f":"VLOOKUP($B410,#REF!,13,FALSE)","v":{"$error":"#REF!"}},{"$f":"VLOOKUP($B410,#REF!,10,FALSE)","v":{"$error":"#REF!"}},{"$f":"VLOOKUP($B410,#REF!,17,FALSE)","v":{"$error":"#REF!"}},{"$f":"IFERROR(VLOOKUP($B410,#REF!,2,FALSE),\"-\")","v":"-"}]
[null,408,{"$f":"VLOOKUP($B411,#REF!,2,FALSE)","v":{"$error":"#REF!"}},{"$f":"VLOOKUP($B411,#REF!,3,FALSE)","v":{"$error":"#REF!"}},{"$f":"VLOOKUP($B411,#REF!,5,FALSE)","v":{"$error":"#REF!"}},{"$f":"VLOOKUP($B411,#REF!,6,FALSE)","v":{"$error":"#REF!"}},"-",{"$error":"#REF!"},null,{"$f":"VLOOKUP($B411,#REF!,13,FALSE)","v":{"$error":"#REF!"}},{"$f":"VLOOKUP($B411,#REF!,10,FALSE)","v":{"$error":"#REF!"}},{"$f":"VLOOKUP($B411,#REF!,17,FALSE)","v":{"$error":"#REF!"}},{"$f":"IFERROR(VLOOKUP($B411,#REF!,2,FALSE),\"-\")","v":"-"}]
[null,409,{"$f":"VLOOKUP($B412,#REF!,2,FALSE)","v":{"$error":"#REF!"}},{"$f":"VLOOKUP($B412,#REF!,3,FALSE)","v":{"$error":"#REF!"}},{"$f":"VLOOKUP($B412,#REF!,5,FALSE)","v":{"$error":"#REF!"}},{"$f":"VLOOKUP($B412,#REF!,6,FALSE)","v":{"$error":"#REF!"}},"-",{"$error":"#REF!"},null,{"$f":"VLOOKUP($B412,#REF!,13,FALSE)","v":{"$error":"#REF!"}},{"$f":"VLOOKUP($B412,#REF!,10,FALSE)","v":{"$error":"#REF!"}},{"$f":"VLOOKUP($B412,#REF!,17,FALSE)","v":{"$error":"#REF!"}},{"$f":"IFERROR(VLOOKUP($B412,#REF!,2,FALSE),\"-\")","v":"-"}]
[null,410,{"$f":"VLOOKUP($B413,#REF!,2,FALSE)","v":{"$error":"#REF!"}},{"$f":"VLOOKUP($B413,#REF!,3,FALSE)","v":{"$error":"#REF!"}},{"$f":"VLOOKUP($B413,#REF!,5,FALSE)","v":{"$error":"#REF!"}},{"$f":"VLOOKUP($B413,#REF!,6,FALSE)","v":{"$error":"#REF!"}},"-",{"$error":"#REF!"},null,{"$f":"VLOOKUP($B413,#REF!,13,FALSE)","v":{"$error":"#REF!"}},{"$f":"VLOOKUP($B413,#REF!,10,FALSE)","v":{"$error":"#REF!"}},{"$f":"VLOOKUP($B413,#REF!,17,FALSE)","v":{"$error":"#REF!"}},{"$f":"IFERROR(VLOOKUP($B413,#REF!,2,FALSE),\"-\")","v":"-"}]
[null,411,{"$f":"VLOOKUP($B414,#REF!,2,FALSE)","v":{"$error":"#REF!"}},{"$f":"VLOOKUP($B414,#REF!,3,FALSE)","v":{"$error":"#REF!"}},{"$f":"VLOOKUP($B414,#REF!,5,FALSE)","v":{"$error":"#REF!"}},{"$f":"VLOOKUP($B414,#REF!,6,FALSE)","v":{"$error":"#REF!"}},"-",{"$error":"#REF!"},null,{"$f":"VLOOKUP($B414,#REF!,13,FALSE)","v":{"$error":"#REF!"}},{"$f":"VLOOKUP($B414,#REF!,10,FALSE)","v":{"$error":"#REF!"}},{"$f":"VLOOKUP($B414,#REF!,17,FALSE)","v":{"$error":"#REF!"}},{"$f":"IFERROR(VLOOKUP($B414,#REF!,2,FALSE),\"-\")","v":"-"}]
[null,412,{"$f":"VLOOKUP($B415,#REF!,2,FALSE)","v":{"$error":"#REF!"}},{"$f":"VLOOKUP($B415,#REF!,3,FALSE)","v":{"$error":"#REF!"}},{"$f":"VLOOKUP($B415,#REF!,5,FALSE)","v":{"$error":"#REF!"}},{"$f":"VLOOKUP($B415,#REF!,6,FALSE)","v":{"$error":"#REF!"}},"-",{"$error":"#REF!"},null,{"$f":"VLOOKUP($B415,#REF!,13,FALSE)","v":{"$error":"#REF!"}},{"$f":"VLOOKUP($B415,#REF!,10,FALSE)","v":{"$error":"#REF!"}},{"$f":"VLOOKUP($B415,#REF!,17,FALSE)","v":{"$error":"#REF!"}},{"$f":"IFERROR(VLOOKUP($B415,#REF!,2,FALSE),\"-\")","v":"-"}]
[null,413,{"$f":"VLOOKUP($B416,#REF!,2,FALSE)","v":{"$error":"#REF!"}},{"$f":"VLOOKUP($B416,#REF!,3,FALSE)","v":{"$error":"#REF!"}},{"$f":"VLOOKUP($B416,#REF!,5,FALSE)","v":{"$error":"#REF!"}},{"$f":"VLOOKUP($B416,#REF!,6,FALSE)","v":{"$error":"#REF!"}},"-",{"$error":"#REF!"},null,{"$f":"VLOOKUP($B416,#REF!,13,FALSE)","v":{"$error":"#REF!"}},{"$f":"VLOOKUP($B416,#REF!,10,FALSE)","v":{"$error":"#REF!"}},{"$f":"VLOOKUP($B416,#REF!,17,FALSE)","v":{"$error":"#REF!"}},{"$f":"IFERROR(VLOOKUP($B416,#REF!,2,FALSE),\"-\")","v":"-"}]
[null,414,{"$f":"VLOOKUP($B417,#REF!,2,FALSE)","v":{"$error":"#REF!"}},{"$f":"VLOOKUP($B417,#REF!,3,FALSE)","v":{"$error":"#REF!"}},{"$f":"VLOOKUP($B417,#REF!,5,FALSE)","v":{"$error":"#REF!"}},{"$f":"VLOOKUP($B417,#REF!,6,FALSE)","v":{"$error":"#REF!"}},"-",{"$error":"#REF!"},null,{"$f":"VLOOKUP($B417,#REF!,13,FALSE)","v":{"$error":"#REF!"}},{"$f":"VLOOKUP($B417,#REF!,10,FALSE)","v":{"$error":"#REF!"}},{"$f":"VLOOKUP($B417,#REF!,17,FALSE)","v":{"$error":"#REF!"}},{"$f":"IFERROR(VLOOKUP($B417,#REF!,2,FALSE),\"-\")","v":"-"}]
[null,415,{"$f":"VLOOKUP($B418,#REF!,2,FALSE)","v":{"$error":"#REF!"}},{"$f":"VLOOKUP($B418,#REF!,3,FALSE)","v":{"$error":"#REF!"}},{"$f":"VLOOKUP($B418,#REF!,5,FALSE)","v":{"$error":"#REF!"}},{"$f":"VLOOKUP($B418,#REF!,6,FALSE)","v":{"$error":"#REF!"}},"-",{"$error":"#REF!"},null,{"$f":"VLOOKUP($B418,#REF!,13,FALSE)","v":{"$error":"#REF!"}},{"$f":"VLOOKUP($B418,#REF!,10,FALSE)","v":{"$error":"#REF!"}},{"$f":"VLOOKUP($B418,#REF!,17,FALSE)","v":{"$error":"#REF!"}},{"$f":"IFERROR(VLOOKUP($B418,#REF!,2,FALSE),\"-\")","v":"-"}]
[null,416,{"$f":"VLOOKUP($B419,#REF!,2,FALSE)","v":{"$error":"#REF!"}},{"$f":"VLOOKUP($B419,#REF!,3,FALSE)","v":{"$error":"#REF!"}},{"$f":"VLOOKUP($B419,#REF!,5,FALSE)","v":{"$error":"#REF!"}},{"$f":"VLOOKUP($B419,#REF!,6,FALSE)","v":{"$error":"#REF!"}},"-",{"$error":"#REF!"},null,{"$f":"VLOOKUP($B419,#REF!,13,FALSE)","v":{"$error":"#REF!"}},{"$f":"VLOOKUP($B419,#REF!,10,FALSE)","v":{"$error":"#REF!"}},{"$f":"VLOOKUP($B419,#REF!,17,FALSE)","v":{"$error":"#REF!"}},{"$f":"IFERROR(VLOOKUP($B419,#REF!,2,FALSE),\"-\")","v":"-"}]
[null,417,{"$f":"VLOOKUP($B420,#REF!,2,FALSE)","v":{"$error":"#REF!"}},{"$f":"VLOOKUP($B420,#REF!,3,FALSE)","v":{"$error":"#REF!"}},{"$f":"VLOOKUP($B420,#REF!,5,FALSE)","v":{"$error":"#REF!"}},{"$f":"VLOOKUP($B420,#REF!,6,FALSE)","v":{"$error":"#REF!"}},"-",{"$error":"#REF!"},null,{"$f":"VLOOKUP($B420,#REF!,13,FALSE)","v":{"$error":"#REF!"}},{"$f":"VLOOKUP($B420,#REF!,10,FALSE)","v":{"$error":"#REF!"}},{"$f":"VLOOKUP($B420,#REF!,17,FALSE)","v":{"$error":"#REF!"}},{"$f":"IFERROR(VLOOKUP($B420,#REF!,2,FALSE),\"-\")","v":"-"}]
[null,418,{"$f":"VLOOKUP($B421,#REF!,2,FALSE)","v":{"$error":"#REF!"}},{"$f":"VLOOKUP($B421,#REF!,3,FALSE)","v":{"$error":"#REF!"}},{"$f":"VLOOKUP($B421,#REF!,5,FALSE)","v":{"$error":"#REF!"}},{"$f":"VLOOKUP($B421,#REF!,6,FALSE)","v":{"$error":"#REF!"}},"-",{"$error":"#REF!"},null,{"$f":"VLOOKUP($B421,#REF!,13,FALSE)","v":{"$error":"#REF!"}},{"$f":"VLOOKUP($B421,#REF!,10,FALSE)","v":{"$error":"#REF!"}},{"$f":"VLOOKUP($B421,#REF!,17,FALSE)","v":{"$error":"#REF!"}},{"$f":"IFERROR(VLOOKUP($B421,#REF!,2,FALSE),\"-\")","v":"-"}]
[null,419,{"$f":"VLOOKUP($B422,#REF!,2,FALSE)","v":{"$error":"#REF!"}},{"$f":"VLOOKUP($B422,#REF!,3,FALSE)","v":{"$error":"#REF!"}},{"$f":"VLOOKUP($B422,#REF!,5,FALSE)","v":{"$error":"#REF!"}},{"$f":"VLOOKUP($B422,#REF!,6,FALSE)","v":{"$error":"#REF!"}},"-",{"$error":"#REF!"},null,{"$f":"VLOOKUP($B422,#REF!,13,FALSE)","v":{"$error":"#REF!"}},{"$f":"VLOOKUP($B422,#REF!,10,FALSE)","v":{"$error":"#REF!"}},{"$f":"VLOOKUP($B422,#REF!,17,FALSE)","v":{"$error":"#REF!"}},{"$f":"IFERROR(VLOOKUP($B422,#REF!,2,FALSE),\"-\")","v":"-"}]
[null,420,{"$f":"VLOOKUP($B423,#REF!,2,FALSE)","v":{"$error":"#REF!"}},{"$f":"VLOOKUP($B423,#REF!,3,FALSE)","v":{"$error":"#REF!"}},{"$f":"VLOOKUP($B423,#REF!,5,FALSE)","v":{"$error":"#REF!"}},{"$f":"VLOOKUP($B423,#REF!,6,FALSE)","v":{"$error":"#REF!"}},"-",{"$error":"#REF!"},null,{"$f":"VLOOKUP($B423,#REF!,13,FALSE)","v":{"$error":"#REF!"}},{"$f":"VLOOKUP($B423,#REF!,10,FALSE)","v":{"$error":"#REF!"}},{"$f":"VLOOKUP($B423,#REF!,17,FALSE)","v":{"$error":"#REF!"}},{"$f":"IFERROR(VLOOKUP($B423,#REF!,2,FALSE),\"-\")","v":"-"}]
[null,421,{"$f":"VLOOKUP($B424,#REF!,2,FALSE)","v":{"$error":"#REF!"}},{"$f":"VLOOKUP($B424,#REF!,3,FALSE)","v":{"$error":"#REF!"}},{"$f":"VLOOKUP($B424,#REF!,5,FALSE)","v":{"$error":"#REF!"}},{"$f":"VLOOKUP($B424,#REF!,6,FALSE)","v":{"$error":"#REF!"}},"-",{"$error":"#REF!"},null,{"$f":"VLOOKUP($B424,#REF!,13,FALSE)","v":{"$error":"#REF!"}},{"$f":"VLOOKUP($B424,#REF!,10,FALSE)","v":{"$error":"#REF!"}},{"$f":"VLOOKUP($B424,#REF!,17,FALSE)","v":{"$error":"#REF!"}},{"$f":"IFERROR(VLOOKUP($B424,#REF!,2,FALSE),\"-\")","v":"-"}]
[null,422,{"$f":"VLOOKUP($B425,#REF!,2,FALSE)","v":{"$error":"#REF!"}},{"$f":"VLOOKUP($B425,#REF!,3,FALSE)","v":{"$error":"#REF!"}},{"$f":"VLOOKUP($B425,#REF!,5,FALSE)","v":{"$error":"#REF!"}},{"$f":"VLOOKUP($B425,#REF!,6,FALSE)","v":{"$error":"#REF!"}},"-",{"$error":"#REF!"},null,{"$f":"VLOOKUP($B425,#REF!,13,FALSE)","v":{"$error":"#REF!"}},{"$f":"VLOOKUP($B425,#REF!,10,FALSE)","v":{"$error":"#REF!"}},{"$f":"VLOOKUP($B425,#REF!,17,FALSE)","v":{"$error":"#REF!"}},{"$f":"IFERROR(VLOOKUP($B425,#REF!,2,FALSE),\"-\")","v":"-"}]
[null,423,{"$f":"VLOOKUP($B426,#REF!,2,FALSE)","v":{"$error":"#REF!"}},{"$f":"VLOOKUP($B426,#REF!,3,FALSE)","v":{"$error":"#REF!"}},{"$f":"VLOOKUP($B426,#REF!,5,FALSE)","v":{"$error":"#REF!"}},{"$f":"VLOOKUP($B426,#REF!,6,FALSE)","v":{"$error":"#REF!"}},"-",{"$error":"#REF!"},null,{"$f":"VLOOKUP($B426,#REF!,13,FALSE)","v":{"$error":"#REF!"}},{"$f":"VLOOKUP($B426,#REF!,10,FALSE)","v":{"$error":"#REF!"}},{"$f":"VLOOKUP($B426,#REF!,17,FALSE)","v":{"$error":"#REF!"}},{"$f":"IFERROR(VLOOKUP($B426,#REF!,2,FALSE),\"-\")","v":"-"}]
[null,424,{"$f":"VLOOKUP($B427,#REF!,2,FALSE)","v":{"$error":"#REF!"}},{"$f":"VLOOKUP($B427,#REF!,3,FALSE)","v":{"$error":"#REF!"}},{"$f":"VLOOKUP($B427,#REF!,5,FALSE)","v":{"$error":"#REF!"}},{"$f":"VLOOKUP($B427,#REF!,6,FALSE)","v":{"$error":"#REF!"}},"-",{"$error":"#REF!"},null,{"$f":"VLOOKUP($B427,#REF!,13,FALSE)","v":{"$error":"#REF!"}},{"$f":"VLOOKUP($B427,#REF!,10,FALSE)","v":{"$error":"#REF!"}},{"$f":"VLOOKUP($B427,#REF!,17,FALSE)","v":{"$error":"#REF!"}},{"$f":"IFERROR(VLOOKUP($B427,#REF!,2,FALSE),\"-\")","v":"-"}]
[null,425,{"$f":"VLOOKUP($B428,#REF!,2,FALSE)","v":{"$error":"#REF!"}},{"$f":"VLOOKUP($B428,#REF!,3,FALSE)","v":{"$error":"#REF!"}},{"$f":"VLOOKUP($B428,#REF!,5,FALSE)","v":{"$error":"#REF!"}},{"$f":"VLOOKUP($B428,#REF!,6,FALSE)","v":{"$error":"#REF!"}},"-",{"$error":"#REF!"},null,{"$f":"VLOOKUP($B428,#REF!,13,FALSE)","v":{"$error":"#REF!"}},{"$f":"VLOOKUP($B428,#REF!,10,FALSE)","v":{"$error":"#REF!"}},{"$f":"VLOOKUP($B428,#REF!,17,FALSE)","v":{"$error":"#REF!"}},{"$f":"IFERROR(VLOOKUP($B428,#REF!,2,FALSE),\"-\")","v":"-"}]
[null,426,{"$f":"VLOOKUP($B429,#REF!,2,FALSE)","v":{"$error":"#REF!"}},{"$f":"VLOOKUP($B429,#REF!,3,FALSE)","v":{"$error":"#REF!"}},{"$f":"VLOOKUP($B429,#REF!,5,FALSE)","v":{"$error":"#REF!"}},{"$f":"VLOOKUP($B429,#REF!,6,FALSE)","v":{"$error":"#REF!"}},"-",{"$error":"#REF!"},null,{"$f":"VLOOKUP($B429,#REF!,13,FALSE)","v":{"$error":"#REF!"}},{"$f":"VLOOKUP($B429,#REF!,10,FALSE)","v":{"$error":"#REF!"}},{"$f":"VLOOKUP($B429,#REF!,17,FALSE)","v":{"$error":"#REF!"}},{"$f":"IFERROR(VLOOKUP($B429,#REF!,2,FALSE),\"-\")","v":"-"}]
[null,427,{"$f":"VLOOKUP($B430,#REF!,2,FALSE)","v":{"$error":"#REF!"}},{"$f":"VLOOKUP($B430,#REF!,3,FALSE)","v":{"$error":"#REF!"}},{"$f":"VLOOKUP($B430,#REF!,5,FALSE)","v":{"$error":"#REF!"}},{"$f":"VLOOKUP($B430,#REF!,6,FALSE)","v":{"$error":"#REF!"}},"-",{"$error":"#REF!"},null,{"$f":"VLOOKUP($B430,#REF!,13,FALSE)","v":{"$error":"#REF!"}},{"$f":"VLOOKUP($B430,#REF!,10,FALSE)","v":{"$error":"#REF!"}},{"$f":"VLOOKUP($B430,#REF!,17,FALSE)","v":{"$error":"#REF!"}},{"$f":"IFERROR(VLOOKUP($B430,#REF!,2,FALSE),\"-\")","v":"-"}]
[null,428,{"$f":"VLOOKUP($B431,#REF!,2,FALSE)","v":{"$error":"#REF!"}},{"$f":"VLOOKUP($B431,#REF!,3,FALSE)","v":{"$error":"#REF!"}},{"$f":"VLOOKUP($B431,#REF!,5,FALSE)","v":{"$error":"#REF!"}},{"$f":"VLOOKUP($B431,#REF!,6,FALSE)","v":{"$error":"#REF!"}},"-",{"$error":"#REF!"},null,{"$f":"VLOOKUP($B431,#REF!,13,FALSE)","v":{"$error":"#REF!"}},{"$f":"VLOOKUP($B431,#REF!,10,FALSE)","v":{"$error":"#REF!"}},{"$f":"VLOOKUP($B431,#REF!,17,FALSE)","v":{"$error":"#REF!"}},{"$f":"IFERROR(VLOOKUP($B431,#REF!,2,FALSE),\"-\")","v":"-"}]
[null,429,{"$f":"VLOOKUP($B432,#REF!,2,FALSE)","v":{"$error":"#REF!"}},{"$f":"VLOOKUP($B432,#REF!,3,FALSE)","v":{"$error":"#REF!"}},{"$f":"VLOOKUP($B432,#REF!,5,FALSE)","v":{"$error":"#REF!"}},{"$f":"VLOOKUP($B432,#REF!,6,FALSE)","v":{"$error":"#REF!"}},"-",{"$error":"#REF!"},null,{"$f":"VLOOKUP($B432,#REF!,13,FALSE)","v":{"$error":"#REF!"}},{"$f":"VLOOKUP($B432,#REF!,10,FALSE)","v":{"$error":"#REF!"}},{"$f":"VLOOKUP($B432,#REF!,17,FALSE)","v":{"$error":"#REF!"}},{"$f":"IFERROR(VLOOKUP($B432,#REF!,2,FALSE),\"-\")","v":"-"}]
[null,430,{"$f":"VLOOKUP($B433,#REF!,2,FALSE)","v":{"$error":"#REF!"}},{"$f":"VLOOKUP($B433,#REF!,3,FALSE)","v":{"$error":"#REF!"}},{"$f":"VLOOKUP($B433,#REF!,5,FALSE)","v":{"$error":"#REF!"}},{"$f":"VLOOKUP($B433,#REF!,6,FALSE)","v":{"$error":"#REF!"}},"-",{"$error":"#REF!"},null,{"$f":"VLOOKUP($B433,#REF!,13,FALSE)","v":{"$error":"#REF!"}},{"$f":"VLOOKUP($B433,#REF!,10,FALSE)","v":{"$error":"#REF!"}},{"$f":"VLOOKUP($B433,#REF!,17,FALSE)","v":{"$error":"#REF!"}},{"$f":"IFERROR(VLOOKUP($B433,#REF!,2,FALSE),\"-\")","v":"-"}]
[null,431,{"$f":"VLOOKUP($B434,#REF!,2,FALSE)","v":{"$error":"#REF!"}},{"$f":"VLOOKUP($B434,#REF!,3,FALSE)","v":{"$error":"#REF!"}},{"$f":"VLOOKUP($B434,#REF!,5,FALSE)","v":{"$error":"#REF!"}},{"$f":"VLOOKUP($B434,#REF!,6,FALSE)","v":{"$error":"#REF!"}},"-",{"$error":"#REF!"},null,{"$f":"VLOOKUP($B434,#REF!,13,FALSE)","v":{"$error":"#REF!"}},{"$f":"VLOOKUP($B434,#REF!,10,FALSE)","v":{"$error":"#REF!"}},{"$f":"VLOOKUP($B434,#REF!,17,FALSE)","v":{"$error":"#REF!"}},{"$f":"IFERROR(VLOOKUP($B434,#REF!,2,FALSE),\"-\")","v":"-"}]
[null,432,{"$f":"VLOOKUP($B435,#REF!,2,FALSE)","v":{"$error":"#REF!"}},{"$f":"VLOOKUP($B435,#REF!,3,FALSE)","v":{"$error":"#REF!"}},{"$f":"VLOOKUP($B435,#REF!,5,FALSE)","v":{"$error":"#REF!"}},{"$f":"VLOOKUP($B435,#REF!,6,FALSE)","v":{"$error":"#REF!"}},"-",{"$error":"#REF!"},null,{"$f":"VLOOKUP($B435,#REF!,13,FALSE)","v":{"$error":"#REF!"}},{"$f":"VLOOKUP($B435,#REF!,10,FALSE)","v":{"$error":"#REF!"}},{"$f":"VLOOKUP($B435,#REF!,17,FALSE)","v":{"$error":"#REF!"}},{"$f":"IFERROR(VLOOKUP($B435,#REF!,2,FALSE),\"-\")","v":"-"}]
[null,433,{"$f":"VLOOKUP($B436,#REF!,2,FALSE)","v":{"$error":"#REF!"}},{"$f":"VLOOKUP($B436,#REF!,3,FALSE)","v":{"$error":"#REF!"}},{"$f":"VLOOKUP($B436,#REF!,5,FALSE)","v":{"$error":"#REF!"}},{"$f":"VLOOKUP($B436,#REF!,6,FALSE)","v":{"$error":"#REF!"}},"-",{"$error":"#REF!"},null,{"$f":"VLOOKUP($B436,#REF!,13,FALSE)","v":{"$error":"#REF!"}},{"$f":"VLOOKUP($B436,#REF!,10,FALSE)","v":{"$error":"#REF!"}},{"$f":"VLOOKUP($B436,#REF!,17,FALSE)","v":{"$error":"#REF!"}},{"$f":"IFERROR(VLOOKUP($B436,#REF!,2,FALSE),\"-\")","v":"-"}]
[null,434,{"$f":"VLOOKUP($B437,#REF!,2,FALSE)","v":{"$error":"#REF!"}},{"$f":"VLOOKUP($B437,#REF!,3,FALSE)","v":{"$error":"#REF!"}},{"$f":"VLOOKUP($B437,#REF!,5,FALSE)","v":{"$error":"#REF!"}},{"$f":"VLOOKUP($B437,#REF!,6,FALSE)","v":{"$error":"#REF!"}},"-",{"$error":"#REF!"},null,{"$f":"VLOOKUP($B437,#REF!,13,FALSE)","v":{"$error":"#REF!"}},{"$f":"VLOOKUP($B437,#REF!,10,FALSE)","v":{"$error":"#REF!"}},{"$f":"VLOOKUP($B437,#REF!,17,FALSE)","v":{"$error":"#REF!"}},{"$f":"IFERROR(VLOOKUP($B437,#REF!,2,FALSE),\"-\")","v":"-"}]
[null,435,{"$f":"VLOOKUP($B438,#REF!,2,FALSE)","v":{"$error":"#REF!"}},{"$f":"VLOOKUP($B438,#REF!,3,FALSE)","v":{"$error":"#REF!"}},{"$f":"VLOOKUP($B438,#REF!,5,FALSE)","v":{"$error":"#REF!"}},{"$f":"VLOOKUP($B438,#REF!,6,FALSE)","v":{"$error":"#REF!"}},"-",{"$error":"#REF!"},null,{"$f":"VLOOKUP($B438,#REF!,13,FALSE)","v":{"$error":"#REF!"}},{"$f":"VLOOKUP($B438,#REF!,10,FALSE)","v":{"$error":"#REF!"}},{"$f":"VLOOKUP($B438,#REF!,17,FALSE)","v":{"$error":"#REF!"}},{"$f":"IFERROR(VLOOKUP($B438,#REF!,2,FALSE),\"-\")","v":"-"}]
[null,436,{"$f":"VLOOKUP($B439,#REF!,2,FALSE)","v":{"$error":"#REF!"}},{"$f":"VLOOKUP($B439,#REF!,3,FALSE)","v":{"$error":"#REF!"}},{"$f":"VLOOKUP($B439,#REF!,5,FALSE)","v":{"$error":"#REF!"}},{"$f":"VLOOKUP($B439,#REF!,6,FALSE)","v":{"$error":"#REF!"}},"-",{"$error":"#REF!"},null,{"$f":"VLOOKUP($B439,#REF!,13,FALSE)","v":{"$error":"#REF!"}},{"$f":"VLOOKUP($B439,#REF!,10,FALSE)","v":{"$error":"#REF!"}},{"$f":"VLOOKUP($B439,#REF!,17,FALSE)","v":{"$error":"#REF!"}},{"$f":"IFERROR(VLOOKUP($B439,#REF!,2,FALSE),\"-\")","v":"-"}]
[null,437,{"$f":"VLOOKUP($B440,#REF!,2,FALSE)","v":{"$error":"#REF!"}},{"$f":"VLOOKUP($B440,#REF!,3,FALSE)","v":{"$error":"#REF!"}},{"$f":"VLOOKUP($B440,#REF!,5,FALSE)","v":{"$error":"#REF!"}},{"$f":"VLOOKUP($B440,#REF!,6,FALSE)","v":{"$error":"#REF!"}},"-",{"$error":"#REF!"},null,{"$f":"VLOOKUP($B440,#REF!,13,FALSE)","v":{"$error":"#REF!"}},{"$f":"VLOOKUP($B440,#REF!,10,FALSE)","v":{"$error":"#REF!"}},{"$f":"VLOOKUP($B440,#REF!,17,FALSE)","v":{"$error":"#REF!"}},{"$f":"IFERROR(VLOOKUP($B440,#REF!,2,FALSE),\"-\")","v":"-"}]
[null,438,{"$f":"VLOOKUP($B441,#REF!,2,FALSE)","v":{"$error":"#REF!"}},{"$f":"VLOOKUP($B441,#REF!,3,FALSE)","v":{"$error":"#REF!"}},{"$f":"VLOOKUP($B441,#REF!,5,FALSE)","v":{"$error":"#REF!"}},{"$f":"VLOOKUP($B441,#REF!,6,FALSE)","v":{"$error":"#REF!"}},"-",{"$error":"#REF!"},null,{"$f":"VLOOKUP($B441,#REF!,13,FALSE)","v":{"$error":"#REF!"}},{"$f":"VLOOKUP($B441,#REF!,10,FALSE)","v":{"$error":"#REF!"}},{"$f":"VLOOKUP($B441,#REF!,17,FALSE)","v":{"$error":"#REF!"}},{"$f":"IFERROR(VLOOKUP($B441,#REF!,2,FALSE),\"-\")","v":"-"}]
[null,439,{"$f":"VLOOKUP($B442,#REF!,2,FALSE)","v":{"$error":"#REF!"}},{"$f":"VLOOKUP($B442,#REF!,3,FALSE)","v":{"$error":"#REF!"}},{"$f":"VLOOKUP($B442,#REF!,5,FALSE)","v":{"$error":"#REF!"}},{"$f":"VLOOKUP($B442,#REF!,6,FALSE)","v":{"$error":"#REF!"}},"-",{"$error":"#REF!"},null,{"$f":"VLOOKUP($B442,#REF!,13,FALSE)","v":{"$error":"#REF!"}},{"$f":"VLOOKUP($B442,#REF!,10,FALSE)","v":{"$error":"#REF!"}},{"$f":"VLOOKUP($B442,#REF!,17,FALSE)","v":{"$error":"#REF!"}},{"$f":"IFERROR(VLOOKUP($B442,#REF!,2,FALSE),\"-\")","v":"-"}]
[null,440,{"$f":"VLOOKUP($B443,#REF!,2,FALSE)","v":{"$error":"#REF!"}},{"$f":"VLOOKUP($B443,#REF!,3,FALSE)","v":{"$error":"#REF!"}},{"$f":"VLOOKUP($B443,#REF!,5,FALSE)","v":{"$error":"#REF!"}},{"$f":"VLOOKUP($B443,#REF!,6,FALSE)","v":{"$error":"#REF!"}},"-",{"$error":"#REF!"},null,{"$f":"VLOOKUP($B443,#REF!,13,FALSE)","v":{"$error":"#REF!"}},{"$f":"VLOOKUP($B443,#REF!,10,FALSE)","v":{"$error":"#REF!"}},{"$f":"VLOOKUP($B443,#REF!,17,FALSE)","v":{"$error":"#REF!"}},{"$f":"IFERROR(VLOOKUP($B443,#REF!,2,FALSE),\"-\")","v":"-"}]
[null,441,{"$f":"VLOOKUP($B444,#REF!,2,FALSE)","v":{"$error":"#REF!"}},{"$f":"VLOOKUP($B444,#REF!,3,FALSE)","v":{"$error":"#REF!"}},{"$f":"VLOOKUP($B444,#REF!,5,FALSE)","v":{"$error":"#REF!"}},{"$f":"VLOOKUP($B444,#REF!,6,FALSE)","v":{"$error":"#REF!"}},"-",{"$error":"#REF!"},null,{"$f":"VLOOKUP($B444,#REF!,13,FALSE)","v":{"$error":"#REF!"}},{"$f":"VLOOKUP($B444,#REF!,10,FALSE)","v":{"$error":"#REF!"}},{"$f":"VLOOKUP($B444,#REF!,17,FALSE)","v":{"$error":"#REF!"}},{"$f":"IFERROR(VLOOKUP($B444,#REF!,2,FALSE),\"-\")","v":"-"}]
[null,442,{"$f":"VLOOKUP($B445,#REF!,2,FALSE)","v":{"$error":"#REF!"}},{"$f":"VLOOKUP($B445,#REF!,3,FALSE)","v":{"$error":"#REF!"}},{"$f":"VLOOKUP($B445,#REF!,5,FALSE)","v":{"$error":"#REF!"}},{"$f":"VLOOKUP($B445,#REF!,6,FALSE)","v":{"$error":"#REF!"}},"-",{"$error":"#REF!"},null,{"$f":"VLOOKUP($B445,#REF!,13,FALSE)","v":{"$error":"#REF!"}},{"$f":"VLOOKUP($B445,#REF!,10,FALSE)","v":{"$error":"#REF!"}},{"$f":"VLOOKUP($B445,#REF!,17,FALSE)","v":{"$error":"#REF!"}},{"$f":"IFERROR(VLOOKUP($B445,#REF!,2,FALSE),\"-\")","v":"-"}]
[null,443,{"$f":"VLOOKUP($B446,#REF!,2,FALSE)","v":{"$error":"#REF!"}},{"$f":"VLOOKUP($B446,#REF!,3,FALSE)","v":{"$error":"#REF!"}},{"$f":"VLOOKUP($B446,#REF!,5,FALSE)","v":{"$error":"#REF!"}},{"$f":"VLOOKUP($B446,#REF!,6,FALSE)","v":{"$error":"#REF!"}},"-",{"$error":"#REF!"},null,{"$f":"VLOOKUP($B446,#REF!,13,FALSE)","v":{"$error":"#REF!"}},{"$f":"VLOOKUP($B446,#REF!,10,FALSE)","v":{"$error":"#REF!"}},{"$f":"VLOOKUP($B446,#REF!,17,FALSE)","v":{"$error":"#REF!"}},{"$f":"IFERROR(VLOOKUP($B446,#REF!,2,FALSE),\"-\")","v":"-"}]
[null,444,{"$f":"VLOOKUP($B447,#REF!,2,FALSE)","v":{"$error":"#REF!"}},{"$f":"VLOOKUP($B447,#REF!,3,FALSE)","v":{"$error":"#REF!"}},{"$f":"VLOOKUP($B447,#REF!,5,FALSE)","v":{"$error":"#REF!"}},{"$f":"VLOOKUP($B447,#REF!,6,FALSE)","v":{"$error":"#REF!"}},"-",{"$error":"#REF!"},null,{"$f":"VLOOKUP($B447,#REF!,13,FALSE)","v":{"$error":"#REF!"}},{"$f":"VLOOKUP($B447,#REF!,10,FALSE)","v":{"$error":"#REF!"}},{"$f":"VLOOKUP($B447,#REF!,17,FALSE)","v":{"$error":"#REF!"}},{"$f":"IFERROR(VLOOKUP($B447,#REF!,2,FALSE),\"-\")","v":"-"}]
[null,445,{"$f":"VLOOKUP($B448,#REF!,2,FALSE)","v":{"$error":"#REF!"}},{"$f":"VLOOKUP($B448,#REF!,3,FALSE)","v":{"$error":"#REF!"}},{"$f":"VLOOKUP($B448,#REF!,5,FALSE)","v":{"$error":"#REF!"}},{"$f":"VLOOKUP($B448,#REF!,6,FALSE)","v":{"$error":"#REF!"}},"-",{"$error":"#REF!"},null,{"$f":"VLOOKUP($B448,#REF!,13,FALSE)","v":{"$error":"#REF!"}},{"$f":"VLOOKUP($B448,#REF!,10,FALSE)","v":{"$error":"#REF!"}},{"$f":"VLOOKUP($B448,#REF!,17,FALSE)","v":{"$error":"#REF!"}},{"$f":"IFERROR(VLOOKUP($B448,#REF!,2,FALSE),\"-\")","v":"-"}]
[null,446,{"$f":"VLOOKUP($B449,#REF!,2,FALSE)","v":{"$error":"#REF!"}},{"$f":"VLOOKUP($B449,#REF!,3,FALSE)","v":{"$error":"#REF!"}},{"$f":"VLOOKUP($B449,#REF!,5,FALSE)","v":{"$error":"#REF!"}},{"$f":"VLOOKUP($B449,#REF!,6,FALSE)","v":{"$error":"#REF!"}},"-",{"$error":"#REF!"},null,{"$f":"VLOOKUP($B449,#REF!,13,FALSE)","v":{"$error":"#REF!"}},{"$f":"VLOOKUP($B449,#REF!,10,FALSE)","v":{"$error":"#REF!"}},{"$f":"VLOOKUP($B449,#REF!,17,FALSE)","v":{"$error":"#REF!"}},{"$f":"IFERROR(VLOOKUP($B449,#REF!,2,FALSE),\"-\")","v":"-"}]
[null,447,{"$f":"VLOOKUP($B450,#REF!,2,FALSE)","v":{"$error":"#REF!"}},{"$f":"VLOOKUP($B450,#REF!,3,FALSE)","v":{"$error":"#REF!"}},{"$f":"VLOOKUP($B450,#REF!,5,FALSE)","v":{"$error":"#REF!"}},{"$f":"VLOOKUP($B450,#REF!,6,FALSE)","v":{"$error":"#REF!"}},"-",{"$error":"#REF!"},null,{"$f":"VLOOKUP($B450,#REF!,13,FALSE)","v":{"$error":"#REF!"}},{"$f":"VLOOKUP($B450,#REF!,10,FALSE)","v":{"$error":"#REF!"}},{"$f":"VLOOKUP($B450,#REF!,17,FALSE)","v":{"$error":"#REF!"}},{"$f":"IFERROR(VLOOKUP($B450,#REF!,2,FALSE),\"-\")","v":"-"}]
[null,448,{"$f":"VLOOKUP($B451,#REF!,2,FALSE)","v":{"$error":"#REF!"}},{"$f":"VLOOKUP($B451,#REF!,3,FALSE)","v":{"$error":"#REF!"}},{"$f":"VLOOKUP($B451,#REF!,5,FALSE)","v":{"$error":"#REF!"}},{"$f":"VLOOKUP($B451,#REF!,6,FALSE)","v":{"$error":"#REF!"}},"-",{"$error":"#REF!"},null,{"$f":"VLOOKUP($B451,#REF!,13,FALSE)","v":{"$error":"#REF!"}},{"$f":"VLOOKUP($B451,#REF!,10,FALSE)","v":{"$error":"#REF!"}},{"$f":"VLOOKUP($B451,#REF!,17,FALSE)","v":{"$error":"#REF!"}},{"$f":"IFERROR(VLOOKUP($B451,#REF!,2,FALSE),\"-\")","v":"-"}]
[null,449,{"$f":"VLOOKUP($B452,#REF!,2,FALSE)","v":{"$error":"#REF!"}},{"$f":"VLOOKUP($B452,#REF!,3,FALSE)","v":{"$error":"#REF!"}},{"$f":"VLOOKUP($B452,#REF!,5,FALSE)","v":{"$error":"#REF!"}},{"$f":"VLOOKUP($B452,#REF!,6,FALSE)","v":{"$error":"#REF!"}},{"$f":"IF(M452=1,\"欠席\",IF(M452=9,\"空ﾚｰﾝ\",\"-\"))","v":"-"},{"$error":"#REF!"},null,{"$f":"VLOOKUP($B452,#REF!,13,FALSE)","v":{"$error":"#REF!"}},{"$f":"VLOOKUP($B452,#REF!,10,FALSE)","v":{"$error":"#REF!"}},{"$f":"VLOOKUP($B452,#REF!,17,FALSE)","v":{"$error":"#REF!"}},{"$f":"IFERROR(VLOOKUP($B452,#REF!,2,FALSE),\"-\")","v":"-"}]
[null,450,{"$f":"VLOOKUP($B453,#REF!,2,FALSE)","v":{"$error":"#REF!"}},{"$f":"VLOOKUP($B453,#REF!,3,FALSE)","v":{"$error":"#REF!"}},{"$f":"VLOOKUP($B453,#REF!,5,FALSE)","v":{"$error":"#REF!"}},{"$f":"VLOOKUP($B453,#REF!,6,FALSE)","v":{"$error":"#REF!"}},"-",{"$f":"+C453","v":{"$error":"#REF!"}},null,{"$f":"VLOOKUP($B453,#REF!,13,FALSE)","v":{"$error":"#REF!"}},{"$f":"VLOOKUP($B453,#REF!,10,FALSE)","v":{"$error":"#REF!"}},{"$f":"VLOOKUP($B453,#REF!,17,FALSE)","v":{"$error":"#REF!"}},{"$f":"IFERROR(VLOOKUP($B453,#REF!,2,FALSE),\"-\")","v":"-"}]
[null,451,{"$f":"VLOOKUP($B454,#REF!,2,FALSE)","v":{"$error":"#REF!"}},{"$f":"VLOOKUP($B454,#REF!,3,FALSE)","v":{"$error":"#REF!"}},{"$f":"VLOOKUP($B454,#REF!,5,FALSE)","v":{"$error":"#REF!"}},{"$f":"VLOOKUP($B454,#REF!,6,FALSE)","v":{"$error":"#REF!"}},"-",{"$error":"#REF!"},null,{"$f":"VLOOKUP($B454,#REF!,13,FALSE)","v":{"$error":"#REF!"}},{"$f":"VLOOKUP($B454,#REF!,10,FALSE)","v":{"$error":"#REF!"}},{"$f":"VLOOKUP($B454,#REF!,17,FALSE)","v":{"$error":"#REF!"}},{"$f":"IFERROR(VLOOKUP($B454,#REF!,2,FALSE),\"-\")","v":"-"}]
[null,452,{"$f":"VLOOKUP($B455,#REF!,2,FALSE)","v":{"$error":"#REF!"}},{"$f":"VLOOKUP($B455,#REF!,3,FALSE)","v":{"$error":"#REF!"}},{"$f":"VLOOKUP($B455,#REF!,5,FALSE)","v":{"$error":"#REF!"}},{"$f":"VLOOKUP($B455,#REF!,6,FALSE)","v":{"$error":"#REF!"}},"-",{"$error":"#REF!"},null,{"$f":"VLOOKUP($B455,#REF!,13,FALSE)","v":{"$error":"#REF!"}},{"$f":"VLOOKUP($B455,#REF!,10,FALSE)","v":{"$error":"#REF!"}},{"$f":"VLOOKUP($B455,#REF!,17,FALSE)","v":{"$error":"#REF!"}},{"$f":"IFERROR(VLOOKUP($B455,#REF!,2,FALSE),\"-\")","v":"-"}]
[null,453,{"$f":"VLOOKUP($B456,#REF!,2,FALSE)","v":{"$error":"#REF!"}},{"$f":"VLOOKUP($B456,#REF!,3,FALSE)","v":{"$error":"#REF!"}},{"$f":"VLOOKUP($B456,#REF!,5,FALSE)","v":{"$error":"#REF!"}},{"$f":"VLOOKUP($B456,#REF!,6,FALSE)","v":{"$error":"#REF!"}},"-",{"$error":"#REF!"},null,{"$f":"VLOOKUP($B456,#REF!,13,FALSE)","v":{"$error":"#REF!"}},{"$f":"VLOOKUP($B456,#REF!,10,FALSE)","v":{"$error":"#REF!"}},{"$f":"VLOOKUP($B456,#REF!,17,FALSE)","v":{"$error":"#REF!"}},{"$f":"IFERROR(VLOOKUP($B456,#REF!,2,FALSE),\"-\")","v":"-"}]
[null,454,{"$f":"VLOOKUP($B457,#REF!,2,FALSE)","v":{"$error":"#REF!"}},{"$f":"VLOOKUP($B457,#REF!,3,FALSE)","v":{"$error":"#REF!"}},{"$f":"VLOOKUP($B457,#REF!,5,FALSE)","v":{"$error":"#REF!"}},{"$f":"VLOOKUP($B457,#REF!,6,FALSE)","v":{"$error":"#REF!"}},"-",{"$error":"#REF!"},null,{"$f":"VLOOKUP($B457,#REF!,13,FALSE)","v":{"$error":"#REF!"}},{"$f":"VLOOKUP($B457,#REF!,10,FALSE)","v":{"$error":"#REF!"}},{"$f":"VLOOKUP($B457,#REF!,17,FALSE)","v":{"$error":"#REF!"}},{"$f":"IFERROR(VLOOKUP($B457,#REF!,2,FALSE),\"-\")","v":"-"}]
[null,455,{"$f":"VLOOKUP($B458,#REF!,2,FALSE)","v":{"$error":"#REF!"}},{"$f":"VLOOKUP($B458,#REF!,3,FALSE)","v":{"$error":"#REF!"}},{"$f":"VLOOKUP($B458,#REF!,5,FALSE)","v":{"$error":"#REF!"}},{"$f":"VLOOKUP($B458,#REF!,6,FALSE)","v":{"$error":"#REF!"}},"-",{"$error":"#REF!"},null,{"$f":"VLOOKUP($B458,#REF!,13,FALSE)","v":{"$error":"#REF!"}},{"$f":"VLOOKUP($B458,#REF!,10,FALSE)","v":{"$error":"#REF!"}},{"$f":"VLOOKUP($B458,#REF!,17,FALSE)","v":{"$error":"#REF!"}},{"$f":"IFERROR(VLOOKUP($B458,#REF!,2,FALSE),\"-\")","v":"-"}]
[null,456,{"$f":"VLOOKUP($B459,#REF!,2,FALSE)","v":{"$error":"#REF!"}},{"$f":"VLOOKUP($B459,#REF!,3,FALSE)","v":{"$error":"#REF!"}},{"$f":"VLOOKUP($B459,#REF!,5,FALSE)","v":{"$error":"#REF!"}},{"$f":"VLOOKUP($B459,#REF!,6,FALSE)","v":{"$error":"#REF!"}},"-",{"$error":"#REF!"},null,{"$f":"VLOOKUP($B459,#REF!,13,FALSE)","v":{"$error":"#REF!"}},{"$f":"VLOOKUP($B459,#REF!,10,FALSE)","v":{"$error":"#REF!"}},{"$f":"VLOOKUP($B459,#REF!,17,FALSE)","v":{"$error":"#REF!"}},{"$f":"IFERROR(VLOOKUP($B459,#REF!,2,FALSE),\"-\")","v":"-"}]
[null,457,{"$f":"VLOOKUP($B460,#REF!,2,FALSE)","v":{"$error":"#REF!"}},{"$f":"VLOOKUP($B460,#REF!,3,FALSE)","v":{"$error":"#REF!"}},{"$f":"VLOOKUP($B460,#REF!,5,FALSE)","v":{"$error":"#REF!"}},{"$f":"VLOOKUP($B460,#REF!,6,FALSE)","v":{"$error":"#REF!"}},"-",{"$error":"#REF!"},null,{"$f":"VLOOKUP($B460,#REF!,13,FALSE)","v":{"$error":"#REF!"}},{"$f":"VLOOKUP($B460,#REF!,10,FALSE)","v":{"$error":"#REF!"}},{"$f":"VLOOKUP($B460,#REF!,17,FALSE)","v":{"$error":"#REF!"}},{"$f":"IFERROR(VLOOKUP($B460,#REF!,2,FALSE),\"-\")","v":"-"}]
[null,458,{"$f":"VLOOKUP($B461,#REF!,2,FALSE)","v":{"$error":"#REF!"}},{"$f":"VLOOKUP($B461,#REF!,3,FALSE)","v":{"$error":"#REF!"}},{"$f":"VLOOKUP($B461,#REF!,5,FALSE)","v":{"$error":"#REF!"}},{"$f":"VLOOKUP($B461,#REF!,6,FALSE)","v":{"$error":"#REF!"}},"-",{"$error":"#REF!"},null,{"$f":"VLOOKUP($B461,#REF!,13,FALSE)","v":{"$error":"#REF!"}},{"$f":"VLOOKUP($B461,#REF!,10,FALSE)","v":{"$error":"#REF!"}},{"$f":"VLOOKUP($B461,#REF!,17,FALSE)","v":{"$error":"#REF!"}},{"$f":"IFERROR(VLOOKUP($B461,#REF!,2,FALSE),\"-\")","v":"-"}]
[null,459,{"$f":"VLOOKUP($B462,#REF!,2,FALSE)","v":{"$error":"#REF!"}},{"$f":"VLOOKUP($B462,#REF!,3,FALSE)","v":{"$error":"#REF!"}},{"$f":"VLOOKUP($B462,#REF!,5,FALSE)","v":{"$error":"#REF!"}},{"$f":"VLOOKUP($B462,#REF!,6,FALSE)","v":{"$error":"#REF!"}},"-",{"$error":"#REF!"},null,{"$f":"VLOOKUP($B462,#REF!,13,FALSE)","v":{"$error":"#REF!"}},{"$f":"VLOOKUP($B462,#REF!,10,FALSE)","v":{"$error":"#REF!"}},{"$f":"VLOOKUP($B462,#REF!,17,FALSE)","v":{"$error":"#REF!"}},{"$f":"IFERROR(VLOOKUP($B462,#REF!,2,FALSE),\"-\")","v":"-"}]
[null,460,{"$f":"VLOOKUP($B463,#REF!,2,FALSE)","v":{"$error":"#REF!"}},{"$f":"VLOOKUP($B463,#REF!,3,FALSE)","v":{"$error":"#REF!"}},{"$f":"VLOOKUP($B463,#REF!,5,FALSE)","v":{"$error":"#REF!"}},{"$f":"VLOOKUP($B463,#REF!,6,FALSE)","v":{"$error":"#REF!"}},"-",{"$error":"#REF!"},null,{"$f":"VLOOKUP($B463,#REF!,13,FALSE)","v":{"$error":"#REF!"}},{"$f":"VLOOKUP($B463,#REF!,10,FALSE)","v":{"$error":"#REF!"}},{"$f":"VLOOKUP($B463,#REF!,17,FALSE)","v":{"$error":"#REF!"}},{"$f":"IFERROR(VLOOKUP($B463,#REF!,2,FALSE),\"-\")","v":"-"}]
[null,461,{"$f":"VLOOKUP($B464,#REF!,2,FALSE)","v":{"$error":"#REF!"}},{"$f":"VLOOKUP($B464,#REF!,3,FALSE)","v":{"$error":"#REF!"}},{"$f":"VLOOKUP($B464,#REF!,5,FALSE)","v":{"$error":"#REF!"}},{"$f":"VLOOKUP($B464,#REF!,6,FALSE)","v":{"$error":"#REF!"}},"-",{"$error":"#REF!"},null,{"$f":"VLOOKUP($B464,#REF!,13,FALSE)","v":{"$error":"#REF!"}},{"$f":"VLOOKUP($B464,#REF!,10,FALSE)","v":{"$error":"#REF!"}},{"$f":"VLOOKUP($B464,#REF!,17,FALSE)","v":{"$error":"#REF!"}},{"$f":"IFERROR(VLOOKUP($B464,#REF!,2,FALSE),\"-\")","v":"-"}]
[null,462,{"$f":"VLOOKUP($B465,#REF!,2,FALSE)","v":{"$error":"#REF!"}},{"$f":"VLOOKUP($B465,#REF!,3,FALSE)","v":{"$error":"#REF!"}},{"$f":"VLOOKUP($B465,#REF!,5,FALSE)","v":{"$error":"#REF!"}},{"$f":"VLOOKUP($B465,#REF!,6,FALSE)","v":{"$error":"#REF!"}},"-",{"$error":"#REF!"},null,{"$f":"VLOOKUP($B465,#REF!,13,FALSE)","v":{"$error":"#REF!"}},{"$f":"VLOOKUP($B465,#REF!,10,FALSE)","v":{"$error":"#REF!"}},{"$f":"VLOOKUP($B465,#REF!,17,FALSE)","v":{"$error":"#REF!"}},{"$f":"IFERROR(VLOOKUP($B465,#REF!,2,FALSE),\"-\")","v":"-"}]
[null,463,{"$f":"VLOOKUP($B466,#REF!,2,FALSE)","v":{"$error":"#REF!"}},{"$f":"VLOOKUP($B466,#REF!,3,FALSE)","v":{"$error":"#REF!"}},{"$f":"VLOOKUP($B466,#REF!,5,FALSE)","v":{"$error":"#REF!"}},{"$f":"VLOOKUP($B466,#REF!,6,FALSE)","v":{"$error":"#REF!"}},"-",{"$error":"#REF!"},null,{"$f":"VLOOKUP($B466,#REF!,13,FALSE)","v":{"$error":"#REF!"}},{"$f":"VLOOKUP($B466,#REF!,10,FALSE)","v":{"$error":"#REF!"}},{"$f":"VLOOKUP($B466,#REF!,17,FALSE)","v":{"$error":"#REF!"}},{"$f":"IFERROR(VLOOKUP($B466,#REF!,2,FALSE),\"-\")","v":"-"}]
[null,464,{"$f":"VLOOKUP($B467,#REF!,2,FALSE)","v":{"$error":"#REF!"}},{"$f":"VLOOKUP($B467,#REF!,3,FALSE)","v":{"$error":"#REF!"}},{"$f":"VLOOKUP($B467,#REF!,5,FALSE)","v":{"$error":"#REF!"}},{"$f":"VLOOKUP($B467,#REF!,6,FALSE)","v":{"$error":"#REF!"}},"-",{"$error":"#REF!"},null,{"$f":"VLOOKUP($B467,#REF!,13,FALSE)","v":{"$error":"#REF!"}},{"$f":"VLOOKUP($B467,#REF!,10,FALSE)","v":{"$error":"#REF!"}},{"$f":"VLOOKUP($B467,#REF!,17,FALSE)","v":{"$error":"#REF!"}},{"$f":"IFERROR(VLOOKUP($B467,#REF!,2,FALSE),\"-\")","v":"-"}]
[null,465,{"$f":"VLOOKUP($B468,#REF!,2,FALSE)","v":{"$error":"#REF!"}},{"$f":"VLOOKUP($B468,#REF!,3,FALSE)","v":{"$error":"#REF!"}},{"$f":"VLOOKUP($B468,#REF!,5,FALSE)","v":{"$error":"#REF!"}},{"$f":"VLOOKUP($B468,#REF!,6,FALSE)","v":{"$error":"#REF!"}},"-",{"$error":"#REF!"},null,{"$f":"VLOOKUP($B468,#REF!,13,FALSE)","v":{"$error":"#REF!"}},{"$f":"VLOOKUP($B468,#REF!,10,FALSE)","v":{"$error":"#REF!"}},{"$f":"VLOOKUP($B468,#REF!,17,FALSE)","v":{"$error":"#REF!"}},{"$f":"IFERROR(VLOOKUP($B468,#REF!,2,FALSE),\"-\")","v":"-"}]
[null,466,{"$f":"VLOOKUP($B469,#REF!,2,FALSE)","v":{"$error":"#REF!"}},{"$f":"VLOOKUP($B469,#REF!,3,FALSE)","v":{"$error":"#REF!"}},{"$f":"VLOOKUP($B469,#REF!,5,FALSE)","v":{"$error":"#REF!"}},{"$f":"VLOOKUP($B469,#REF!,6,FALSE)","v":{"$error":"#REF!"}},"-",{"$error":"#REF!"},null,{"$f":"VLOOKUP($B469,#REF!,13,FALSE)","v":{"$error":"#REF!"}},{"$f":"VLOOKUP($B469,#REF!,10,FALSE)","v":{"$error":"#REF!"}},{"$f":"VLOOKUP($B469,#REF!,17,FALSE)","v":{"$error":"#REF!"}},{"$f":"IFERROR(VLOOKUP($B469,#REF!,2,FALSE),\"-\")","v":"-"}]
[null,467,{"$f":"VLOOKUP($B470,#REF!,2,FALSE)","v":{"$error":"#REF!"}},{"$f":"VLOOKUP($B470,#REF!,3,FALSE)","v":{"$error":"#REF!"}},{"$f":"VLOOKUP($B470,#REF!,5,FALSE)","v":{"$error":"#REF!"}},{"$f":"VLOOKUP($B470,#REF!,6,FALSE)","v":{"$error":"#REF!"}},"-",{"$error":"#REF!"},null,{"$f":"VLOOKUP($B470,#REF!,13,FALSE)","v":{"$error":"#REF!"}},{"$f":"VLOOKUP($B470,#REF!,10,FALSE)","v":{"$error":"#REF!"}},{"$f":"VLOOKUP($B470,#REF!,17,FALSE)","v":{"$error":"#REF!"}},{"$f":"IFERROR(VLOOKUP($B470,#REF!,2,FALSE),\"-\")","v":"-"}]
[null,468,{"$f":"VLOOKUP($B471,#REF!,2,FALSE)","v":{"$error":"#REF!"}},{"$f":"VLOOKUP($B471,#REF!,3,FALSE)","v":{"$error":"#REF!"}},{"$f":"VLOOKUP($B471,#REF!,5,FALSE)","v":{"$error":"#REF!"}},{"$f":"VLOOKUP($B471,#REF!,6,FALSE)","v":{"$error":"#REF!"}},"-",{"$error":"#REF!"},null,{"$f":"VLOOKUP($B471,#REF!,13,FALSE)","v":{"$error":"#REF!"}},{"$f":"VLOOKUP($B471,#REF!,10,FALSE)","v":{"$error":"#REF!"}},{"$f":"VLOOKUP($B471,#REF!,17,FALSE)","v":{"$error":"#REF!"}},{"$f":"IFERROR(VLOOKUP($B471,#REF!,2,FALSE),\"-\")","v":"-"}]
[null,469,{"$f":"VLOOKUP($B472,#REF!,2,FALSE)","v":{"$error":"#REF!"}},{"$f":"VLOOKUP($B472,#REF!,3,FALSE)","v":{"$error":"#REF!"}},{"$f":"VLOOKUP($B472,#REF!,5,FALSE)","v":{"$error":"#REF!"}},{"$f":"VLOOKUP($B472,#REF!,6,FALSE)","v":{"$error":"#REF!"}},"-",{"$error":"#REF!"},null,{"$f":"VLOOKUP($B472,#REF!,13,FALSE)","v":{"$error":"#REF!"}},{"$f":"VLOOKUP($B472,#REF!,10,FALSE)","v":{"$error":"#REF!"}},{"$f":"VLOOKUP($B472,#REF!,17,FALSE)","v":{"$error":"#REF!"}},{"$f":"IFERROR(VLOOKUP($B472,#REF!,2,FALSE),\"-\")","v":"-"}]
[null,470,{"$f":"VLOOKUP($B473,#REF!,2,FALSE)","v":{"$error":"#REF!"}},{"$f":"VLOOKUP($B473,#REF!,3,FALSE)","v":{"$error":"#REF!"}},{"$f":"VLOOKUP($B473,#REF!,5,FALSE)","v":{"$error":"#REF!"}},{"$f":"VLOOKUP($B473,#REF!,6,FALSE)","v":{"$error":"#REF!"}},"-",{"$error":"#REF!"},null,{"$f":"VLOOKUP($B473,#REF!,13,FALSE)","v":{"$error":"#REF!"}},{"$f":"VLOOKUP($B473,#REF!,10,FALSE)","v":{"$error":"#REF!"}},{"$f":"VLOOKUP($B473,#REF!,17,FALSE)","v":{"$error":"#REF!"}},{"$f":"IFERROR(VLOOKUP($B473,#REF!,2,FALSE),\"-\")","v":"-"}]
[null,471,{"$f":"VLOOKUP($B474,#REF!,2,FALSE)","v":{"$error":"#REF!"}},{"$f":"VLOOKUP($B474,#REF!,3,FALSE)","v":{"$error":"#REF!"}},{"$f":"VLOOKUP($B474,#REF!,5,FALSE)","v":{"$error":"#REF!"}},{"$f":"VLOOKUP($B474,#REF!,6,FALSE)","v":{"$error":"#REF!"}},"-",{"$error":"#REF!"},null,{"$f":"VLOOKUP($B474,#REF!,13,FALSE)","v":{"$error":"#REF!"}},{"$f":"VLOOKUP($B474,#REF!,10,FALSE)","v":{"$error":"#REF!"}},{"$f":"VLOOKUP($B474,#REF!,17,FALSE)","v":{"$error":"#REF!"}},{"$f":"IFERROR(VLOOKUP($B474,#REF!,2,FALSE),\"-\")","v":"-"}]
[null,472,{"$f":"VLOOKUP($B475,#REF!,2,FALSE)","v":{"$error":"#REF!"}},{"$f":"VLOOKUP($B475,#REF!,3,FALSE)","v":{"$error":"#REF!"}},{"$f":"VLOOKUP($B475,#REF!,5,FALSE)","v":{"$error":"#REF!"}},{"$f":"VLOOKUP($B475,#REF!,6,FALSE)","v":{"$error":"#REF!"}},"-",{"$error":"#REF!"},null,{"$f":"VLOOKUP($B475,#REF!,13,FALSE)","v":{"$error":"#REF!"}},{"$f":"VLOOKUP($B475,#REF!,10,FALSE)","v":{"$error":"#REF!"}},{"$f":"VLOOKUP($B475,#REF!,17,FALSE)","v":{"$error":"#REF!"}},{"$f":"IFERROR(VLOOKUP($B475,#REF!,2,FALSE),\"-\")","v":"-"}]
[null,473,{"$f":"VLOOKUP($B476,#REF!,2,FALSE)","v":{"$error":"#REF!"}},{"$f":"VLOOKUP($B476,#REF!,3,FALSE)","v":{"$error":"#REF!"}},{"$f":"VLOOKUP($B476,#REF!,5,FALSE)","v":{"$error":"#REF!"}},{"$f":"VLOOKUP($B476,#REF!,6,FALSE)","v":{"$error":"#REF!"}},"-",{"$error":"#REF!"},null,{"$f":"VLOOKUP($B476,#REF!,13,FALSE)","v":{"$error":"#REF!"}},{"$f":"VLOOKUP($B476,#REF!,10,FALSE)","v":{"$error":"#REF!"}},{"$f":"VLOOKUP($B476,#REF!,17,FALSE)","v":{"$error":"#REF!"}},{"$f":"IFERROR(VLOOKUP($B476,#REF!,2,FALSE),\"-\")","v":"-"}]
[null,474,{"$f":"VLOOKUP($B477,#REF!,2,FALSE)","v":{"$error":"#REF!"}},{"$f":"VLOOKUP($B477,#REF!,3,FALSE)","v":{"$error":"#REF!"}},{"$f":"VLOOKUP($B477,#REF!,5,FALSE)","v":{"$error":"#REF!"}},{"$f":"VLOOKUP($B477,#REF!,6,FALSE)","v":{"$error":"#REF!"}},"-",{"$error":"#REF!"},null,{"$f":"VLOOKUP($B477,#REF!,13,FALSE)","v":{"$error":"#REF!"}},{"$f":"VLOOKUP($B477,#REF!,10,FALSE)","v":{"$error":"#REF!"}},{"$f":"VLOOKUP($B477,#REF!,17,FALSE)","v":{"$error":"#REF!"}},{"$f":"IFERROR(VLOOKUP($B477,#REF!,2,FALSE),\"-\")","v":"-"}]
[null,475,{"$f":"VLOOKUP($B478,#REF!,2,FALSE)","v":{"$error":"#REF!"}},{"$f":"VLOOKUP($B478,#REF!,3,FALSE)","v":{"$error":"#REF!"}},{"$f":"VLOOKUP($B478,#REF!,5,FALSE)","v":{"$error":"#REF!"}},{"$f":"VLOOKUP($B478,#REF!,6,FALSE)","v":{"$error":"#REF!"}},"-",{"$error":"#REF!"},null,{"$f":"VLOOKUP($B478,#REF!,13,FALSE)","v":{"$error":"#REF!"}},{"$f":"VLOOKUP($B478,#REF!,10,FALSE)","v":{"$error":"#REF!"}},{"$f":"VLOOKUP($B478,#REF!,17,FALSE)","v":{"$error":"#REF!"}},{"$f":"IFERROR(VLOOKUP($B478,#REF!,2,FALSE),\"-\")","v":"-"}]
[null,476,{"$f":"VLOOKUP($B479,#REF!,2,FALSE)","v":{"$error":"#REF!"}},{"$f":"VLOOKUP($B479,#REF!,3,FALSE)","v":{"$error":"#REF!"}},{"$f":"VLOOKUP($B479,#REF!,5,FALSE)","v":{"$error":"#REF!"}},{"$f":"VLOOKUP($B479,#REF!,6,FALSE)","v":{"$error":"#REF!"}},"-",{"$error":"#REF!"},null,{"$f":"VLOOKUP($B479,#REF!,13,FALSE)","v":{"$error":"#REF!"}},{"$f":"VLOOKUP($B479,#REF!,10,FALSE)","v":{"$error":"#REF!"}},{"$f":"VLOOKUP($B479,#REF!,17,FALSE)","v":{"$error":"#REF!"}},{"$f":"IFERROR(VLOOKUP($B479,#REF!,2,FALSE),\"-\")","v":"-"}]
[null,477,{"$f":"VLOOKUP($B480,#REF!,2,FALSE)","v":{"$error":"#REF!"}},{"$f":"VLOOKUP($B480,#REF!,3,FALSE)","v":{"$error":"#REF!"}},{"$f":"VLOOKUP($B480,#REF!,5,FALSE)","v":{"$error":"#REF!"}},{"$f":"VLOOKUP($B480,#REF!,6,FALSE)","v":{"$error":"#REF!"}},"-",{"$error":"#REF!"},null,{"$f":"VLOOKUP($B480,#REF!,13,FALSE)","v":{"$error":"#REF!"}},{"$f":"VLOOKUP($B480,#REF!,10,FALSE)","v":{"$error":"#REF!"}},{"$f":"VLOOKUP($B480,#REF!,17,FALSE)","v":{"$error":"#REF!"}},{"$f":"IFERROR(VLOOKUP($B480,#REF!,2,FALSE),\"-\")","v":"-"}]
[null,478,{"$f":"VLOOKUP($B481,#REF!,2,FALSE)","v":{"$error":"#REF!"}},{"$f":"VLOOKUP($B481,#REF!,3,FALSE)","v":{"$error":"#REF!"}},{"$f":"VLOOKUP($B481,#REF!,5,FALSE)","v":{"$error":"#REF!"}},{"$f":"VLOOKUP($B481,#REF!,6,FALSE)","v":{"$error":"#REF!"}},"-",{"$error":"#REF!"},null,{"$f":"VLOOKUP($B481,#REF!,13,FALSE)","v":{"$error":"#REF!"}},{"$f":"VLOOKUP($B481,#REF!,10,FALSE)","v":{"$error":"#REF!"}},{"$f":"VLOOKUP($B481,#REF!,17,FALSE)","v":{"$error":"#REF!"}},{"$f":"IFERROR(VLOOKUP($B481,#REF!,2,FALSE),\"-\")","v":"-"}]
[null,479,{"$f":"VLOOKUP($B482,#REF!,2,FALSE)","v":{"$error":"#REF!"}},{"$f":"VLOOKUP($B482,#REF!,3,FALSE)","v":{"$error":"#REF!"}},{"$f":"VLOOKUP($B482,#REF!,5,FALSE)","v":{"$error":"#REF!"}},{"$f":"VLOOKUP($B482,#REF!,6,FALSE)","v":{"$error":"#REF!"}},"-",{"$error":"#REF!"},null,{"$f":"VLOOKUP($B482,#REF!,13,FALSE)","v":{"$error":"#REF!"}},{"$f":"VLOOKUP($B482,#REF!,10,FALSE)","v":{"$error":"#REF!"}},{"$f":"VLOOKUP($B482,#REF!,17,FALSE)","v":{"$error":"#REF!"}},{"$f":"IFERROR(VLOOKUP($B482,#REF!,2,FALSE),\"-\")","v":"-"}]
[null,480,{"$f":"VLOOKUP($B483,#REF!,2,FALSE)","v":{"$error":"#REF!"}},{"$f":"VLOOKUP($B483,#REF!,3,FALSE)","v":{"$error":"#REF!"}},{"$f":"VLOOKUP($B483,#REF!,5,FALSE)","v":{"$error":"#REF!"}},{"$f":"VLOOKUP($B483,#REF!,6,FALSE)","v":{"$error":"#REF!"}},"-",{"$error":"#REF!"},null,{"$f":"VLOOKUP($B483,#REF!,13,FALSE)","v":{"$error":"#REF!"}},{"$f":"VLOOKUP($B483,#REF!,10,FALSE)","v":{"$error":"#REF!"}},{"$f":"VLOOKUP($B483,#REF!,17,FALSE)","v":{"$error":"#REF!"}},{"$f":"IFERROR(VLOOKUP($B483,#REF!,2,FALSE),\"-\")","v":"-"}]
[null,481,{"$f":"VLOOKUP($B484,#REF!,2,FALSE)","v":{"$error":"#REF!"}},{"$f":"VLOOKUP($B484,#REF!,3,FALSE)","v":{"$error":"#REF!"}},{"$f":"VLOOKUP($B484,#REF!,5,FALSE)","v":{"$error":"#REF!"}},{"$f":"VLOOKUP($B484,#REF!,6,FALSE)","v":{"$error":"#REF!"}},"-",{"$error":"#REF!"},null,{"$f":"VLOOKUP($B484,#REF!,13,FALSE)","v":{"$error":"#REF!"}},{"$f":"VLOOKUP($B484,#REF!,10,FALSE)","v":{"$error":"#REF!"}},{"$f":"VLOOKUP($B484,#REF!,17,FALSE)","v":{"$error":"#REF!"}},{"$f":"IFERROR(VLOOKUP($B484,#REF!,2,FALSE),\"-\")","v":"-"}]
[null,482,{"$f":"VLOOKUP($B485,#REF!,2,FALSE)","v":{"$error":"#REF!"}},{"$f":"VLOOKUP($B485,#REF!,3,FALSE)","v":{"$error":"#REF!"}},{"$f":"VLOOKUP($B485,#REF!,5,FALSE)","v":{"$error":"#REF!"}},{"$f":"VLOOKUP($B485,#REF!,6,FALSE)","v":{"$error":"#REF!"}},"-",{"$error":"#REF!"},null,{"$f":"VLOOKUP($B485,#REF!,13,FALSE)","v":{"$error":"#REF!"}},{"$f":"VLOOKUP($B485,#REF!,10,FALSE)","v":{"$error":"#REF!"}},{"$f":"VLOOKUP($B485,#REF!,17,FALSE)","v":{"$error":"#REF!"}},{"$f":"IFERROR(VLOOKUP($B485,#REF!,2,FALSE),\"-\")","v":"-"}]
[null,483,{"$f":"VLOOKUP($B486,#REF!,2,FALSE)","v":{"$error":"#REF!"}},{"$f":"VLOOKUP($B486,#REF!,3,FALSE)","v":{"$error":"#REF!"}},{"$f":"VLOOKUP($B486,#REF!,5,FALSE)","v":{"$error":"#REF!"}},{"$f":"VLOOKUP($B486,#REF!,6,FALSE)","v":{"$error":"#REF!"}},"-",{"$error":"#REF!"},null,{"$f":"VLOOKUP($B486,#REF!,13,FALSE)","v":{"$error":"#REF!"}},{"$f":"VLOOKUP($B486,#REF!,10,FALSE)","v":{"$error":"#REF!"}},{"$f":"VLOOKUP($B486,#REF!,17,FALSE)","v":{"$error":"#REF!"}},{"$f":"IFERROR(VLOOKUP($B486,#REF!,2,FALSE),\"-\")","v":"-"}]
[null,484,{"$f":"VLOOKUP($B487,#REF!,2,FALSE)","v":{"$error":"#REF!"}},{"$f":"VLOOKUP($B487,#REF!,3,FALSE)","v":{"$error":"#REF!"}},{"$f":"VLOOKUP($B487,#REF!,5,FALSE)","v":{"$error":"#REF!"}},{"$f":"VLOOKUP($B487,#REF!,6,FALSE)","v":{"$error":"#REF!"}},"-",{"$error":"#REF!"},null,{"$f":"VLOOKUP($B487,#REF!,13,FALSE)","v":{"$error":"#REF!"}},{"$f":"VLOOKUP($B487,#REF!,10,FALSE)","v":{"$error":"#REF!"}},{"$f":"VLOOKUP($B487,#REF!,17,FALSE)","v":{"$error":"#REF!"}},{"$f":"IFERROR(VLOOKUP($B487,#REF!,2,FALSE),\"-\")","v":"-"}]
[null,485,{"$f":"VLOOKUP($B488,#REF!,2,FALSE)","v":{"$error":"#REF!"}},{"$f":"VLOOKUP($B488,#REF!,3,FALSE)","v":{"$error":"#REF!"}},{"$f":"VLOOKUP($B488,#REF!,5,FALSE)","v":{"$error":"#REF!"}},{"$f":"VLOOKUP($B488,#REF!,6,FALSE)","v":{"$error":"#REF!"}},"-",{"$error":"#REF!"},null,{"$f":"VLOOKUP($B488,#REF!,13,FALSE)","v":{"$error":"#REF!"}},{"$f":"VLOOKUP($B488,#REF!,10,FALSE)","v":{"$error":"#REF!"}},{"$f":"VLOOKUP($B488,#REF!,17,FALSE)","v":{"$error":"#REF!"}},{"$f":"IFERROR(VLOOKUP($B488,#REF!,2,FALSE),\"-\")","v":"-"}]
[null,486,{"$f":"VLOOKUP($B489,#REF!,2,FALSE)","v":{"$error":"#REF!"}},{"$f":"VLOOKUP($B489,#REF!,3,FALSE)","v":{"$error":"#REF!"}},{"$f":"VLOOKUP($B489,#REF!,5,FALSE)","v":{"$error":"#REF!"}},{"$f":"VLOOKUP($B489,#REF!,6,FALSE)","v":{"$error":"#REF!"}},"-",{"$error":"#REF!"},null,{"$f":"VLOOKUP($B489,#REF!,13,FALSE)","v":{"$error":"#REF!"}},{"$f":"VLOOKUP($B489,#REF!,10,FALSE)","v":{"$error":"#REF!"}},{"$f":"VLOOKUP($B489,#REF!,17,FALSE)","v":{"$error":"#REF!"}},{"$f":"IFERROR(VLOOKUP($B489,#REF!,2,FALSE),\"-\")","v":"-"}]
[null,487,{"$f":"VLOOKUP($B490,#REF!,2,FALSE)","v":{"$error":"#REF!"}},{"$f":"VLOOKUP($B490,#REF!,3,FALSE)","v":{"$error":"#REF!"}},{"$f":"VLOOKUP($B490,#REF!,5,FALSE)","v":{"$error":"#REF!"}},{"$f":"VLOOKUP($B490,#REF!,6,FALSE)","v":{"$error":"#REF!"}},"-",{"$error":"#REF!"},null,{"$f":"VLOOKUP($B490,#REF!,13,FALSE)","v":{"$error":"#REF!"}},{"$f":"VLOOKUP($B490,#REF!,10,FALSE)","v":{"$error":"#REF!"}},{"$f":"VLOOKUP($B490,#REF!,17,FALSE)","v":{"$error":"#REF!"}},{"$f":"IFERROR(VLOOKUP($B490,#REF!,2,FALSE),\"-\")","v":"-"}]
[null,488,{"$f":"VLOOKUP($B491,#REF!,2,FALSE)","v":{"$error":"#REF!"}},{"$f":"VLOOKUP($B491,#REF!,3,FALSE)","v":{"$error":"#REF!"}},{"$f":"VLOOKUP($B491,#REF!,5,FALSE)","v":{"$error":"#REF!"}},{"$f":"VLOOKUP($B491,#REF!,6,FALSE)","v":{"$error":"#REF!"}},"-",{"$error":"#REF!"},null,{"$f":"VLOOKUP($B491,#REF!,13,FALSE)","v":{"$error":"#REF!"}},{"$f":"VLOOKUP($B491,#REF!,10,FALSE)","v":{"$error":"#REF!"}},{"$f":"VLOOKUP($B491,#REF!,17,FALSE)","v":{"$error":"#REF!"}},{"$f":"IFERROR(VLOOKUP($B491,#REF!,2,FALSE),\"-\")","v":"-"}]
[null,489,{"$f":"VLOOKUP($B492,#REF!,2,FALSE)","v":{"$error":"#REF!"}},{"$f":"VLOOKUP($B492,#REF!,3,FALSE)","v":{"$error":"#REF!"}},{"$f":"VLOOKUP($B492,#REF!,5,FALSE)","v":{"$error":"#REF!"}},{"$f":"VLOOKUP($B492,#REF!,6,FALSE)","v":{"$error":"#REF!"}},"-",{"$error":"#REF!"},null,{"$f":"VLOOKUP($B492,#REF!,13,FALSE)","v":{"$error":"#REF!"}},{"$f":"VLOOKUP($B492,#REF!,10,FALSE)","v":{"$error":"#REF!"}},{"$f":"VLOOKUP($B492,#REF!,17,FALSE)","v":{"$error":"#REF!"}},{"$f":"IFERROR(VLOOKUP($B492,#REF!,2,FALSE),\"-\")","v":"-"}]
[null,490,{"$f":"VLOOKUP($B493,#REF!,2,FALSE)","v":{"$error":"#REF!"}},{"$f":"VLOOKUP($B493,#REF!,3,FALSE)","v":{"$error":"#REF!"}},{"$f":"VLOOKUP($B493,#REF!,5,FALSE)","v":{"$error":"#REF!"}},{"$f":"VLOOKUP($B493,#REF!,6,FALSE)","v":{"$error":"#REF!"}},"-",{"$error":"#REF!"},null,{"$f":"VLOOKUP($B493,#REF!,13,FALSE)","v":{"$error":"#REF!"}},{"$f":"VLOOKUP($B493,#REF!,10,FALSE)","v":{"$error":"#REF!"}},{"$f":"VLOOKUP($B493,#REF!,17,FALSE)","v":{"$error":"#REF!"}},{"$f":"IFERROR(VLOOKUP($B493,#REF!,2,FALSE),\"-\")","v":"-"}]
[null,491,{"$f":"VLOOKUP($B494,#REF!,2,FALSE)","v":{"$error":"#REF!"}},{"$f":"VLOOKUP($B494,#REF!,3,FALSE)","v":{"$error":"#REF!"}},{"$f":"VLOOKUP($B494,#REF!,5,FALSE)","v":{"$error":"#REF!"}},{"$f":"VLOOKUP($B494,#REF!,6,FALSE)","v":{"$error":"#REF!"}},"-",{"$error":"#REF!"},null,{"$f":"VLOOKUP($B494,#REF!,13,FALSE)","v":{"$error":"#REF!"}},{"$f":"VLOOKUP($B494,#REF!,10,FALSE)","v":{"$error":"#REF!"}},{"$f":"VLOOKUP($B494,#REF!,17,FALSE)","v":{"$error":"#REF!"}},{"$f":"IFERROR(VLOOKUP($B494,#REF!,2,FALSE),\"-\")","v":"-"}]
[null,492,{"$f":"VLOOKUP($B495,#REF!,2,FALSE)","v":{"$error":"#REF!"}},{"$f":"VLOOKUP($B495,#REF!,3,FALSE)","v":{"$error":"#REF!"}},{"$f":"VLOOKUP($B495,#REF!,5,FALSE)","v":{"$error":"#REF!"}},{"$f":"VLOOKUP($B495,#REF!,6,FALSE)","v":{"$error":"#REF!"}},"-",{"$error":"#REF!"},null,{"$f":"VLOOKUP($B495,#REF!,13,FALSE)","v":{"$error":"#REF!"}},{"$f":"VLOOKUP($B495,#REF!,10,FALSE)","v":{"$error":"#REF!"}},{"$f":"VLOOKUP($B495,#REF!,17,FALSE)","v":{"$error":"#REF!"}},{"$f":"IFERROR(VLOOKUP($B495,#REF!,2,FALSE),\"-\")","v":"-"}]
[null,493,{"$f":"VLOOKUP($B496,#REF!,2,FALSE)","v":{"$error":"#REF!"}},{"$f":"VLOOKUP($B496,#REF!,3,FALSE)","v":{"$error":"#REF!"}},{"$f":"VLOOKUP($B496,#REF!,5,FALSE)","v":{"$error":"#REF!"}},{"$f":"VLOOKUP($B496,#REF!,6,FALSE)","v":{"$error":"#REF!"}},"-",{"$error":"#REF!"},null,{"$f":"VLOOKUP($B496,#REF!,13,FALSE)","v":{"$error":"#REF!"}},{"$f":"VLOOKUP($B496,#REF!,10,FALSE)","v":{"$error":"#REF!"}},{"$f":"VLOOKUP($B496,#REF!,17,FALSE)","v":{"$error":"#REF!"}},{"$f":"IFERROR(VLOOKUP($B496,#REF!,2,FALSE),\"-\")","v":"-"}]
[null,494,{"$f":"VLOOKUP($B497,#REF!,2,FALSE)","v":{"$error":"#REF!"}},{"$f":"VLOOKUP($B497,#REF!,3,FALSE)","v":{"$error":"#REF!"}},{"$f":"VLOOKUP($B497,#REF!,5,FALSE)","v":{"$error":"#REF!"}},{"$f":"VLOOKUP($B497,#REF!,6,FALSE)","v":{"$error":"#REF!"}},"-",{"$error":"#REF!"},null,{"$f":"VLOOKUP($B497,#REF!,13,FALSE)","v":{"$error":"#REF!"}},{"$f":"VLOOKUP($B497,#REF!,10,FALSE)","v":{"$error":"#REF!"}},{"$f":"VLOOKUP($B497,#REF!,17,FALSE)","v":{"$error":"#REF!"}},{"$f":"IFERROR(VLOOKUP($B497,#REF!,2,FALSE),\"-\")","v":"-"}]
[null,495,{"$f":"VLOOKUP($B498,#REF!,2,FALSE)","v":{"$error":"#REF!"}},{"$f":"VLOOKUP($B498,#REF!,3,FALSE)","v":{"$error":"#REF!"}},{"$f":"VLOOKUP($B498,#REF!,5,FALSE)","v":{"$error":"#REF!"}},{"$f":"VLOOKUP($B498,#REF!,6,FALSE)","v":{"$error":"#REF!"}},"-",{"$error":"#REF!"},null,{"$f":"VLOOKUP($B498,#REF!,13,FALSE)","v":{"$error":"#REF!"}},{"$f":"VLOOKUP($B498,#REF!,10,FALSE)","v":{"$error":"#REF!"}},{"$f":"VLOOKUP($B498,#REF!,17,FALSE)","v":{"$error":"#REF!"}},{"$f":"IFERROR(VLOOKUP($B498,#REF!,2,FALSE),\"-\")","v":"-"}]
[null,496,{"$f":"VLOOKUP($B499,#REF!,2,FALSE)","v":{"$error":"#REF!"}},{"$f":"VLOOKUP($B499,#REF!,3,FALSE)","v":{"$error":"#REF!"}},{"$f":"VLOOKUP($B499,#REF!,5,FALSE)","v":{"$error":"#REF!"}},{"$f":"VLOOKUP($B499,#REF!,6,FALSE)","v":{"$error":"#REF!"}},"-",{"$error":"#REF!"},null,{"$f":"VLOOKUP($B499,#REF!,13,FALSE)","v":{"$error":"#REF!"}},{"$f":"VLOOKUP($B499,#REF!,10,FALSE)","v":{"$error":"#REF!"}},{"$f":"VLOOKUP($B499,#REF!,17,FALSE)","v":{"$error":"#REF!"}},{"$f":"IFERROR(VLOOKUP($B499,#REF!,2,FALSE),\"-\")","v":"-"}]
[null,497,{"$f":"VLOOKUP($B500,#REF!,2,FALSE)","v":{"$error":"#REF!"}},{"$f":"VLOOKUP($B500,#REF!,3,FALSE)","v":{"$error":"#REF!"}},{"$f":"VLOOKUP($B500,#REF!,5,FALSE)","v":{"$error":"#REF!"}},{"$f":"VLOOKUP($B500,#REF!,6,FALSE)","v":{"$error":"#REF!"}},"-",{"$error":"#REF!"},null,{"$f":"VLOOKUP($B500,#REF!,13,FALSE)","v":{"$error":"#REF!"}},{"$f":"VLOOKUP($B500,#REF!,10,FALSE)","v":{"$error":"#REF!"}},{"$f":"VLOOKUP($B500,#REF!,17,FALSE)","v":{"$error":"#REF!"}},{"$f":"IFERROR(VLOOKUP($B500,#REF!,2,FALSE),\"-\")","v":"-"}]
[null,498,{"$f":"VLOOKUP($B501,#REF!,2,FALSE)","v":{"$error":"#REF!"}},{"$f":"VLOOKUP($B501,#REF!,3,FALSE)","v":{"$error":"#REF!"}},{"$f":"VLOOKUP($B501,#REF!,5,FALSE)","v":{"$error":"#REF!"}},{"$f":"VLOOKUP($B501,#REF!,6,FALSE)","v":{"$error":"#REF!"}},"-",{"$error":"#REF!"},null,{"$f":"VLOOKUP($B501,#REF!,13,FALSE)","v":{"$error":"#REF!"}},{"$f":"VLOOKUP($B501,#REF!,10,FALSE)","v":{"$error":"#REF!"}},{"$f":"VLOOKUP($B501,#REF!,17,FALSE)","v":{"$error":"#REF!"}},{"$f":"IFERROR(VLOOKUP($B501,#REF!,2,FALSE),\"-\")","v":"-"}]
[null,499,{"$f":"VLOOKUP($B502,#REF!,2,FALSE)","v":{"$error":"#REF!"}},{"$f":"VLOOKUP($B502,#REF!,3,FALSE)","v":{"$error":"#REF!"}},{"$f":"VLOOKUP($B502,#REF!,5,FALSE)","v":{"$error":"#REF!"}},{"$f":"VLOOKUP($B502,#REF!,6,FALSE)","v":{"$error":"#REF!"}},"-",{"$error":"#REF!"},null,{"$f":"VLOOKUP($B502,#REF!,13,FALSE)","v":{"$error":"#REF!"}},{"$f":"VLOOKUP($B502,#REF!,10,FALSE)","v":{"$error":"#REF!"}},{"$f":"VLOOKUP($B502,#REF!,17,FALSE)","v":{"$error":"#REF!"}},{"$f":"IFERROR(VLOOKUP($B502,#REF!,2,FALSE),\"-\")","v":"-"}]
[null,500,{"$f":"VLOOKUP($B503,#REF!,2,FALSE)","v":{"$error":"#REF!"}},{"$f":"VLOOKUP($B503,#REF!,3,FALSE)","v":{"$error":"#REF!"}},{"$f":"VLOOKUP($B503,#REF!,5,FALSE)","v":{"$error":"#REF!"}},{"$f":"VLOOKUP($B503,#REF!,6,FALSE)","v":{"$error":"#REF!"}},"-",{"$error":"#REF!"},null,{"$f":"VLOOKUP($B503,#REF!,13,FALSE)","v":{"$error":"#REF!"}},{"$f":"VLOOKUP($B503,#REF!,10,FALSE)","v":{"$error":"#REF!"}},{"$f":"VLOOKUP($B503,#REF!,17,FALSE)","v":{"$error":"#REF!"}},{"$f":"IFERROR(VLOOKUP($B503,#REF!,2,FALSE),\"-\")","v":"-"}]
[null,501,{"$f":"VLOOKUP($B504,#REF!,2,FALSE)","v":{"$error":"#REF!"}},{"$f":"VLOOKUP($B504,#REF!,3,FALSE)","v":{"$error":"#REF!"}},{"$f":"VLOOKUP($B504,#REF!,5,FALSE)","v":{"$error":"#REF!"}},{"$f":"VLOOKUP($B504,#REF!,6,FALSE)","v":{"$error":"#REF!"}},"-",{"$error":"#REF!"},null,{"$f":"VLOOKUP($B504,#REF!,13,FALSE)","v":{"$error":"#REF!"}},{"$f":"VLOOKUP($B504,#REF!,10,FALSE)","v":{"$error":"#REF!"}},{"$f":"VLOOKUP($B504,#REF!,17,FALSE)","v":{"$error":"#REF!"}},{"$f":"IFERROR(VLOOKUP($B504,#REF!,2,FALSE),\"-\")","v":"-"}]
[null,502,{"$f":"VLOOKUP($B505,#REF!,2,FALSE)","v":{"$error":"#REF!"}},{"$f":"VLOOKUP($B505,#REF!,3,FALSE)","v":{"$error":"#REF!"}},{"$f":"VLOOKUP($B505,#REF!,5,FALSE)","v":{"$error":"#REF!"}},{"$f":"VLOOKUP($B505,#REF!,6,FALSE)","v":{"$error":"#REF!"}},"-",{"$error":"#REF!"},null,{"$f":"VLOOKUP($B505,#REF!,13,FALSE)","v":{"$error":"#REF!"}},{"$f":"VLOOKUP($B505,#REF!,10,FALSE)","v":{"$error":"#REF!"}},{"$f":"VLOOKUP($B505,#REF!,17,FALSE)","v":{"$error":"#REF!"}},{"$f":"IFERROR(VLOOKUP($B505,#REF!,2,FALSE),\"-\")","v":"-"}]
[null,503,{"$f":"VLOOKUP($B506,#REF!,2,FALSE)","v":{"$error":"#REF!"}},{"$f":"VLOOKUP($B506,#REF!,3,FALSE)","v":{"$error":"#REF!"}},{"$f":"VLOOKUP($B506,#REF!,5,FALSE)","v":{"$error":"#REF!"}},{"$f":"VLOOKUP($B506,#REF!,6,FALSE)","v":{"$error":"#REF!"}},"-",{"$error":"#REF!"},null,{"$f":"VLOOKUP($B506,#REF!,13,FALSE)","v":{"$error":"#REF!"}},{"$f":"VLOOKUP($B506,#REF!,10,FALSE)","v":{"$error":"#REF!"}},{"$f":"VLOOKUP($B506,#REF!,17,FALSE)","v":{"$error":"#REF!"}},{"$f":"IFERROR(VLOOKUP($B506,#REF!,2,FALSE),\"-\")","v":"-"}]
[null,504,{"$f":"VLOOKUP($B507,#REF!,2,FALSE)","v":{"$error":"#REF!"}},{"$f":"VLOOKUP($B507,#REF!,3,FALSE)","v":{"$error":"#REF!"}},{"$f":"VLOOKUP($B507,#REF!,5,FALSE)","v":{"$error":"#REF!"}},{"$f":"VLOOKUP($B507,#REF!,6,FALSE)","v":{"$error":"#REF!"}},"-",{"$error":"#REF!"},null,{"$f":"VLOOKUP($B507,#REF!,13,FALSE)","v":{"$error":"#REF!"}},{"$f":"VLOOKUP($B507,#REF!,10,FALSE)","v":{"$error":"#REF!"}},{"$f":"VLOOKUP($B507,#REF!,17,FALSE)","v":{"$error":"#REF!"}},{"$f":"IFERROR(VLOOKUP($B507,#REF!,2,FALSE),\"-\")","v":"-"}]
[null,505,{"$f":"VLOOKUP($B508,#REF!,2,FALSE)","v":{"$error":"#REF!"}},{"$f":"VLOOKUP($B508,#REF!,3,FALSE)","v":{"$error":"#REF!"}},{"$f":"VLOOKUP($B508,#REF!,5,FALSE)","v":{"$error":"#REF!"}},{"$f":"VLOOKUP($B508,#REF!,6,FALSE)","v":{"$error":"#REF!"}},"-",{"$error":"#REF!"},null,{"$f":"VLOOKUP($B508,#REF!,13,FALSE)","v":{"$error":"#REF!"}},{"$f":"VLOOKUP($B508,#REF!,10,FALSE)","v":{"$error":"#REF!"}},{"$f":"VLOOKUP($B508,#REF!,17,FALSE)","v":{"$error":"#REF!"}},{"$f":"IFERROR(VLOOKUP($B508,#REF!,2,FALSE),\"-\")","v":"-"}]
[null,506,{"$f":"VLOOKUP($B509,#REF!,2,FALSE)","v":{"$error":"#REF!"}},{"$f":"VLOOKUP($B509,#REF!,3,FALSE)","v":{"$error":"#REF!"}},{"$f":"VLOOKUP($B509,#REF!,5,FALSE)","v":{"$error":"#REF!"}},{"$f":"VLOOKUP($B509,#REF!,6,FALSE)","v":{"$error":"#REF!"}},"-",{"$error":"#REF!"},null,{"$f":"VLOOKUP($B509,#REF!,13,FALSE)","v":{"$error":"#REF!"}},{"$f":"VLOOKUP($B509,#REF!,10,FALSE)","v":{"$error":"#REF!"}},{"$f":"VLOOKUP($B509,#REF!,17,FALSE)","v":{"$error":"#REF!"}},{"$f":"IFERROR(VLOOKUP($B509,#REF!,2,FALSE),\"-\")","v":"-"}]
[null,507,{"$f":"VLOOKUP($B510,#REF!,2,FALSE)","v":{"$error":"#REF!"}},{"$f":"VLOOKUP($B510,#REF!,3,FALSE)","v":{"$error":"#REF!"}},{"$f":"VLOOKUP($B510,#REF!,5,FALSE)","v":{"$error":"#REF!"}},{"$f":"VLOOKUP($B510,#REF!,6,FALSE)","v":{"$error":"#REF!"}},"-",{"$error":"#REF!"},null,{"$f":"VLOOKUP($B510,#REF!,13,FALSE)","v":{"$error":"#REF!"}},{"$f":"VLOOKUP($B510,#REF!,10,FALSE)","v":{"$error":"#REF!"}},{"$f":"VLOOKUP($B510,#REF!,17,FALSE)","v":{"$error":"#REF!"}},{"$f":"IFERROR(VLOOKUP($B510,#REF!,2,FALSE),\"-\")","v":"-"}]
[null,508,{"$f":"VLOOKUP($B511,#REF!,2,FALSE)","v":{"$error":"#REF!"}},{"$f":"VLOOKUP($B511,#REF!,3,FALSE)","v":{"$error":"#REF!"}},{"$f":"VLOOKUP($B511,#REF!,5,FALSE)","v":{"$error":"#REF!"}},{"$f":"VLOOKUP($B511,#REF!,6,FALSE)","v":{"$error":"#REF!"}},"-",{"$error":"#REF!"},null,{"$f":"VLOOKUP($B511,#REF!,13,FALSE)","v":{"$error":"#REF!"}},{"$f":"VLOOKUP($B511,#REF!,10,FALSE)","v":{"$error":"#REF!"}},{"$f":"VLOOKUP($B511,#REF!,17,FALSE)","v":{"$error":"#REF!"}},{"$f":"IFERROR(VLOOKUP($B511,#REF!,2,FALSE),\"-\")","v":"-"}]
[null,509,{"$f":"VLOOKUP($B512,#REF!,2,FALSE)","v":{"$error":"#REF!"}},{"$f":"VLOOKUP($B512,#REF!,3,FALSE)","v":{"$error":"#REF!"}},{"$f":"VLOOKUP($B512,#REF!,5,FALSE)","v":{"$error":"#REF!"}},{"$f":"VLOOKUP($B512,#REF!,6,FALSE)","v":{"$error":"#REF!"}},"-",{"$error":"#REF!"},null,{"$f":"VLOOKUP($B512,#REF!,13,FALSE)","v":{"$error":"#REF!"}},{"$f":"VLOOKUP($B512,#REF!,10,FALSE)","v":{"$error":"#REF!"}},{"$f":"VLOOKUP($B512,#REF!,17,FALSE)","v":{"$error":"#REF!"}},{"$f":"IFERROR(VLOOKUP($B512,#REF!,2,FALSE),\"-\")","v":"-"}]
[null,510,{"$f":"VLOOKUP($B513,#REF!,2,FALSE)","v":{"$error":"#REF!"}},{"$f":"VLOOKUP($B513,#REF!,3,FALSE)","v":{"$error":"#REF!"}},{"$f":"VLOOKUP($B513,#REF!,5,FALSE)","v":{"$error":"#REF!"}},{"$f":"VLOOKUP($B513,#REF!,6,FALSE)","v":{"$error":"#REF!"}},"-",{"$error":"#REF!"},null,{"$f":"VLOOKUP($B513,#REF!,13,FALSE)","v":{"$error":"#REF!"}},{"$f":"VLOOKUP($B513,#REF!,10,FALSE)","v":{"$error":"#REF!"}},{"$f":"VLOOKUP($B513,#REF!,17,FALSE)","v":{"$error":"#REF!"}},{"$f":"IFERROR(VLOOKUP($B513,#REF!,2,FALSE),\"-\")","v":"-"}]
[null,511,{"$f":"VLOOKUP($B514,#REF!,2,FALSE)","v":{"$error":"#REF!"}},{"$f":"VLOOKUP($B514,#REF!,3,FALSE)","v":{"$error":"#REF!"}},{"$f":"VLOOKUP($B514,#REF!,5,FALSE)","v":{"$error":"#REF!"}},{"$f":"VLOOKUP($B514,#REF!,6,FALSE)","v":{"$error":"#REF!"}},"-",{"$error":"#REF!"},null,{"$f":"VLOOKUP($B514,#REF!,13,FALSE)","v":{"$error":"#REF!"}},{"$f":"VLOOKUP($B514,#REF!,10,FALSE)","v":{"$error":"#REF!"}},{"$f":"VLOOKUP($B514,#REF!,17,FALSE)","v":{"$error":"#REF!"}},{"$f":"IFERROR(VLOOKUP($B514,#REF!,2,FALSE),\"-\")","v":"-"}]
[null,512,{"$f":"VLOOKUP($B515,#REF!,2,FALSE)","v":{"$error":"#REF!"}},{"$f":"VLOOKUP($B515,#REF!,3,FALSE)","v":{"$error":"#REF!"}},{"$f":"VLOOKUP($B515,#REF!,5,FALSE)","v":{"$error":"#REF!"}},{"$f":"VLOOKUP($B515,#REF!,6,FALSE)","v":{"$error":"#REF!"}},"-",{"$error":"#REF!"},null,{"$f":"VLOOKUP($B515,#REF!,13,FALSE)","v":{"$error":"#REF!"}},{"$f":"VLOOKUP($B515,#REF!,10,FALSE)","v":{"$error":"#REF!"}},{"$f":"VLOOKUP($B515,#REF!,17,FALSE)","v":{"$error":"#REF!"}},{"$f":"IFERROR(VLOOKUP($B515,#REF!,2,FALSE),\"-\")","v":"-"}]
[null,513,{"$f":"VLOOKUP($B516,#REF!,2,FALSE)","v":{"$error":"#REF!"}},{"$f":"VLOOKUP($B516,#REF!,3,FALSE)","v":{"$error":"#REF!"}},{"$f":"VLOOKUP($B516,#REF!,5,FALSE)","v":{"$error":"#REF!"}},{"$f":"VLOOKUP($B516,#REF!,6,FALSE)","v":{"$error":"#REF!"}},{"$f":"IF(M516=1,\"欠席\",IF(M516=9,\"空ﾚｰﾝ\",\"-\"))","v":"-"},{"$error":"#REF!"},null,{"$f":"VLOOKUP($B516,#REF!,13,FALSE)","v":{"$error":"#REF!"}},{"$f":"VLOOKUP($B516,#REF!,10,FALSE)","v":{"$error":"#REF!"}},{"$f":"VLOOKUP($B516,#REF!,17,FALSE)","v":{"$error":"#REF!"}},{"$f":"IFERROR(VLOOKUP($B516,#REF!,2,FALSE),\"-\")","v":"-"}]
[null,514,{"$f":"VLOOKUP($B517,#REF!,2,FALSE)","v":{"$error":"#REF!"}},{"$f":"VLOOKUP($B517,#REF!,3,FALSE)","v":{"$error":"#REF!"}},{"$f":"VLOOKUP($B517,#REF!,5,FALSE)","v":{"$error":"#REF!"}},{"$f":"VLOOKUP($B517,#REF!,6,FALSE)","v":{"$error":"#REF!"}},"-",{"$f":"+C517","v":{"$error":"#REF!"}},null,{"$f":"VLOOKUP($B517,#REF!,13,FALSE)","v":{"$error":"#REF!"}},{"$f":"VLOOKUP($B517,#REF!,10,FALSE)","v":{"$error":"#REF!"}},{"$f":"VLOOKUP($B517,#REF!,17,FALSE)","v":{"$error":"#REF!"}},{"$f":"IFERROR(VLOOKUP($B517,#REF!,2,FALSE),\"-\")","v":"-"}]
[null,515,{"$f":"VLOOKUP($B518,#REF!,2,FALSE)","v":{"$error":"#REF!"}},{"$f":"VLOOKUP($B518,#REF!,3,FALSE)","v":{"$error":"#REF!"}},{"$f":"VLOOKUP($B518,#REF!,5,FALSE)","v":{"$error":"#REF!"}},{"$f":"VLOOKUP($B518,#REF!,6,FALSE)","v":{"$error":"#REF!"}},"-",{"$error":"#REF!"},null,{"$f":"VLOOKUP($B518,#REF!,13,FALSE)","v":{"$error":"#REF!"}},{"$f":"VLOOKUP($B518,#REF!,10,FALSE)","v":{"$error":"#REF!"}},{"$f":"VLOOKUP($B518,#REF!,17,FALSE)","v":{"$error":"#REF!"}},{"$f":"IFERROR(VLOOKUP($B518,#REF!,2,FALSE),\"-\")","v":"-"}]
[null,516,{"$f":"VLOOKUP($B519,#REF!,2,FALSE)","v":{"$error":"#REF!"}},{"$f":"VLOOKUP($B519,#REF!,3,FALSE)","v":{"$error":"#REF!"}},{"$f":"VLOOKUP($B519,#REF!,5,FALSE)","v":{"$error":"#REF!"}},{"$f":"VLOOKUP($B519,#REF!,6,FALSE)","v":{"$error":"#REF!"}},"-",{"$error":"#REF!"},null,{"$f":"VLOOKUP($B519,#REF!,13,FALSE)","v":{"$error":"#REF!"}},{"$f":"VLOOKUP($B519,#REF!,10,FALSE)","v":{"$error":"#REF!"}},{"$f":"VLOOKUP($B519,#REF!,17,FALSE)","v":{"$error":"#REF!"}},{"$f":"IFERROR(VLOOKUP($B519,#REF!,2,FALSE),\"-\")","v":"-"}]
[null,517,{"$f":"VLOOKUP($B520,#REF!,2,FALSE)","v":{"$error":"#REF!"}},{"$f":"VLOOKUP($B520,#REF!,3,FALSE)","v":{"$error":"#REF!"}},{"$f":"VLOOKUP($B520,#REF!,5,FALSE)","v":{"$error":"#REF!"}},{"$f":"VLOOKUP($B520,#REF!,6,FALSE)","v":{"$error":"#REF!"}},"-",{"$error":"#REF!"},null,{"$f":"VLOOKUP($B520,#REF!,13,FALSE)","v":{"$error":"#REF!"}},{"$f":"VLOOKUP($B520,#REF!,10,FALSE)","v":{"$error":"#REF!"}},{"$f":"VLOOKUP($B520,#REF!,17,FALSE)","v":{"$error":"#REF!"}},{"$f":"IFERROR(VLOOKUP($B520,#REF!,2,FALSE),\"-\")","v":"-"}]
[null,518,{"$f":"VLOOKUP($B521,#REF!,2,FALSE)","v":{"$error":"#REF!"}},{"$f":"VLOOKUP($B521,#REF!,3,FALSE)","v":{"$error":"#REF!"}},{"$f":"VLOOKUP($B521,#REF!,5,FALSE)","v":{"$error":"#REF!"}},{"$f":"VLOOKUP($B521,#REF!,6,FALSE)","v":{"$error":"#REF!"}},"-",{"$error":"#REF!"},null,{"$f":"VLOOKUP($B521,#REF!,13,FALSE)","v":{"$error":"#REF!"}},{"$f":"VLOOKUP($B521,#REF!,10,FALSE)","v":{"$error":"#REF!"}},{"$f":"VLOOKUP($B521,#REF!,17,FALSE)","v":{"$error":"#REF!"}},{"$f":"IFERROR(VLOOKUP($B521,#REF!,2,FALSE),\"-\")","v":"-"}]
[null,519,{"$f":"VLOOKUP($B522,#REF!,2,FALSE)","v":{"$error":"#REF!"}},{"$f":"VLOOKUP($B522,#REF!,3,FALSE)","v":{"$error":"#REF!"}},{"$f":"VLOOKUP($B522,#REF!,5,FALSE)","v":{"$error":"#REF!"}},{"$f":"VLOOKUP($B522,#REF!,6,FALSE)","v":{"$error":"#REF!"}},"-",{"$error":"#REF!"},null,{"$f":"VLOOKUP($B522,#REF!,13,FALSE)","v":{"$error":"#REF!"}},{"$f":"VLOOKUP($B522,#REF!,10,FALSE)","v":{"$error":"#REF!"}},{"$f":"VLOOKUP($B522,#REF!,17,FALSE)","v":{"$error":"#REF!"}},{"$f":"IFERROR(VLOOKUP($B522,#REF!,2,FALSE),\"-\")","v":"-"}]
[null,520,{"$f":"VLOOKUP($B523,#REF!,2,FALSE)","v":{"$error":"#REF!"}},{"$f":"VLOOKUP($B523,#REF!,3,FALSE)","v":{"$error":"#REF!"}},{"$f":"VLOOKUP($B523,#REF!,5,FALSE)","v":{"$error":"#REF!"}},{"$f":"VLOOKUP($B523,#REF!,6,FALSE)","v":{"$error":"#REF!"}},"-",{"$error":"#REF!"},null,{"$f":"VLOOKUP($B523,#REF!,13,FALSE)","v":{"$error":"#REF!"}},{"$f":"VLOOKUP($B523,#REF!,10,FALSE)","v":{"$error":"#REF!"}},{"$f":"VLOOKUP($B523,#REF!,17,FALSE)","v":{"$error":"#REF!"}},{"$f":"IFERROR(VLOOKUP($B523,#REF!,2,FALSE),\"-\")","v":"-"}]
[null,521,{"$f":"VLOOKUP($B524,#REF!,2,FALSE)","v":{"$error":"#REF!"}},{"$f":"VLOOKUP($B524,#REF!,3,FALSE)","v":{"$error":"#REF!"}},{"$f":"VLOOKUP($B524,#REF!,5,FALSE)","v":{"$error":"#REF!"}},{"$f":"VLOOKUP($B524,#REF!,6,FALSE)","v":{"$error":"#REF!"}},"-",{"$error":"#REF!"},0,{"$f":"VLOOKUP($B524,#REF!,13,FALSE)","v":{"$error":"#REF!"}},{"$f":"VLOOKUP($B524,#REF!,10,FALSE)","v":{"$error":"#REF!"}},{"$f":"VLOOKUP($B524,#REF!,17,FALSE)","v":{"$error":"#REF!"}},{"$f":"IFERROR(VLOOKUP($B524,#REF!,2,FALSE),\"-\")","v":"-"}]
[null,522,{"$f":"VLOOKUP($B525,#REF!,2,FALSE)","v":{"$error":"#REF!"}},{"$f":"VLOOKUP($B525,#REF!,3,FALSE)","v":{"$error":"#REF!"}},{"$f":"VLOOKUP($B525,#REF!,5,FALSE)","v":{"$error":"#REF!"}},{"$f":"VLOOKUP($B525,#REF!,6,FALSE)","v":{"$error":"#REF!"}},"-",{"$error":"#REF!"},null,{"$f":"VLOOKUP($B525,#REF!,13,FALSE)","v":{"$error":"#REF!"}},{"$f":"VLOOKUP($B525,#REF!,10,FALSE)","v":{"$error":"#REF!"}},{"$f":"VLOOKUP($B525,#REF!,17,FALSE)","v":{"$error":"#REF!"}},{"$f":"IFERROR(VLOOKUP($B525,#REF!,2,FALSE),\"-\")","v":"-"}]
[null,523,{"$f":"VLOOKUP($B526,#REF!,2,FALSE)","v":{"$error":"#REF!"}},{"$f":"VLOOKUP($B526,#REF!,3,FALSE)","v":{"$error":"#REF!"}},{"$f":"VLOOKUP($B526,#REF!,5,FALSE)","v":{"$error":"#REF!"}},{"$f":"VLOOKUP($B526,#REF!,6,FALSE)","v":{"$error":"#REF!"}},"-",{"$error":"#REF!"},null,{"$f":"VLOOKUP($B526,#REF!,13,FALSE)","v":{"$error":"#REF!"}},{"$f":"VLOOKUP($B526,#REF!,10,FALSE)","v":{"$error":"#REF!"}},{"$f":"VLOOKUP($B526,#REF!,17,FALSE)","v":{"$error":"#REF!"}},{"$f":"IFERROR(VLOOKUP($B526,#REF!,2,FALSE),\"-\")","v":"-"}]
[null,524,{"$f":"VLOOKUP($B527,#REF!,2,FALSE)","v":{"$error":"#REF!"}},{"$f":"VLOOKUP($B527,#REF!,3,FALSE)","v":{"$error":"#REF!"}},{"$f":"VLOOKUP($B527,#REF!,5,FALSE)","v":{"$error":"#REF!"}},{"$f":"VLOOKUP($B527,#REF!,6,FALSE)","v":{"$error":"#REF!"}},"-",{"$error":"#REF!"},null,{"$f":"VLOOKUP($B527,#REF!,13,FALSE)","v":{"$error":"#REF!"}},{"$f":"VLOOKUP($B527,#REF!,10,FALSE)","v":{"$error":"#REF!"}},{"$f":"VLOOKUP($B527,#REF!,17,FALSE)","v":{"$error":"#REF!"}},{"$f":"IFERROR(VLOOKUP($B527,#REF!,2,FALSE),\"-\")","v":"-"}]
[null,525,{"$f":"VLOOKUP($B528,#REF!,2,FALSE)","v":{"$error":"#REF!"}},{"$f":"VLOOKUP($B528,#REF!,3,FALSE)","v":{"$error":"#REF!"}},{"$f":"VLOOKUP($B528,#REF!,5,FALSE)","v":{"$error":"#REF!"}},{"$f":"VLOOKUP($B528,#REF!,6,FALSE)","v":{"$error":"#REF!"}},"-",{"$error":"#REF!"},null,{"$f":"VLOOKUP($B528,#REF!,13,FALSE)","v":{"$error":"#REF!"}},{"$f":"VLOOKUP($B528,#REF!,10,FALSE)","v":{"$error":"#REF!"}},{"$f":"VLOOKUP($B528,#REF!,17,FALSE)","v":{"$error":"#REF!"}},{"$f":"IFERROR(VLOOKUP($B528,#REF!,2,FALSE),\"-\")","v":"-"}]
[null,526,{"$f":"VLOOKUP($B529,#REF!,2,FALSE)","v":{"$error":"#REF!"}},{"$f":"VLOOKUP($B529,#REF!,3,FALSE)","v":{"$error":"#REF!"}},{"$f":"VLOOKUP($B529,#REF!,5,FALSE)","v":{"$error":"#REF!"}},{"$f":"VLOOKUP($B529,#REF!,6,FALSE)","v":{"$error":"#REF!"}},"-",{"$error":"#REF!"},null,{"$f":"VLOOKUP($B529,#REF!,13,FALSE)","v":{"$error":"#REF!"}},{"$f":"VLOOKUP($B529,#REF!,10,FALSE)","v":{"$error":"#REF!"}},{"$f":"VLOOKUP($B529,#REF!,17,FALSE)","v":{"$error":"#REF!"}},{"$f":"IFERROR(VLOOKUP($B529,#REF!,2,FALSE),\"-\")","v":"-"}]

{"sheet":"X2","index":1,"n_rows":529,"n_cols":13,"rows_kept":529,"cut":false,"hidden":true,"merged":[[0,7,0,8],[1,1,1,11]]}
[null,"第6回多摩総支部対抗団体戦大会"]
[null,"　　第6ラウンド",null,null,null,null,null,null,null,null,null,null,"欠席者"]
[null,"No.","レーン番号","チーム\n吹き順","氏名\n（フルネーム）","フリガナ　　　　　　（フルネーム）","欠席　　・空き","No.","合計入力","距離","男・女","団体戦チーム名","欠席＝1"]
[null,1,{"$f":"VLOOKUP($B4,#REF!,2,FALSE)","v":{"$error":"#REF!"}},{"$f":"VLOOKUP($B4,#REF!,3,FALSE)","v":{"$error":"#REF!"}},{"$f":"VLOOKUP($B4,#REF!,5,FALSE)","v":{"$error":"#REF!"}},{"$f":"VLOOKUP($B4,#REF!,6,FALSE)","v":{"$error":"#REF!"}},{"$f":"IF(M4=1,\"欠席\",IF(M4=9,\"空ﾚｰﾝ\",\"-\"))","v":"-"},{"$f":"+C4","v":{"$error":"#REF!"}},null,{"$f":"VLOOKUP($B4,#REF!,13,FALSE)","v":{"$error":"#REF!"}},{"$f":"VLOOKUP($B4,#REF!,10,FALSE)","v":{"$error":"#REF!"}},{"$f":"VLOOKUP($B4,#REF!,17,FALSE)","v":{"$error":"#REF!"}},{"$f":"IFERROR(VLOOKUP($B4,#REF!,2,FALSE),\"-\")","v":"-"}]
[null,2,{"$f":"VLOOKUP($B5,#REF!,2,FALSE)","v":{"$error":"#REF!"}},{"$f":"VLOOKUP($B5,#REF!,3,FALSE)","v":{"$error":"#REF!"}},{"$f":"VLOOKUP($B5,#REF!,5,FALSE)","v":{"$error":"#REF!"}},{"$f":"VLOOKUP($B5,#REF!,6,FALSE)","v":{"$error":"#REF!"}},"-",{"$f":"+C5","v":{"$error":"#REF!"}},null,{"$f":"VLOOKUP($B5,#REF!,13,FALSE)","v":{"$error":"#REF!"}},{"$f":"VLOOKUP($B5,#REF!,10,FALSE)","v":{"$error":"#REF!"}},{"$f":"VLOOKUP($B5,#REF!,17,FALSE)","v":{"$error":"#REF!"}},{"$f":"IFERROR(VLOOKUP($B5,#REF!,2,FALSE),\"-\")","v":"-"}]
[null,3,{"$f":"VLOOKUP($B6,#REF!,2,FALSE)","v":{"$error":"#REF!"}},{"$f":"VLOOKUP($B6,#REF!,3,FALSE)","v":{"$error":"#REF!"}},{"$f":"VLOOKUP($B6,#REF!,5,FALSE)","v":{"$error":"#REF!"}},{"$f":"VLOOKUP($B6,#REF!,6,FALSE)","v":{"$error":"#REF!"}},"-",{"$error":"#REF!"},null,{"$f":"VLOOKUP($B6,#REF!,13,FALSE)","v":{"$error":"#REF!"}},{"$f":"VLOOKUP($B6,#REF!,10,FALSE)","v":{"$error":"#REF!"}},{"$f":"VLOOKUP($B6,#REF!,17,FALSE)","v":{"$error":"#REF!"}},{"$f":"IFERROR(VLOOKUP($B6,#REF!,2,FALSE),\"-\")","v":"-"}]
[null,4,{"$f":"VLOOKUP($B7,#REF!,2,FALSE)","v":{"$error":"#REF!"}},{"$f":"VLOOKUP($B7,#REF!,3,FALSE)","v":{"$error":"#REF!"}},{"$f":"VLOOKUP($B7,#REF!,5,FALSE)","v":{"$error":"#REF!"}},{"$f":"VLOOKUP($B7,#REF!,6,FALSE)","v":{"$error":"#REF!"}},"-",{"$error":"#REF!"},null,{"$f":"VLOOKUP($B7,#REF!,13,FALSE)","v":{"$error":"#REF!"}},{"$f":"VLOOKUP($B7,#REF!,10,FALSE)","v":{"$error":"#REF!"}},{"$f":"VLOOKUP($B7,#REF!,17,FALSE)","v":{"$error":"#REF!"}},{"$f":"IFERROR(VLOOKUP($B7,#REF!,2,FALSE),\"-\")","v":"-"}]
[null,5,{"$f":"VLOOKUP($B8,#REF!,2,FALSE)","v":{"$error":"#REF!"}},{"$f":"VLOOKUP($B8,#REF!,3,FALSE)","v":{"$error":"#REF!"}},{"$f":"VLOOKUP($B8,#REF!,5,FALSE)","v":{"$error":"#REF!"}},{"$f":"VLOOKUP($B8,#REF!,6,FALSE)","v":{"$error":"#REF!"}},"-",{"$error":"#REF!"},null,{"$f":"VLOOKUP($B8,#REF!,13,FALSE)","v":{"$error":"#REF!"}},{"$f":"VLOOKUP($B8,#REF!,10,FALSE)","v":{"$error":"#REF!"}},{"$f":"VLOOKUP($B8,#REF!,17,FALSE)","v":{"$error":"#REF!"}},{"$f":"IFERROR(VLOOKUP($B8,#REF!,2,FALSE),\"-\")","v":"-"}]
[null,6,{"$f":"VLOOKUP($B9,#REF!,2,FALSE)","v":{"$error":"#REF!"}},{"$f":"VLOOKUP($B9,#REF!,3,FALSE)","v":{"$error":"#REF!"}},{"$f":"VLOOKUP($B9,#REF!,5,FALSE)","v":{"$error":"#REF!"}},{"$f":"VLOOKUP($B9,#REF!,6,FALSE)","v":{"$error":"#REF!"}},"-",{"$error":"#REF!"},null,{"$f":"VLOOKUP($B9,#REF!,13,FALSE)","v":{"$error":"#REF!"}},{"$f":"VLOOKUP($B9,#REF!,10,FALSE)","v":{"$error":"#REF!"}},{"$f":"VLOOKUP($B9,#REF!,17,FALSE)","v":{"$error":"#REF!"}},{"$f":"IFERROR(VLOOKUP($B9,#REF!,2,FALSE),\"-\")","v":"-"}]
[null,7,{"$f":"VLOOKUP($B10,#REF!,2,FALSE)","v":{"$error":"#REF!"}},{"$f":"VLOOKUP($B10,#REF!,3,FALSE)","v":{"$error":"#REF!"}},{"$f":"VLOOKUP($B10,#REF!,5,FALSE)","v":{"$error":"#REF!"}},{"$f":"VLOOKUP($B10,#REF!,6,FALSE)","v":{"$error":"#REF!"}},"-",{"$error":"#REF!"},null,{"$f":"VLOOKUP($B10,#REF!,13,FALSE)","v":{"$error":"#REF!"}},{"$f":"VLOOKUP($B10,#REF!,10,FALSE)","v":{"$error":"#REF!"}},{"$f":"VLOOKUP($B10,#REF!,17,FALSE)","v":{"$error":"#REF!"}},{"$f":"IFERROR(VLOOKUP($B10,#REF!,2,FALSE),\"-\")","v":"-"}]
[null,8,{"$f":"VLOOKUP($B11,#REF!,2,FALSE)","v":{"$error":"#REF!"}},{"$f":"VLOOKUP($B11,#REF!,3,FALSE)","v":{"$error":"#REF!"}},{"$f":"VLOOKUP($B11,#REF!,5,FALSE)","v":{"$error":"#REF!"}},{"$f":"VLOOKUP($B11,#REF!,6,FALSE)","v":{"$error":"#REF!"}},"-",{"$error":"#REF!"},null,{"$f":"VLOOKUP($B11,#REF!,13,FALSE)","v":{"$error":"#REF!"}},{"$f":"VLOOKUP($B11,#REF!,10,FALSE)","v":{"$error":"#REF!"}},{"$f":"VLOOKUP($B11,#REF!,17,FALSE)","v":{"$error":"#REF!"}},{"$f":"IFERROR(VLOOKUP($B11,#REF!,2,FALSE),\"-\")","v":"-"}]
[null,9,{"$f":"VLOOKUP($B12,#REF!,2,FALSE)","v":{"$error":"#REF!"}},{"$f":"VLOOKUP($B12,#REF!,3,FALSE)","v":{"$error":"#REF!"}},{"$f":"VLOOKUP($B12,#REF!,5,FALSE)","v":{"$error":"#REF!"}},{"$f":"VLOOKUP($B12,#REF!,6,FALSE)","v":{"$error":"#REF!"}},"-",{"$error":"#REF!"},null,{"$f":"VLOOKUP($B12,#REF!,13,FALSE)","v":{"$error":"#REF!"}},{"$f":"VLOOKUP($B12,#REF!,10,FALSE)","v":{"$error":"#REF!"}},{"$f":"VLOOKUP($B12,#REF!,17,FALSE)","v":{"$error":"#REF!"}},{"$f":"IFERROR(VLOOKUP($B12,#REF!,2,FALSE),\"-\")","v":"-"}]
[null,10,{"$f":"VLOOKUP($B13,#REF!,2,FALSE)","v":{"$error":"#REF!"}},{"$f":"VLOOKUP($B13,#REF!,3,FALSE)","v":{"$error":"#REF!"}},{"$f":"VLOOKUP($B13,#REF!,5,FALSE)","v":{"$error":"#REF!"}},{"$f":"VLOOKUP($B13,#REF!,6,FALSE)","v":{"$error":"#REF!"}},"-",{"$error":"#REF!"},null,{"$f":"VLOOKUP($B13,#REF!,13,FALSE)","v":{"$error":"#REF!"}},{"$f":"VLOOKUP($B13,#REF!,10,FALSE)","v":{"$error":"#REF!"}},{"$f":"VLOOKUP($B13,#REF!,17,FALSE)","v":{"$error":"#REF!"}},{"$f":"IFERROR(VLOOKUP($B13,#REF!,2,FALSE),\"-\")","v":"-"}]
[null,11,{"$f":"VLOOKUP($B14,#REF!,2,FALSE)","v":{"$error":"#REF!"}},{"$f":"VLOOKUP($B14,#REF!,3,FALSE)","v":{"$error":"#REF!"}},{"$f":"VLOOKUP($B14,#REF!,5,FALSE)","v":{"$error":"#REF!"}},{"$f":"VLOOKUP($B14,#REF!,6,FALSE)","v":{"$error":"#REF!"}},"-",{"$error":"#REF!"},null,{"$f":"VLOOKUP($B14,#REF!,13,FALSE)","v":{"$error":"#REF!"}},{"$f":"VLOOKUP($B14,#REF!,10,FALSE)","v":{"$error":"#REF!"}},{"$f":"VLOOKUP($B14,#REF!,17,FALSE)","v":{"$error":"#REF!"}},{"$f":"IFERROR(VLOOKUP($B14,#REF!,2,FALSE),\"-\")","v":"-"}]
[null,12,{"$f":"VLOOKUP($B15,#REF!,2,FALSE)","v":{"$error":"#REF!"}},{"$f":"VLOOKUP($B15,#REF!,3,FALSE)","v":{"$error":"#REF!"}},{"$f":"VLOOKUP($B15,#REF!,5,FALSE)","v":{"$error":"#REF!"}},{"$f":"VLOOKUP($B15,#REF!,6,FALSE)","v":{"$error":"#REF!"}},"-",{"$error":"#REF!"},null,{"$f":"VLOOKUP($B15,#REF!,13,FALSE)","v":{"$error":"#REF!"}},{"$f":"VLOOKUP($B15,#REF!,10,FALSE)","v":{"$error":"#REF!"}},{"$f":"VLOOKUP($B15,#REF!,17,FALSE)","v":{"$error":"#REF!"}},{"$f":"IFERROR(VLOOKUP($B15,#REF!,2,FALSE),\"-\")","v":"-"}]
[null,13,{"$f":"VLOOKUP($B16,#REF!,2,FALSE)","v":{"$error":"#REF!"}},{"$f":"VLOOKUP($B16,#REF!,3,FALSE)","v":{"$error":"#REF!"}},{"$f":"VLOOKUP($B16,#REF!,5,FALSE)","v":{"$error":"#REF!"}},{"$f":"VLOOKUP($B16,#REF!,6,FALSE)","v":{"$error":"#REF!"}},"-",{"$error":"#REF!"},null,{"$f":"VLOOKUP($B16,#REF!,13,FALSE)","v":{"$error":"#REF!"}},{"$f":"VLOOKUP($B16,#REF!,10,FALSE)","v":{"$error":"#REF!"}},{"$f":"VLOOKUP($B16,#REF!,17,FALSE)","v":{"$error":"#REF!"}},{"$f":"IFERROR(VLOOKUP($B16,#REF!,2,FALSE),\"-\")","v":"-"}]
[null,14,{"$f":"VLOOKUP($B17,#REF!,2,FALSE)","v":{"$error":"#REF!"}},{"$f":"VLOOKUP($B17,#REF!,3,FALSE)","v":{"$error":"#REF!"}},{"$f":"VLOOKUP($B17,#REF!,5,FALSE)","v":{"$error":"#REF!"}},{"$f":"VLOOKUP($B17,#REF!,6,FALSE)","v":{"$error":"#REF!"}},"-",{"$error":"#REF!"},null,{"$f":"VLOOKUP($B17,#REF!,13,FALSE)","v":{"$error":"#REF!"}},{"$f":"VLOOKUP($B17,#REF!,10,FALSE)","v":{"$error":"#REF!"}},{"$f":"VLOOKUP($B17,#REF!,17,FALSE)","v":{"$error":"#REF!"}},{"$f":"IFERROR(VLOOKUP($B17,#REF!,2,FALSE),\"-\")","v":"-"}]
[null,15,{"$f":"VLOOKUP($B18,#REF!,2,FALSE)","v":{"$error":"#REF!"}},{"$f":"VLOOKUP($B18,#REF!,3,FALSE)","v":{"$error":"#REF!"}},{"$f":"VLOOKUP($B18,#REF!,5,FALSE)","v":{"$error":"#REF!"}},{"$f":"VLOOKUP($B18,#REF!,6,FALSE)","v":{"$error":"#REF!"}},"-",{"$error":"#REF!"},null,{"$f":"VLOOKUP($B18,#REF!,13,FALSE)","v":{"$error":"#REF!"}},{"$f":"VLOOKUP($B18,#REF!,10,FALSE)","v":{"$error":"#REF!"}},{"$f":"VLOOKUP($B18,#REF!,17,FALSE)","v":{"$error":"#REF!"}},{"$f":"IFERROR(VLOOKUP($B18,#REF!,2,FALSE),\"-\")","v":"-"}]
[null,16,{"$f":"VLOOKUP($B19,#REF!,2,FALSE)","v":{"$error":"#REF!"}},{"$f":"VLOOKUP($B19,#REF!,3,FALSE)","v":{"$error":"#REF!"}},{"$f":"VLOOKUP($B19,#REF!,5,FALSE)","v":{"$error":"#REF!"}},{"$f":"VLOOKUP($B19,#REF!,6,FALSE)","v":{"$error":"#REF!"}},"-",{"$error":"#REF!"},null,{"$f":"VLOOKUP($B19,#REF!,13,FALSE)","v":{"$error":"#REF!"}},{"$f":"VLOOKUP($B19,#REF!,10,FALSE)","v":{"$error":"#REF!"}},{"$f":"VLOOKUP($B19,#REF!,17,FALSE)","v":{"$error":"#REF!"}},{"$f":"IFERROR(VLOOKUP($B19,#REF!,2,FALSE),\"-\")","v":"-"}]
[null,17,{"$f":"VLOOKUP($B20,#REF!,2,FALSE)","v":{"$error":"#REF!"}},{"$f":"VLOOKUP($B20,#REF!,3,FALSE)","v":{"$error":"#REF!"}},{"$f":"VLOOKUP($B20,#REF!,5,FALSE)","v":{"$error":"#REF!"}},{"$f":"VLOOKUP($B20,#REF!,6,FALSE)","v":{"$error":"#REF!"}},"-",{"$error":"#REF!"},null,{"$f":"VLOOKUP($B20,#REF!,13,FALSE)","v":{"$error":"#REF!"}},{"$f":"VLOOKUP($B20,#REF!,10,FALSE)","v":{"$error":"#REF!"}},{"$f":"VLOOKUP($B20,#REF!,17,FALSE)","v":{"$error":"#REF!"}},{"$f":"IFERROR(VLOOKUP($B20,#REF!,2,FALSE),\"-\")","v":"-"}]
[null,18,{"$f":"VLOOKUP($B21,#REF!,2,FALSE)","v":{"$error":"#REF!"}},{"$f":"VLOOKUP($B21,#REF!,3,FALSE)","v":{"$error":"#REF!"}},{"$f":"VLOOKUP($B21,#REF!,5,FALSE)","v":{"$error":"#REF!"}},{"$f":"VLOOKUP($B21,#REF!,6,FALSE)","v":{"$error":"#REF!"}},"-",{"$error":"#REF!"},null,{"$f":"VLOOKUP($B21,#REF!,13,FALSE)","v":{"$error":"#REF!"}},{"$f":"VLOOKUP($B21,#REF!,10,FALSE)","v":{"$error":"#REF!"}},{"$f":"VLOOKUP($B21,#REF!,17,FALSE)","v":{"$error":"#REF!"}},{"$f":"IFERROR(VLOOKUP($B21,#REF!,2,FALSE),\"-\")","v":"-"}]
[null,19,{"$f":"VLOOKUP($B22,#REF!,2,FALSE)","v":{"$error":"#REF!"}},{"$f":"VLOOKUP($B22,#REF!,3,FALSE)","v":{"$error":"#REF!"}},{"$f":"VLOOKUP($B22,#REF!,5,FALSE)","v":{"$error":"#REF!"}},{"$f":"VLOOKUP($B22,#REF!,6,FALSE)","v":{"$error":"#REF!"}},"-",{"$error":"#REF!"},null,{"$f":"VLOOKUP($B22,#REF!,13,FALSE)","v":{"$error":"#REF!"}},{"$f":"VLOOKUP($B22,#REF!,10,FALSE)","v":{"$error":"#REF!"}},{"$f":"VLOOKUP($B22,#REF!,17,FALSE)","v":{"$error":"#REF!"}},{"$f":"IFERROR(VLOOKUP($B22,#REF!,2,FALSE),\"-\")","v":"-"}]
[null,20,{"$f":"VLOOKUP($B23,#REF!,2,FALSE)","v":{"$error":"#REF!"}},{"$f":"VLOOKUP($B23,#REF!,3,FALSE)","v":{"$error":"#REF!"}},{"$f":"VLOOKUP($B23,#REF!,5,FALSE)","v":{"$error":"#REF!"}},{"$f":"VLOOKUP($B23,#REF!,6,FALSE)","v":{"$error":"#REF!"}},"-",{"$error":"#REF!"},null,{"$f":"VLOOKUP($B23,#REF!,13,FALSE)","v":{"$error":"#REF!"}},{"$f":"VLOOKUP($B23,#REF!,10,FALSE)","v":{"$error":"#REF!"}},{"$f":"VLOOKUP($B23,#REF!,17,FALSE)","v":{"$error":"#REF!"}},{"$f":"IFERROR(VLOOKUP($B23,#REF!,2,FALSE),\"-\")","v":"-"}]
[null,21,{"$f":"VLOOKUP($B24,#REF!,2,FALSE)","v":{"$error":"#REF!"}},{"$f":"VLOOKUP($B24,#REF!,3,FALSE)","v":{"$error":"#REF!"}},{"$f":"VLOOKUP($B24,#REF!,5,FALSE)","v":{"$error":"#REF!"}},{"$f":"VLOOKUP($B24,#REF!,6,FALSE)","v":{"$error":"#REF!"}},"-",{"$error":"#REF!"},null,{"$f":"VLOOKUP($B24,#REF!,13,FALSE)","v":{"$error":"#REF!"}},{"$f":"VLOOKUP($B24,#REF!,10,FALSE)","v":{"$error":"#REF!"}},{"$f":"VLOOKUP($B24,#REF!,17,FALSE)","v":{"$error":"#REF!"}},{"$f":"IFERROR(VLOOKUP($B24,#REF!,2,FALSE),\"-\")","v":"-"}]
[null,22,{"$f":"VLOOKUP($B25,#REF!,2,FALSE)","v":{"$error":"#REF!"}},{"$f":"VLOOKUP($B25,#REF!,3,FALSE)","v":{"$error":"#REF!"}},{"$f":"VLOOKUP($B25,#REF!,5,FALSE)","v":{"$error":"#REF!"}},{"$f":"VLOOKUP($B25,#REF!,6,FALSE)","v":{"$error":"#REF!"}},"-",{"$error":"#REF!"},null,{"$f":"VLOOKUP($B25,#REF!,13,FALSE)","v":{"$error":"#REF!"}},{"$f":"VLOOKUP($B25,#REF!,10,FALSE)","v":{"$error":"#REF!"}},{"$f":"VLOOKUP($B25,#REF!,17,FALSE)","v":{"$error":"#REF!"}},{"$f":"IFERROR(VLOOKUP($B25,#REF!,2,FALSE),\"-\")","v":"-"}]
[null,23,{"$f":"VLOOKUP($B26,#REF!,2,FALSE)","v":{"$error":"#REF!"}},{"$f":"VLOOKUP($B26,#REF!,3,FALSE)","v":{"$error":"#REF!"}},{"$f":"VLOOKUP($B26,#REF!,5,FALSE)","v":{"$error":"#REF!"}},{"$f":"VLOOKUP($B26,#REF!,6,FALSE)","v":{"$error":"#REF!"}},"-",{"$error":"#REF!"},null,{"$f":"VLOOKUP($B26,#REF!,13,FALSE)","v":{"$error":"#REF!"}},{"$f":"VLOOKUP($B26,#REF!,10,FALSE)","v":{"$error":"#REF!"}},{"$f":"VLOOKUP($B26,#REF!,17,FALSE)","v":{"$error":"#REF!"}},{"$f":"IFERROR(VLOOKUP($B26,#REF!,2,FALSE),\"-\")","v":"-"}]
[null,24,{"$f":"VLOOKUP($B27,#REF!,2,FALSE)","v":{"$error":"#REF!"}},{"$f":"VLOOKUP($B27,#REF!,3,FALSE)","v":{"$error":"#REF!"}},{"$f":"VLOOKUP($B27,#REF!,5,FALSE)","v":{"$error":"#REF!"}},{"$f":"VLOOKUP($B27,#REF!,6,FALSE)","v":{"$error":"#REF!"}},"-",{"$error":"#REF!"},null,{"$f":"VLOOKUP($B27,#REF!,13,FALSE)","v":{"$error":"#REF!"}},{"$f":"VLOOKUP($B27,#REF!,10,FALSE)","v":{"$error":"#REF!"}},{"$f":"VLOOKUP($B27,#REF!,17,FALSE)","v":{"$error":"#REF!"}},{"$f":"IFERROR(VLOOKUP($B27,#REF!,2,FALSE),\"-\")","v":"-"}]
[null,25,{"$f":"VLOOKUP($B28,#REF!,2,FALSE)","v":{"$error":"#REF!"}},{"$f":"VLOOKUP($B28,#REF!,3,FALSE)","v":{"$error":"#REF!"}},{"$f":"VLOOKUP($B28,#REF!,5,FALSE)","v":{"$error":"#REF!"}},{"$f":"VLOOKUP($B28,#REF!,6,FALSE)","v":{"$error":"#REF!"}},"-",{"$error":"#REF!"},null,{"$f":"VLOOKUP($B28,#REF!,13,FALSE)","v":{"$error":"#REF!"}},{"$f":"VLOOKUP($B28,#REF!,10,FALSE)","v":{"$error":"#REF!"}},{"$f":"VLOOKUP($B28,#REF!,17,FALSE)","v":{"$error":"#REF!"}},{"$f":"IFERROR(VLOOKUP($B28,#REF!,2,FALSE),\"-\")","v":"-"}]
[null,26,{"$f":"VLOOKUP($B29,#REF!,2,FALSE)","v":{"$error":"#REF!"}},{"$f":"VLOOKUP($B29,#REF!,3,FALSE)","v":{"$error":"#REF!"}},{"$f":"VLOOKUP($B29,#REF!,5,FALSE)","v":{"$error":"#REF!"}},{"$f":"VLOOKUP($B29,#REF!,6,FALSE)","v":{"$error":"#REF!"}},"-",{"$error":"#REF!"},null,{"$f":"VLOOKUP($B29,#REF!,13,FALSE)","v":{"$error":"#REF!"}},{"$f":"VLOOKUP($B29,#REF!,10,FALSE)","v":{"$error":"#REF!"}},{"$f":"VLOOKUP($B29,#REF!,17,FALSE)","v":{"$error":"#REF!"}},{"$f":"IFERROR(VLOOKUP($B29,#REF!,2,FALSE),\"-\")","v":"-"}]
[null,27,{"$f":"VLOOKUP($B30,#REF!,2,FALSE)","v":{"$error":"#REF!"}},{"$f":"VLOOKUP($B30,#REF!,3,FALSE)","v":{"$error":"#REF!"}},{"$f":"VLOOKUP($B30,#REF!,5,FALSE)","v":{"$error":"#REF!"}},{"$f":"VLOOKUP($B30,#REF!,6,FALSE)","v":{"$error":"#REF!"}},"-",{"$error":"#REF!"},null,{"$f":"VLOOKUP($B30,#REF!,13,FALSE)","v":{"$error":"#REF!"}},{"$f":"VLOOKUP($B30,#REF!,10,FALSE)","v":{"$error":"#REF!"}},{"$f":"VLOOKUP($B30,#REF!,17,FALSE)","v":{"$error":"#REF!"}},{"$f":"IFERROR(VLOOKUP($B30,#REF!,2,FALSE),\"-\")","v":"-"}]
[null,28,{"$f":"VLOOKUP($B31,#REF!,2,FALSE)","v":{"$error":"#REF!"}},{"$f":"VLOOKUP($B31,#REF!,3,FALSE)","v":{"$error":"#REF!"}},{"$f":"VLOOKUP($B31,#REF!,5,FALSE)","v":{"$error":"#REF!"}},{"$f":"VLOOKUP($B31,#REF!,6,FALSE)","v":{"$error":"#REF!"}},"-",{"$error":"#REF!"},null,{"$f":"VLOOKUP($B31,#REF!,13,FALSE)","v":{"$error":"#REF!"}},{"$f":"VLOOKUP($B31,#REF!,10,FALSE)","v":{"$error":"#REF!"}},{"$f":"VLOOKUP($B31,#REF!,17,FALSE)","v":{"$error":"#REF!"}},{"$f":"IFERROR(VLOOKUP($B31,#REF!,2,FALSE),\"-\")","v":"-"}]
[null,29,{"$f":"VLOOKUP($B32,#REF!,2,FALSE)","v":{"$error":"#REF!"}},{"$f":"VLOOKUP($B32,#REF!,3,FALSE)","v":{"$error":"#REF!"}},{"$f":"VLOOKUP($B32,#REF!,5,FALSE)","v":{"$error":"#REF!"}},{"$f":"VLOOKUP($B32,#REF!,6,FALSE)","v":{"$error":"#REF!"}},"-",{"$error":"#REF!"},null,{"$f":"VLOOKUP($B32,#REF!,13,FALSE)","v":{"$error":"#REF!"}},{"$f":"VLOOKUP($B32,#REF!,10,FALSE)","v":{"$error":"#REF!"}},{"$f":"VLOOKUP($B32,#REF!,17,FALSE)","v":{"$error":"#REF!"}},{"$f":"IFERROR(VLOOKUP($B32,#REF!,2,FALSE),\"-\")","v":"-"}]
[null,30,{"$f":"VLOOKUP($B33,#REF!,2,FALSE)","v":{"$error":"#REF!"}},{"$f":"VLOOKUP($B33,#REF!,3,FALSE)","v":{"$error":"#REF!"}},{"$f":"VLOOKUP($B33,#REF!,5,FALSE)","v":{"$error":"#REF!"}},{"$f":"VLOOKUP($B33,#REF!,6,FALSE)","v":{"$error":"#REF!"}},"-",{"$error":"#REF!"},null,{"$f":"VLOOKUP($B33,#REF!,13,FALSE)","v":{"$error":"#REF!"}},{"$f":"VLOOKUP($B33,#REF!,10,FALSE)","v":{"$error":"#REF!"}},{"$f":"VLOOKUP($B33,#REF!,17,FALSE)","v":{"$error":"#REF!"}},{"$f":"IFERROR(VLOOKUP($B33,#REF!,2,FALSE),\"-\")","v":"-"}]
[null,31,{"$f":"VLOOKUP($B34,#REF!,2,FALSE)","v":{"$error":"#REF!"}},{"$f":"VLOOKUP($B34,#REF!,3,FALSE)","v":{"$error":"#REF!"}},{"$f":"VLOOKUP($B34,#REF!,5,FALSE)","v":{"$error":"#REF!"}},{"$f":"VLOOKUP($B34,#REF!,6,FALSE)","v":{"$error":"#REF!"}},"-",{"$error":"#REF!"},null,{"$f":"VLOOKUP($B34,#REF!,13,FALSE)","v":{"$error":"#REF!"}},{"$f":"VLOOKUP($B34,#REF!,10,FALSE)","v":{"$error":"#REF!"}},{"$f":"VLOOKUP($B34,#REF!,17,FALSE)","v":{"$error":"#REF!"}},{"$f":"IFERROR(VLOOKUP($B34,#REF!,2,FALSE),\"-\")","v":"-"}]
[null,32,{"$f":"VLOOKUP($B35,#REF!,2,FALSE)","v":{"$error":"#REF!"}},{"$f":"VLOOKUP($B35,#REF!,3,FALSE)","v":{"$error":"#REF!"}},{"$f":"VLOOKUP($B35,#REF!,5,FALSE)","v":{"$error":"#REF!"}},{"$f":"VLOOKUP($B35,#REF!,6,FALSE)","v":{"$error":"#REF!"}},"-",{"$error":"#REF!"},null,{"$f":"VLOOKUP($B35,#REF!,13,FALSE)","v":{"$error":"#REF!"}},{"$f":"VLOOKUP($B35,#REF!,10,FALSE)","v":{"$error":"#REF!"}},{"$f":"VLOOKUP($B35,#REF!,17,FALSE)","v":{"$error":"#REF!"}},{"$f":"IFERROR(VLOOKUP($B35,#REF!,2,FALSE),\"-\")","v":"-"}]
[null,33,{"$f":"VLOOKUP($B36,#REF!,2,FALSE)","v":{"$error":"#REF!"}},{"$f":"VLOOKUP($B36,#REF!,3,FALSE)","v":{"$error":"#REF!"}},{"$f":"VLOOKUP($B36,#REF!,5,FALSE)","v":{"$error":"#REF!"}},{"$f":"VLOOKUP($B36,#REF!,6,FALSE)","v":{"$error":"#REF!"}},"-",{"$error":"#REF!"},null,{"$f":"VLOOKUP($B36,#REF!,13,FALSE)","v":{"$error":"#REF!"}},{"$f":"VLOOKUP($B36,#REF!,10,FALSE)","v":{"$error":"#REF!"}},{"$f":"VLOOKUP($B36,#REF!,17,FALSE)","v":{"$error":"#REF!"}},{"$f":"IFERROR(VLOOKUP($B36,#REF!,2,FALSE),\"-\")","v":"-"}]
[null,34,{"$f":"VLOOKUP($B37,#REF!,2,FALSE)","v":{"$error":"#REF!"}},{"$f":"VLOOKUP($B37,#REF!,3,FALSE)","v":{"$error":"#REF!"}},{"$f":"VLOOKUP($B37,#REF!,5,FALSE)","v":{"$error":"#REF!"}},{"$f":"VLOOKUP($B37,#REF!,6,FALSE)","v":{"$error":"#REF!"}},"-",{"$error":"#REF!"},null,{"$f":"VLOOKUP($B37,#REF!,13,FALSE)","v":{"$error":"#REF!"}},{"$f":"VLOOKUP($B37,#REF!,10,FALSE)","v":{"$error":"#REF!"}},{"$f":"VLOOKUP($B37,#REF!,17,FALSE)","v":{"$error":"#REF!"}},{"$f":"IFERROR(VLOOKUP($B37,#REF!,2,FALSE),\"-\")","v":"-"}]
[null,35,{"$f":"VLOOKUP($B38,#REF!,2,FALSE)","v":{"$error":"#REF!"}},{"$f":"VLOOKUP($B38,#REF!,3,FALSE)","v":{"$error":"#REF!"}},{"$f":"VLOOKUP($B38,#REF!,5,FALSE)","v":{"$error":"#REF!"}},{"$f":"VLOOKUP($B38,#REF!,6,FALSE)","v":{"$error":"#REF!"}},"-",{"$error":"#REF!"},null,{"$f":"VLOOKUP($B38,#REF!,13,FALSE)","v":{"$error":"#REF!"}},{"$f":"VLOOKUP($B38,#REF!,10,FALSE)","v":{"$error":"#REF!"}},{"$f":"VLOOKUP($B38,#REF!,17,FALSE)","v":{"$error":"#REF!"}},{"$f":"IFERROR(VLOOKUP($B38,#REF!,2,FALSE),\"-\")","v":"-"}]
[null,36,{"$f":"VLOOKUP($B39,#REF!,2,FALSE)","v":{"$error":"#REF!"}},{"$f":"VLOOKUP($B39,#REF!,3,FALSE)","v":{"$error":"#REF!"}},{"$f":"VLOOKUP($B39,#REF!,5,FALSE)","v":{"$error":"#REF!"}},{"$f":"VLOOKUP($B39,#REF!,6,FALSE)","v":{"$error":"#REF!"}},"-",{"$error":"#REF!"},null,{"$f":"VLOOKUP($B39,#REF!,13,FALSE)","v":{"$error":"#REF!"}},{"$f":"VLOOKUP($B39,#REF!,10,FALSE)","v":{"$error":"#REF!"}},{"$f":"VLOOKUP($B39,#REF!,17,FALSE)","v":{"$error":"#REF!"}},{"$f":"IFERROR(VLOOKUP($B39,#REF!,2,FALSE),\"-\")","v":"-"}]
[null,37,{"$f":"VLOOKUP($B40,#REF!,2,FALSE)","v":{"$error":"#REF!"}},{"$f":"VLOOKUP($B40,#REF!,3,FALSE)","v":{"$error":"#REF!"}},{"$f":"VLOOKUP($B40,#REF!,5,FALSE)","v":{"$error":"#REF!"}},{"$f":"VLOOKUP($B40,#REF!,6,FALSE)","v":{"$error":"#REF!"}},"-",{"$error":"#REF!"},null,{"$f":"VLOOKUP($B40,#REF!,13,FALSE)","v":{"$error":"#REF!"}},{"$f":"VLOOKUP($B40,#REF!,10,FALSE)","v":{"$error":"#REF!"}},{"$f":"VLOOKUP($B40,#REF!,17,FALSE)","v":{"$error":"#REF!"}},{"$f":"IFERROR(VLOOKUP($B40,#REF!,2,FALSE),\"-\")","v":"-"}]
[null,38,{"$f":"VLOOKUP($B41,#REF!,2,FALSE)","v":{"$error":"#REF!"}},{"$f":"VLOOKUP($B41,#REF!,3,FALSE)","v":{"$error":"#REF!"}},{"$f":"VLOOKUP($B41,#REF!,5,FALSE)","v":{"$error":"#REF!"}},{"$f":"VLOOKUP($B41,#REF!,6,FALSE)","v":{"$error":"#REF!"}},"-",{"$error":"#REF!"},null,{"$f":"VLOOKUP($B41,#REF!,13,FALSE)","v":{"$error":"#REF!"}},{"$f":"VLOOKUP($B41,#REF!,10,FALSE)","v":{"$error":"#REF!"}},{"$f":"VLOOKUP($B41,#REF!,17,FALSE)","v":{"$error":"#REF!"}},{"$f":"IFERROR(VLOOKUP($B41,#REF!,2,FALSE),\"-\")","v":"-"}]
[null,39,{"$f":"VLOOKUP($B42,#REF!,2,FALSE)","v":{"$error":"#REF!"}},{"$f":"VLOOKUP($B42,#REF!,3,FALSE)","v":{"$error":"#REF!"}},{"$f":"VLOOKUP($B42,#REF!,5,FALSE)","v":{"$error":"#REF!"}},{"$f":"VLOOKUP($B42,#REF!,6,FALSE)","v":{"$error":"#REF!"}},"-",{"$error":"#REF!"},null,{"$f":"VLOOKUP($B42,#REF!,13,FALSE)","v":{"$error":"#REF!"}},{"$f":"VLOOKUP($B42,#REF!,10,FALSE)","v":{"$error":"#REF!"}},{"$f":"VLOOKUP($B42,#REF!,17,FALSE)","v":{"$error":"#REF!"}},{"$f":"IFERROR(VLOOKUP($B42,#REF!,2,FALSE),\"-\")","v":"-"}]
[null,40,{"$f":"VLOOKUP($B43,#REF!,2,FALSE)","v":{"$error":"#REF!"}},{"$f":"VLOOKUP($B43,#REF!,3,FALSE)","v":{"$error":"#REF!"}},{"$f":"VLOOKUP($B43,#REF!,5,FALSE)","v":{"$error":"#REF!"}},{"$f":"VLOOKUP($B43,#REF!,6,FALSE)","v":{"$error":"#REF!"}},"-",{"$error":"#REF!"},null,{"$f":"VLOOKUP($B43,#REF!,13,FALSE)","v":{"$error":"#REF!"}},{"$f":"VLOOKUP($B43,#REF!,10,FALSE)","v":{"$error":"#REF!"}},{"$f":"VLOOKUP($B43,#REF!,17,FALSE)","v":{"$error":"#REF!"}},{"$f":"IFERROR(VLOOKUP($B43,#REF!,2,FALSE),\"-\")","v":"-"}]
[null,41,{"$f":"VLOOKUP($B44,#REF!,2,FALSE)","v":{"$error":"#REF!"}},{"$f":"VLOOKUP($B44,#REF!,3,FALSE)","v":{"$error":"#REF!"}},{"$f":"VLOOKUP($B44,#REF!,5,FALSE)","v":{"$error":"#REF!"}},{"$f":"VLOOKUP($B44,#REF!,6,FALSE)","v":{"$error":"#REF!"}},"-",{"$error":"#REF!"},null,{"$f":"VLOOKUP($B44,#REF!,13,FALSE)","v":{"$error":"#REF!"}},{"$f":"VLOOKUP($B44,#REF!,10,FALSE)","v":{"$error":"#REF!"}},{"$f":"VLOOKUP($B44,#REF!,17,FALSE)","v":{"$error":"#REF!"}},{"$f":"IFERROR(VLOOKUP($B44,#REF!,2,FALSE),\"-\")","v":"-"}]
[null,42,{"$f":"VLOOKUP($B45,#REF!,2,FALSE)","v":{"$error":"#REF!"}},{"$f":"VLOOKUP($B45,#REF!,3,FALSE)","v":{"$error":"#REF!"}},{"$f":"VLOOKUP($B45,#REF!,5,FALSE)","v":{"$error":"#REF!"}},{"$f":"VLOOKUP($B45,#REF!,6,FALSE)","v":{"$error":"#REF!"}},"-",{"$error":"#REF!"},null,{"$f":"VLOOKUP($B45,#REF!,13,FALSE)","v":{"$error":"#REF!"}},{"$f":"VLOOKUP($B45,#REF!,10,FALSE)","v":{"$error":"#REF!"}},{"$f":"VLOOKUP($B45,#REF!,17,FALSE)","v":{"$error":"#REF!"}},{"$f":"IFERROR(VLOOKUP($B45,#REF!,2,FALSE),\"-\")","v":"-"}]
[null,43,{"$f":"VLOOKUP($B46,#REF!,2,FALSE)","v":{"$error":"#REF!"}},{"$f":"VLOOKUP($B46,#REF!,3,FALSE)","v":{"$error":"#REF!"}},{"$f":"VLOOKUP($B46,#REF!,5,FALSE)","v":{"$error":"#REF!"}},{"$f":"VLOOKUP($B46,#REF!,6,FALSE)","v":{"$error":"#REF!"}},"-",{"$error":"#REF!"},null,{"$f":"VLOOKUP($B46,#REF!,13,FALSE)","v":{"$error":"#REF!"}},{"$f":"VLOOKUP($B46,#REF!,10,FALSE)","v":{"$error":"#REF!"}},{"$f":"VLOOKUP($B46,#REF!,17,FALSE)","v":{"$error":"#REF!"}},{"$f":"IFERROR(VLOOKUP($B46,#REF!,2,FALSE),\"-\")","v":"-"}]
[null,44,{"$f":"VLOOKUP($B47,#REF!,2,FALSE)","v":{"$error":"#REF!"}},{"$f":"VLOOKUP($B47,#REF!,3,FALSE)","v":{"$error":"#REF!"}},{"$f":"VLOOKUP($B47,#REF!,5,FALSE)","v":{"$error":"#REF!"}},{"$f":"VLOOKUP($B47,#REF!,6,FALSE)","v":{"$error":"#REF!"}},"-",{"$error":"#REF!"},null,{"$f":"VLOOKUP($B47,#REF!,13,FALSE)","v":{"$error":"#REF!"}},{"$f":"VLOOKUP($B47,#REF!,10,FALSE)","v":{"$error":"#REF!"}},{"$f":"VLOOKUP($B47,#REF!,17,FALSE)","v":{"$error":"#REF!"}},{"$f":"IFERROR(VLOOKUP($B47,#REF!,2,FALSE),\"-\")","v":"-"}]
[null,45,{"$f":"VLOOKUP($B48,#REF!,2,FALSE)","v":{"$error":"#REF!"}},{"$f":"VLOOKUP($B48,#REF!,3,FALSE)","v":{"$error":"#REF!"}},{"$f":"VLOOKUP($B48,#REF!,5,FALSE)","v":{"$error":"#REF!"}},{"$f":"VLOOKUP($B48,#REF!,6,FALSE)","v":{"$error":"#REF!"}},"-",{"$error":"#REF!"},null,{"$f":"VLOOKUP($B48,#REF!,13,FALSE)","v":{"$error":"#REF!"}},{"$f":"VLOOKUP($B48,#REF!,10,FALSE)","v":{"$error":"#REF!"}},{"$f":"VLOOKUP($B48,#REF!,17,FALSE)","v":{"$error":"#REF!"}},{"$f":"IFERROR(VLOOKUP($B48,#REF!,2,FALSE),\"-\")","v":"-"}]
[null,46,{"$f":"VLOOKUP($B49,#REF!,2,FALSE)","v":{"$error":"#REF!"}},{"$f":"VLOOKUP($B49,#REF!,3,FALSE)","v":{"$error":"#REF!"}},{"$f":"VLOOKUP($B49,#REF!,5,FALSE)","v":{"$error":"#REF!"}},{"$f":"VLOOKUP($B49,#REF!,6,FALSE)","v":{"$error":"#REF!"}},"-",{"$error":"#REF!"},null,{"$f":"VLOOKUP($B49,#REF!,13,FALSE)","v":{"$error":"#REF!"}},{"$f":"VLOOKUP($B49,#REF!,10,FALSE)","v":{"$error":"#REF!"}},{"$f":"VLOOKUP($B49,#REF!,17,FALSE)","v":{"$error":"#REF!"}},{"$f":"IFERROR(VLOOKUP($B49,#REF!,2,FALSE),\"-\")","v":"-"}]
[null,47,{"$f":"VLOOKUP($B50,#REF!,2,FALSE)","v":{"$error":"#REF!"}},{"$f":"VLOOKUP($B50,#REF!,3,FALSE)","v":{"$error":"#REF!"}},{"$f":"VLOOKUP($B50,#REF!,5,FALSE)","v":{"$error":"#REF!"}},{"$f":"VLOOKUP($B50,#REF!,6,FALSE)","v":{"$error":"#REF!"}},"-",{"$error":"#REF!"},null,{"$f":"VLOOKUP($B50,#REF!,13,FALSE)","v":{"$error":"#REF!"}},{"$f":"VLOOKUP($B50,#REF!,10,FALSE)","v":{"$error":"#REF!"}},{"$f":"VLOOKUP($B50,#REF!,17,FALSE)","v":{"$error":"#REF!"}},{"$f":"IFERROR(VLOOKUP($B50,#REF!,2,FALSE),\"-\")","v":"-"}]
[null,48,{"$f":"VLOOKUP($B51,#REF!,2,FALSE)","v":{"$error":"#REF!"}},{"$f":"VLOOKUP($B51,#REF!,3,FALSE)","v":{"$error":"#REF!"}},{"$f":"VLOOKUP($B51,#REF!,5,FALSE)","v":{"$error":"#REF!"}},{"$f":"VLOOKUP($B51,#REF!,6,FALSE)","v":{"$error":"#REF!"}},"-",{"$error":"#REF!"},null,{"$f":"VLOOKUP($B51,#REF!,13,FALSE)","v":{"$error":"#REF!"}},{"$f":"VLOOKUP($B51,#REF!,10,FALSE)","v":{"$error":"#REF!"}},{"$f":"VLOOKUP($B51,#REF!,17,FALSE)","v":{"$error":"#REF!"}},{"$f":"IFERROR(VLOOKUP($B51,#REF!,2,FALSE),\"-\")","v":"-"}]
[null,49,{"$f":"VLOOKUP($B52,#REF!,2,FALSE)","v":{"$error":"#REF!"}},{"$f":"VLOOKUP($B52,#REF!,3,FALSE)","v":{"$error":"#REF!"}},{"$f":"VLOOKUP($B52,#REF!,5,FALSE)","v":{"$error":"#REF!"}},{"$f":"VLOOKUP($B52,#REF!,6,FALSE)","v":{"$error":"#REF!"}},"-",{"$error":"#REF!"},null,{"$f":"VLOOKUP($B52,#REF!,13,FALSE)","v":{"$error":"#REF!"}},{"$f":"VLOOKUP($B52,#REF!,10,FALSE)","v":{"$error":"#REF!"}},{"$f":"VLOOKUP($B52,#REF!,17,FALSE)","v":{"$error":"#REF!"}},{"$f":"IFERROR(VLOOKUP($B52,#REF!,2,FALSE),\"-\")","v":"-"}]
[null,50,{"$f":"VLOOKUP($B53,#REF!,2,FALSE)","v":{"$error":"#REF!"}},{"$f":"VLOOKUP($B53,#REF!,3,FALSE)","v":{"$error":"#REF!"}},{"$f":"VLOOKUP($B53,#REF!,5,FALSE)","v":{"$error":"#REF!"}},{"$f":"VLOOKUP($B53,#REF!,6,FALSE)","v":{"$error":"#REF!"}},"-",{"$error":"#REF!"},null,{"$f":"VLOOKUP($B53,#REF!,13,FALSE)","v":{"$error":"#REF!"}},{"$f":"VLOOKUP($B53,#REF!,10,FALSE)","v":{"$error":"#REF!"}},{"$f":"VLOOKUP($B53,#REF!,17,FALSE)","v":{"$error":"#REF!"}},{"$f":"IFERROR(VLOOKUP($B53,#REF!,2,FALSE),\"-\")","v":"-"}]
[null,51,{"$f":"VLOOKUP($B54,#REF!,2,FALSE)","v":{"$error":"#REF!"}},{"$f":"VLOOKUP($B54,#REF!,3,FALSE)","v":{"$error":"#REF!"}},{"$f":"VLOOKUP($B54,#REF!,5,FALSE)","v":{"$error":"#REF!"}},{"$f":"VLOOKUP($B54,#REF!,6,FALSE)","v":{"$error":"#REF!"}},"-",{"$error":"#REF!"},null,{"$f":"VLOOKUP($B54,#REF!,13,FALSE)","v":{"$error":"#REF!"}},{"$f":"VLOOKUP($B54,#REF!,10,FALSE)","v":{"$error":"#REF!"}},{"$f":"VLOOKUP($B54,#REF!,17,FALSE)","v":{"$error":"#REF!"}},{"$f":"IFERROR(VLOOKUP($B54,#REF!,2,FALSE),\"-\")","v":"-"}]
[null,52,{"$f":"VLOOKUP($B55,#REF!,2,FALSE)","v":{"$error":"#REF!"}},{"$f":"VLOOKUP($B55,#REF!,3,FALSE)","v":{"$error":"#REF!"}},{"$f":"VLOOKUP($B55,#REF!,5,FALSE)","v":{"$error":"#REF!"}},{"$f":"VLOOKUP($B55,#REF!,6,FALSE)","v":{"$error":"#REF!"}},"-",{"$error":"#REF!"},null,{"$f":"VLOOKUP($B55,#REF!,13,FALSE)","v":{"$error":"#REF!"}},{"$f":"VLOOKUP($B55,#REF!,10,FALSE)","v":{"$error":"#REF!"}},{"$f":"VLOOKUP($B55,#REF!,17,FALSE)","v":{"$error":"#REF!"}},{"$f":"IFERROR(VLOOKUP($B55,#REF!,2,FALSE),\"-\")","v":"-"}]
[null,53,{"$f":"VLOOKUP($B56,#REF!,2,FALSE)","v":{"$error":"#REF!"}},{"$f":"VLOOKUP($B56,#REF!,3,FALSE)","v":{"$error":"#REF!"}},{"$f":"VLOOKUP($B56,#REF!,5,FALSE)","v":{"$error":"#REF!"}},{"$f":"VLOOKUP($B56,#REF!,6,FALSE)","v":{"$error":"#REF!"}},"-",{"$error":"#REF!"},null,{"$f":"VLOOKUP($B56,#REF!,13,FALSE)","v":{"$error":"#REF!"}},{"$f":"VLOOKUP($B56,#REF!,10,FALSE)","v":{"$error":"#REF!"}},{"$f":"VLOOKUP($B56,#REF!,17,FALSE)","v":{"$error":"#REF!"}},{"$f":"IFERROR(VLOOKUP($B56,#REF!,2,FALSE),\"-\")","v":"-"}]
[null,54,{"$f":"VLOOKUP($B57,#REF!,2,FALSE)","v":{"$error":"#REF!"}},{"$f":"VLOOKUP($B57,#REF!,3,FALSE)","v":{"$error":"#REF!"}},{"$f":"VLOOKUP($B57,#REF!,5,FALSE)","v":{"$error":"#REF!"}},{"$f":"VLOOKUP($B57,#REF!,6,FALSE)","v":{"$error":"#REF!"}},"-",{"$error":"#REF!"},null,{"$f":"VLOOKUP($B57,#REF!,13,FALSE)","v":{"$error":"#REF!"}},{"$f":"VLOOKUP($B57,#REF!,10,FALSE)","v":{"$error":"#REF!"}},{"$f":"VLOOKUP($B57,#REF!,17,FALSE)","v":{"$error":"#REF!"}},{"$f":"IFERROR(VLOOKUP($B57,#REF!,2,FALSE),\"-\")","v":"-"}]
[null,55,{"$f":"VLOOKUP($B58,#REF!,2,FALSE)","v":{"$error":"#REF!"}},{"$f":"VLOOKUP($B58,#REF!,3,FALSE)","v":{"$error":"#REF!"}},{"$f":"VLOOKUP($B58,#REF!,5,FALSE)","v":{"$error":"#REF!"}},{"$f":"VLOOKUP($B58,#REF!,6,FALSE)","v":{"$error":"#REF!"}},"-",{"$error":"#REF!"},null,{"$f":"VLOOKUP($B58,#REF!,13,FALSE)","v":{"$error":"#REF!"}},{"$f":"VLOOKUP($B58,#REF!,10,FALSE)","v":{"$error":"#REF!"}},{"$f":"VLOOKUP($B58,#REF!,17,FALSE)","v":{"$error":"#REF!"}},{"$f":"IFERROR(VLOOKUP($B58,#REF!,2,FALSE),\"-\")","v":"-"}]
[null,56,{"$f":"VLOOKUP($B59,#REF!,2,FALSE)","v":{"$error":"#REF!"}},{"$f":"VLOOKUP($B59,#REF!,3,FALSE)","v":{"$error":"#REF!"}},{"$f":"VLOOKUP($B59,#REF!,5,FALSE)","v":{"$error":"#REF!"}},{"$f":"VLOOKUP($B59,#REF!,6,FALSE)","v":{"$error":"#REF!"}},"-",{"$error":"#REF!"},null,{"$f":"VLOOKUP($B59,#REF!,13,FALSE)","v":{"$error":"#REF!"}},{"$f":"VLOOKUP($B59,#REF!,10,FALSE)","v":{"$error":"#REF!"}},{"$f":"VLOOKUP($B59,#REF!,17,FALSE)","v":{"$error":"#REF!"}},{"$f":"IFERROR(VLOOKUP($B59,#REF!,2,FALSE),\"-\")","v":"-"}]
[null,57,{"$f":"VLOOKUP($B60,#REF!,2,FALSE)","v":{"$error":"#REF!"}},{"$f":"VLOOKUP($B60,#REF!,3,FALSE)","v":{"$error":"#REF!"}},{"$f":"VLOOKUP($B60,#REF!,5,FALSE)","v":{"$error":"#REF!"}},{"$f":"VLOOKUP($B60,#REF!,6,FALSE)","v":{"$error":"#REF!"}},"-",{"$error":"#REF!"},null,{"$f":"VLOOKUP($B60,#REF!,13,FALSE)","v":{"$error":"#REF!"}},{"$f":"VLOOKUP($B60,#REF!,10,FALSE)","v":{"$error":"#REF!"}},{"$f":"VLOOKUP($B60,#REF!,17,FALSE)","v":{"$error":"#REF!"}},{"$f":"IFERROR(VLOOKUP($B60,#REF!,2,FALSE),\"-\")","v":"-"}]
[null,58,{"$f":"VLOOKUP($B61,#REF!,2,FALSE)","v":{"$error":"#REF!"}},{"$f":"VLOOKUP($B61,#REF!,3,FALSE)","v":{"$error":"#REF!"}},{"$f":"VLOOKUP($B61,#REF!,5,FALSE)","v":{"$error":"#REF!"}},{"$f":"VLOOKUP($B61,#REF!,6,FALSE)","v":{"$error":"#REF!"}},"-",{"$error":"#REF!"},null,{"$f":"VLOOKUP($B61,#REF!,13,FALSE)","v":{"$error":"#REF!"}},{"$f":"VLOOKUP($B61,#REF!,10,FALSE)","v":{"$error":"#REF!"}},{"$f":"VLOOKUP($B61,#REF!,17,FALSE)","v":{"$error":"#REF!"}},{"$f":"IFERROR(VLOOKUP($B61,#REF!,2,FALSE),\"-\")","v":"-"}]
[null,59,{"$f":"VLOOKUP($B62,#REF!,2,FALSE)","v":{"$error":"#REF!"}},{"$f":"VLOOKUP($B62,#REF!,3,FALSE)","v":{"$error":"#REF!"}},{"$f":"VLOOKUP($B62,#REF!,5,FALSE)","v":{"$error":"#REF!"}},{"$f":"VLOOKUP($B62,#REF!,6,FALSE)","v":{"$error":"#REF!"}},"-",{"$error":"#REF!"},null,{"$f":"VLOOKUP($B62,#REF!,13,FALSE)","v":{"$error":"#REF!"}},{"$f":"VLOOKUP($B62,#REF!,10,FALSE)","v":{"$error":"#REF!"}},{"$f":"VLOOKUP($B62,#REF!,17,FALSE)","v":{"$error":"#REF!"}},{"$f":"IFERROR(VLOOKUP($B62,#REF!,2,FALSE),\"-\")","v":"-"}]
[null,60,{"$f":"VLOOKUP($B63,#REF!,2,FALSE)","v":{"$error":"#REF!"}},{"$f":"VLOOKUP($B63,#REF!,3,FALSE)","v":{"$error":"#REF!"}},{"$f":"VLOOKUP($B63,#REF!,5,FALSE)","v":{"$error":"#REF!"}},{"$f":"VLOOKUP($B63,#REF!,6,FALSE)","v":{"$error":"#REF!"}},"-",{"$error":"#REF!"},null,{"$f":"VLOOKUP($B63,#REF!,13,FALSE)","v":{"$error":"#REF!"}},{"$f":"VLOOKUP($B63,#REF!,10,FALSE)","v":{"$error":"#REF!"}},{"$f":"VLOOKUP($B63,#REF!,17,FALSE)","v":{"$error":"#REF!"}},{"$f":"IFERROR(VLOOKUP($B63,#REF!,2,FALSE),\"-\")","v":"-"}]
[null,61,{"$f":"VLOOKUP($B64,#REF!,2,FALSE)","v":{"$error":"#REF!"}},{"$f":"VLOOKUP($B64,#REF!,3,FALSE)","v":{"$error":"#REF!"}},{"$f":"VLOOKUP($B64,#REF!,5,FALSE)","v":{"$error":"#REF!"}},{"$f":"VLOOKUP($B64,#REF!,6,FALSE)","v":{"$error":"#REF!"}},"-",{"$error":"#REF!"},null,{"$f":"VLOOKUP($B64,#REF!,13,FALSE)","v":{"$error":"#REF!"}},{"$f":"VLOOKUP($B64,#REF!,10,FALSE)","v":{"$error":"#REF!"}},{"$f":"VLOOKUP($B64,#REF!,17,FALSE)","v":{"$error":"#REF!"}},{"$f":"IFERROR(VLOOKUP($B64,#REF!,2,FALSE),\"-\")","v":"-"}]
[null,62,{"$f":"VLOOKUP($B65,#REF!,2,FALSE)","v":{"$error":"#REF!"}},{"$f":"VLOOKUP($B65,#REF!,3,FALSE)","v":{"$error":"#REF!"}},{"$f":"VLOOKUP($B65,#REF!,5,FALSE)","v":{"$error":"#REF!"}},{"$f":"VLOOKUP($B65,#REF!,6,FALSE)","v":{"$error":"#REF!"}},"-",{"$error":"#REF!"},null,{"$f":"VLOOKUP($B65,#REF!,13,FALSE)","v":{"$error":"#REF!"}},{"$f":"VLOOKUP($B65,#REF!,10,FALSE)","v":{"$error":"#REF!"}},{"$f":"VLOOKUP($B65,#REF!,17,FALSE)","v":{"$error":"#REF!"}},{"$f":"IFERROR(VLOOKUP($B65,#REF!,2,FALSE),\"-\")","v":"-"}]
[null,63,{"$f":"VLOOKUP($B66,#REF!,2,FALSE)","v":{"$error":"#REF!"}},{"$f":"VLOOKUP($B66,#REF!,3,FALSE)","v":{"$error":"#REF!"}},{"$f":"VLOOKUP($B66,#REF!,5,FALSE)","v":{"$error":"#REF!"}},{"$f":"VLOOKUP($B66,#REF!,6,FALSE)","v":{"$error":"#REF!"}},"-",{"$error":"#REF!"},null,{"$f":"VLOOKUP($B66,#REF!,13,FALSE)","v":{"$error":"#REF!"}},{"$f":"VLOOKUP($B66,#REF!,10,FALSE)","v":{"$error":"#REF!"}},{"$f":"VLOOKUP($B66,#REF!,17,FALSE)","v":{"$error":"#REF!"}},{"$f":"IFERROR(VLOOKUP($B66,#REF!,2,FALSE),\"-\")","v":"-"}]
[null,64,{"$f":"VLOOKUP($B67,#REF!,2,FALSE)","v":{"$error":"#REF!"}},{"$f":"VLOOKUP($B67,#REF!,3,FALSE)","v":{"$error":"#REF!"}},{"$f":"VLOOKUP($B67,#REF!,5,FALSE)","v":{"$error":"#REF!"}},{"$f":"VLOOKUP($B67,#REF!,6,FALSE)","v":{"$error":"#REF!"}},"-",{"$error":"#REF!"},null,{"$f":"VLOOKUP($B67,#REF!,13,FALSE)","v":{"$error":"#REF!"}},{"$f":"VLOOKUP($B67,#REF!,10,FALSE)","v":{"$error":"#REF!"}},{"$f":"VLOOKUP($B67,#REF!,17,FALSE)","v":{"$error":"#REF!"}},{"$f":"IFERROR(VLOOKUP($B67,#REF!,2,FALSE),\"-\")","v":"-"}]
[null,65,{"$f":"VLOOKUP($B68,#REF!,2,FALSE)","v":{"$error":"#REF!"}},{"$f":"VLOOKUP($B68,#REF!,3,FALSE)","v":{"$error":"#REF!"}},{"$f":"VLOOKUP($B68,#REF!,5,FALSE)","v":{"$error":"#REF!"}},{"$f":"VLOOKUP($B68,#REF!,6,FALSE)","v":{"$error":"#REF!"}},{"$f":"IF(M68=1,\"欠席\",IF(M68=9,\"空ﾚｰﾝ\",\"-\"))","v":"-"},{"$error":"#REF!"},null,{"$f":"VLOOKUP($B68,#REF!,13,FALSE)","v":{"$error":"#REF!"}},{"$f":"VLOOKUP($B68,#REF!,10,FALSE)","v":{"$error":"#REF!"}},{"$f":"VLOOKUP($B68,#REF!,17,FALSE)","v":{"$error":"#REF!"}},{"$f":"IFERROR(VLOOKUP($B68,#REF!,2,FALSE),\"-\")","v":"-"}]
[null,66,{"$f":"VLOOKUP($B69,#REF!,2,FALSE)","v":{"$error":"#REF!"}},{"$f":"VLOOKUP($B69,#REF!,3,FALSE)","v":{"$error":"#REF!"}},{"$f":"VLOOKUP($B69,#REF!,5,FALSE)","v":{"$error":"#REF!"}},{"$f":"VLOOKUP($B69,#REF!,6,FALSE)","v":{"$error":"#REF!"}},"-",{"$f":"+C69","v":{"$error":"#REF!"}},null,{"$f":"VLOOKUP($B69,#REF!,13,FALSE)","v":{"$error":"#REF!"}},{"$f":"VLOOKUP($B69,#REF!,10,FALSE)","v":{"$error":"#REF!"}},{"$f":"VLOOKUP($B69,#REF!,17,FALSE)","v":{"$error":"#REF!"}},{"$f":"IFERROR(VLOOKUP($B69,#REF!,2,FALSE),\"-\")","v":"-"}]
[null,67,{"$f":"VLOOKUP($B70,#REF!,2,FALSE)","v":{"$error":"#REF!"}},{"$f":"VLOOKUP($B70,#REF!,3,FALSE)","v":{"$error":"#REF!"}},{"$f":"VLOOKUP($B70,#REF!,5,FALSE)","v":{"$error":"#REF!"}},{"$f":"VLOOKUP($B70,#REF!,6,FALSE)","v":{"$error":"#REF!"}},"-",{"$error":"#REF!"},null,{"$f":"VLOOKUP($B70,#REF!,13,FALSE)","v":{"$error":"#REF!"}},{"$f":"VLOOKUP($B70,#REF!,10,FALSE)","v":{"$error":"#REF!"}},{"$f":"VLOOKUP($B70,#REF!,17,FALSE)","v":{"$error":"#REF!"}},{"$f":"IFERROR(VLOOKUP($B70,#REF!,2,FALSE),\"-\")","v":"-"}]
[null,68,{"$f":"VLOOKUP($B71,#REF!,2,FALSE)","v":{"$error":"#REF!"}},{"$f":"VLOOKUP($B71,#REF!,3,FALSE)","v":{"$error":"#REF!"}},{"$f":"VLOOKUP($B71,#REF!,5,FALSE)","v":{"$error":"#REF!"}},{"$f":"VLOOKUP($B71,#REF!,6,FALSE)","v":{"$error":"#REF!"}},"-",{"$error":"#REF!"},null,{"$f":"VLOOKUP($B71,#REF!,13,FALSE)","v":{"$error":"#REF!"}},{"$f":"VLOOKUP($B71,#REF!,10,FALSE)","v":{"$error":"#REF!"}},{"$f":"VLOOKUP($B71,#REF!,17,FALSE)","v":{"$error":"#REF!"}},{"$f":"IFERROR(VLOOKUP($B71,#REF!,2,FALSE),\"-\")","v":"-"}]
[null,69,{"$f":"VLOOKUP($B72,#REF!,2,FALSE)","v":{"$error":"#REF!"}},{"$f":"VLOOKUP($B72,#REF!,3,FALSE)","v":{"$error":"#REF!"}},{"$f":"VLOOKUP($B72,#REF!,5,FALSE)","v":{"$error":"#REF!"}},{"$f":"VLOOKUP($B72,#REF!,6,FALSE)","v":{"$error":"#REF!"}},"-",{"$error":"#REF!"},null,{"$f":"VLOOKUP($B72,#REF!,13,FALSE)","v":{"$error":"#REF!"}},{"$f":"VLOOKUP($B72,#REF!,10,FALSE)","v":{"$error":"#REF!"}},{"$f":"VLOOKUP($B72,#REF!,17,FALSE)","v":{"$error":"#REF!"}},{"$f":"IFERROR(VLOOKUP($B72,#REF!,2,FALSE),\"-\")","v":"-"}]
[null,70,{"$f":"VLOOKUP($B73,#REF!,2,FALSE)","v":{"$error":"#REF!"}},{"$f":"VLOOKUP($B73,#REF!,3,FALSE)","v":{"$error":"#REF!"}},{"$f":"VLOOKUP($B73,#REF!,5,FALSE)","v":{"$error":"#REF!"}},{"$f":"VLOOKUP($B73,#REF!,6,FALSE)","v":{"$error":"#REF!"}},"-",{"$error":"#REF!"},null,{"$f":"VLOOKUP($B73,#REF!,13,FALSE)","v":{"$error":"#REF!"}},{"$f":"VLOOKUP($B73,#REF!,10,FALSE)","v":{"$error":"#REF!"}},{"$f":"VLOOKUP($B73,#REF!,17,FALSE)","v":{"$error":"#REF!"}},{"$f":"IFERROR(VLOOKUP($B73,#REF!,2,FALSE),\"-\")","v":"-"}]
[null,71,{"$f":"VLOOKUP($B74,#REF!,2,FALSE)","v":{"$error":"#REF!"}},{"$f":"VLOOKUP($B74,#REF!,3,FALSE)","v":{"$error":"#REF!"}},{"$f":"VLOOKUP($B74,#REF!,5,FALSE)","v":{"$error":"#REF!"}},{"$f":"VLOOKUP($B74,#REF!,6,FALSE)","v":{"$error":"#REF!"}},"-",{"$error":"#REF!"},null,{"$f":"VLOOKUP($B74,#REF!,13,FALSE)","v":{"$error":"#REF!"}},{"$f":"VLOOKUP($B74,#REF!,10,FALSE)","v":{"$error":"#REF!"}},{"$f":"VLOOKUP($B74,#REF!,17,FALSE)","v":{"$error":"#REF!"}},{"$f":"IFERROR(VLOOKUP($B74,#REF!,2,FALSE),\"-\")","v":"-"}]
[null,72,{"$f":"VLOOKUP($B75,#REF!,2,FALSE)","v":{"$error":"#REF!"}},{"$f":"VLOOKUP($B75,#REF!,3,FALSE)","v":{"$error":"#REF!"}},{"$f":"VLOOKUP($B75,#REF!,5,FALSE)","v":{"$error":"#REF!"}},{"$f":"VLOOKUP($B75,#REF!,6,FALSE)","v":{"$error":"#REF!"}},"-",{"$error":"#REF!"},null,{"$f":"VLOOKUP($B75,#REF!,13,FALSE)","v":{"$error":"#REF!"}},{"$f":"VLOOKUP($B75,#REF!,10,FALSE)","v":{"$error":"#REF!"}},{"$f":"VLOOKUP($B75,#REF!,17,FALSE)","v":{"$error":"#REF!"}},{"$f":"IFERROR(VLOOKUP($B75,#REF!,2,FALSE),\"-\")","v":"-"}]
[null,73,{"$f":"VLOOKUP($B76,#REF!,2,FALSE)","v":{"$error":"#REF!"}},{"$f":"VLOOKUP($B76,#REF!,3,FALSE)","v":{"$error":"#REF!"}},{"$f":"VLOOKUP($B76,#REF!,5,FALSE)","v":{"$error":"#REF!"}},{"$f":"VLOOKUP($B76,#REF!,6,FALSE)","v":{"$error":"#REF!"}},"-",{"$error":"#REF!"},null,{"$f":"VLOOKUP($B76,#REF!,13,FALSE)","v":{"$error":"#REF!"}},{"$f":"VLOOKUP($B76,#REF!,10,FALSE)","v":{"$error":"#REF!"}},{"$f":"VLOOKUP($B76,#REF!,17,FALSE)","v":{"$error":"#REF!"}},{"$f":"IFERROR(VLOOKUP($B76,#REF!,2,FALSE),\"-\")","v":"-"}]
[null,74,{"$f":"VLOOKUP($B77,#REF!,2,FALSE)","v":{"$error":"#REF!"}},{"$f":"VLOOKUP($B77,#REF!,3,FALSE)","v":{"$error":"#REF!"}},{"$f":"VLOOKUP($B77,#REF!,5,FALSE)","v":{"$error":"#REF!"}},{"$f":"VLOOKUP($B77,#REF!,6,FALSE)","v":{"$error":"#REF!"}},"-",{"$error":"#REF!"},null,{"$f":"VLOOKUP($B77,#REF!,13,FALSE)","v":{"$error":"#REF!"}},{"$f":"VLOOKUP($B77,#REF!,10,FALSE)","v":{"$error":"#REF!"}},{"$f":"VLOOKUP($B77,#REF!,17,FALSE)","v":{"$error":"#REF!"}},{"$f":"IFERROR(VLOOKUP($B77,#REF!,2,FALSE),\"-\")","v":"-"}]
[null,75,{"$f":"VLOOKUP($B78,#REF!,2,FALSE)","v":{"$error":"#REF!"}},{"$f":"VLOOKUP($B78,#REF!,3,FALSE)","v":{"$error":"#REF!"}},{"$f":"VLOOKUP($B78,#REF!,5,FALSE)","v":{"$error":"#REF!"}},{"$f":"VLOOKUP($B78,#REF!,6,FALSE)","v":{"$error":"#REF!"}},"-",{"$error":"#REF!"},null,{"$f":"VLOOKUP($B78,#REF!,13,FALSE)","v":{"$error":"#REF!"}},{"$f":"VLOOKUP($B78,#REF!,10,FALSE)","v":{"$error":"#REF!"}},{"$f":"VLOOKUP($B78,#REF!,17,FALSE)","v":{"$error":"#REF!"}},{"$f":"IFERROR(VLOOKUP($B78,#REF!,2,FALSE),\"-\")","v":"-"}]
[null,76,{"$f":"VLOOKUP($B79,#REF!,2,FALSE)","v":{"$error":"#REF!"}},{"$f":"VLOOKUP($B79,#REF!,3,FALSE)","v":{"$error":"#REF!"}},{"$f":"VLOOKUP($B79,#REF!,5,FALSE)","v":{"$error":"#REF!"}},{"$f":"VLOOKUP($B79,#REF!,6,FALSE)","v":{"$error":"#REF!"}},"-",{"$error":"#REF!"},null,{"$f":"VLOOKUP($B79,#REF!,13,FALSE)","v":{"$error":"#REF!"}},{"$f":"VLOOKUP($B79,#REF!,10,FALSE)","v":{"$error":"#REF!"}},{"$f":"VLOOKUP($B79,#REF!,17,FALSE)","v":{"$error":"#REF!"}},{"$f":"IFERROR(VLOOKUP($B79,#REF!,2,FALSE),\"-\")","v":"-"}]
[null,77,{"$f":"VLOOKUP($B80,#REF!,2,FALSE)","v":{"$error":"#REF!"}},{"$f":"VLOOKUP($B80,#REF!,3,FALSE)","v":{"$error":"#REF!"}},{"$f":"VLOOKUP($B80,#REF!,5,FALSE)","v":{"$error":"#REF!"}},{"$f":"VLOOKUP($B80,#REF!,6,FALSE)","v":{"$error":"#REF!"}},"-",{"$error":"#REF!"},null,{"$f":"VLOOKUP($B80,#REF!,13,FALSE)","v":{"$error":"#REF!"}},{"$f":"VLOOKUP($B80,#REF!,10,FALSE)","v":{"$error":"#REF!"}},{"$f":"VLOOKUP($B80,#REF!,17,FALSE)","v":{"$error":"#REF!"}},{"$f":"IFERROR(VLOOKUP($B80,#REF!,2,FALSE),\"-\")","v":"-"}]
[null,78,{"$f":"VLOOKUP($B81,#REF!,2,FALSE)","v":{"$error":"#REF!"}},{"$f":"VLOOKUP($B81,#REF!,3,FALSE)","v":{"$error":"#REF!"}},{"$f":"VLOOKUP($B81,#REF!,5,FALSE)","v":{"$error":"#REF!"}},{"$f":"VLOOKUP($B81,#REF!,6,FALSE)","v":{"$error":"#REF!"}},"-",{"$error":"#REF!"},null,{"$f":"VLOOKUP($B81,#REF!,13,FALSE)","v":{"$error":"#REF!"}},{"$f":"VLOOKUP($B81,#REF!,10,FALSE)","v":{"$error":"#REF!"}},{"$f":"VLOOKUP($B81,#REF!,17,FALSE)","v":{"$error":"#REF!"}},{"$f":"IFERROR(VLOOKUP($B81,#REF!,2,FALSE),\"-\")","v":"-"}]
[null,79,{"$f":"VLOOKUP($B82,#REF!,2,FALSE)","v":{"$error":"#REF!"}},{"$f":"VLOOKUP($B82,#REF!,3,FALSE)","v":{"$error":"#REF!"}},{"$f":"VLOOKUP($B82,#REF!,5,FALSE)","v":{"$error":"#REF!"}},{"$f":"VLOOKUP($B82,#REF!,6,FALSE)","v":{"$error":"#REF!"}},"-",{"$error":"#REF!"},null,{"$f":"VLOOKUP($B82,#REF!,13,FALSE)","v":{"$error":"#REF!"}},{"$f":"VLOOKUP($B82,#REF!,10,FALSE)","v":{"$error":"#REF!"}},{"$f":"VLOOKUP($B82,#REF!,17,FALSE)","v":{"$error":"#REF!"}},{"$f":"IFERROR(VLOOKUP($B82,#REF!,2,FALSE),\"-\")","v":"-"}]
[null,80,{"$f":"VLOOKUP($B83,#REF!,2,FALSE)","v":{"$error":"#REF!"}},{"$f":"VLOOKUP($B83,#REF!,3,FALSE)","v":{"$error":"#REF!"}},{"$f":"VLOOKUP($B83,#REF!,5,FALSE)","v":{"$error":"#REF!"}},{"$f":"VLOOKUP($B83,#REF!,6,FALSE)","v":{"$error":"#REF!"}},"-",{"$error":"#REF!"},null,{"$f":"VLOOKUP($B83,#REF!,13,FALSE)","v":{"$error":"#REF!"}},{"$f":"VLOOKUP($B83,#REF!,10,FALSE)","v":{"$error":"#REF!"}},{"$f":"VLOOKUP($B83,#REF!,17,FALSE)","v":{"$error":"#REF!"}},{"$f":"IFERROR(VLOOKUP($B83,#REF!,2,FALSE),\"-\")","v":"-"}]
[null,81,{"$f":"VLOOKUP($B84,#REF!,2,FALSE)","v":{"$error":"#REF!"}},{"$f":"VLOOKUP($B84,#REF!,3,FALSE)","v":{"$error":"#REF!"}},{"$f":"VLOOKUP($B84,#REF!,5,FALSE)","v":{"$error":"#REF!"}},{"$f":"VLOOKUP($B84,#REF!,6,FALSE)","v":{"$error":"#REF!"}},"-",{"$error":"#REF!"},null,{"$f":"VLOOKUP($B84,#REF!,13,FALSE)","v":{"$error":"#REF!"}},{"$f":"VLOOKUP($B84,#REF!,10,FALSE)","v":{"$error":"#REF!"}},{"$f":"VLOOKUP($B84,#REF!,17,FALSE)","v":{"$error":"#REF!"}},{"$f":"IFERROR(VLOOKUP($B84,#REF!,2,FALSE),\"-\")","v":"-"}]
[null,82,{"$f":"VLOOKUP($B85,#REF!,2,FALSE)","v":{"$error":"#REF!"}},{"$f":"VLOOKUP($B85,#REF!,3,FALSE)","v":{"$error":"#REF!"}},{"$f":"VLOOKUP($B85,#REF!,5,FALSE)","v":{"$error":"#REF!"}},{"$f":"VLOOKUP($B85,#REF!,6,FALSE)","v":{"$error":"#REF!"}},"-",{"$error":"#REF!"},null,{"$f":"VLOOKUP($B85,#REF!,13,FALSE)","v":{"$error":"#REF!"}},{"$f":"VLOOKUP($B85,#REF!,10,FALSE)","v":{"$error":"#REF!"}},{"$f":"VLOOKUP($B85,#REF!,17,FALSE)","v":{"$error":"#REF!"}},{"$f":"IFERROR(VLOOKUP($B85,#REF!,2,FALSE),\"-\")","v":"-"}]
[null,83,{"$f":"VLOOKUP($B86,#REF!,2,FALSE)","v":{"$error":"#REF!"}},{"$f":"VLOOKUP($B86,#REF!,3,FALSE)","v":{"$error":"#REF!"}},{"$f":"VLOOKUP($B86,#REF!,5,FALSE)","v":{"$error":"#REF!"}},{"$f":"VLOOKUP($B86,#REF!,6,FALSE)","v":{"$error":"#REF!"}},"-",{"$error":"#REF!"},null,{"$f":"VLOOKUP($B86,#REF!,13,FALSE)","v":{"$error":"#REF!"}},{"$f":"VLOOKUP($B86,#REF!,10,FALSE)","v":{"$error":"#REF!"}},{"$f":"VLOOKUP($B86,#REF!,17,FALSE)","v":{"$error":"#REF!"}},{"$f":"IFERROR(VLOOKUP($B86,#REF!,2,FALSE),\"-\")","v":"-"}]
[null,84,{"$f":"VLOOKUP($B87,#REF!,2,FALSE)","v":{"$error":"#REF!"}},{"$f":"VLOOKUP($B87,#REF!,3,FALSE)","v":{"$error":"#REF!"}},{"$f":"VLOOKUP($B87,#REF!,5,FALSE)","v":{"$error":"#REF!"}},{"$f":"VLOOKUP($B87,#REF!,6,FALSE)","v":{"$error":"#REF!"}},"-",{"$error":"#REF!"},null,{"$f":"VLOOKUP($B87,#REF!,13,FALSE)","v":{"$error":"#REF!"}},{"$f":"VLOOKUP($B87,#REF!,10,FALSE)","v":{"$error":"#REF!"}},{"$f":"VLOOKUP($B87,#REF!,17,FALSE)","v":{"$error":"#REF!"}},{"$f":"IFERROR(VLOOKUP($B87,#REF!,2,FALSE),\"-\")","v":"-"}]
[null,85,{"$f":"VLOOKUP($B88,#REF!,2,FALSE)","v":{"$error":"#REF!"}},{"$f":"VLOOKUP($B88,#REF!,3,FALSE)","v":{"$error":"#REF!"}},{"$f":"VLOOKUP($B88,#REF!,5,FALSE)","v":{"$error":"#REF!"}},{"$f":"VLOOKUP($B88,#REF!,6,FALSE)","v":{"$error":"#REF!"}},"-",{"$error":"#REF!"},null,{"$f":"VLOOKUP($B88,#REF!,13,FALSE)","v":{"$error":"#REF!"}},{"$f":"VLOOKUP($B88,#REF!,10,FALSE)","v":{"$error":"#REF!"}},{"$f":"VLOOKUP($B88,#REF!,17,FALSE)","v":{"$error":"#REF!"}},{"$f":"IFERROR(VLOOKUP($B88,#REF!,2,FALSE),\"-\")","v":"-"}]
[null,86,{"$f":"VLOOKUP($B89,#REF!,2,FALSE)","v":{"$error":"#REF!"}},{"$f":"VLOOKUP($B89,#REF!,3,FALSE)","v":{"$error":"#REF!"}},{"$f":"VLOOKUP($B89,#REF!,5,FALSE)","v":{"$error":"#REF!"}},{"$f":"VLOOKUP($B89,#REF!,6,FALSE)","v":{"$error":"#REF!"}},"-",{"$error":"#REF!"},null,{"$f":"VLOOKUP($B89,#REF!,13,FALSE)","v":{"$error":"#REF!"}},{"$f":"VLOOKUP($B89,#REF!,10,FALSE)","v":{"$error":"#REF!"}},{"$f":"VLOOKUP($B89,#REF!,17,FALSE)","v":{"$error":"#REF!"}},{"$f":"IFERROR(VLOOKUP($B89,#REF!,2,FALSE),\"-\")","v":"-"}]
[null,87,{"$f":"VLOOKUP($B90,#REF!,2,FALSE)","v":{"$error":"#REF!"}},{"$f":"VLOOKUP($B90,#REF!,3,FALSE)","v":{"$error":"#REF!"}},{"$f":"VLOOKUP($B90,#REF!,5,FALSE)","v":{"$error":"#REF!"}},{"$f":"VLOOKUP($B90,#REF!,6,FALSE)","v":{"$error":"#REF!"}},"-",{"$error":"#REF!"},null,{"$f":"VLOOKUP($B90,#REF!,13,FALSE)","v":{"$error":"#REF!"}},{"$f":"VLOOKUP($B90,#REF!,10,FALSE)","v":{"$error":"#REF!"}},{"$f":"VLOOKUP($B90,#REF!,17,FALSE)","v":{"$error":"#REF!"}},{"$f":"IFERROR(VLOOKUP($B90,#REF!,2,FALSE),\"-\")","v":"-"}]
[null,88,{"$f":"VLOOKUP($B91,#REF!,2,FALSE)","v":{"$error":"#REF!"}},{"$f":"VLOOKUP($B91,#REF!,3,FALSE)","v":{"$error":"#REF!"}},{"$f":"VLOOKUP($B91,#REF!,5,FALSE)","v":{"$error":"#REF!"}},{"$f":"VLOOKUP($B91,#REF!,6,FALSE)","v":{"$error":"#REF!"}},"-",{"$error":"#REF!"},null,{"$f":"VLOOKUP($B91,#REF!,13,FALSE)","v":{"$error":"#REF!"}},{"$f":"VLOOKUP($B91,#REF!,10,FALSE)","v":{"$error":"#REF!"}},{"$f":"VLOOKUP($B91,#REF!,17,FALSE)","v":{"$error":"#REF!"}},{"$f":"IFERROR(VLOOKUP($B91,#REF!,2,FALSE),\"-\")","v":"-"}]
[null,89,{"$f":"VLOOKUP($B92,#REF!,2,FALSE)","v":{"$error":"#REF!"}},{"$f":"VLOOKUP($B92,#REF!,3,FALSE)","v":{"$error":"#REF!"}},{"$f":"VLOOKUP($B92,#REF!,5,FALSE)","v":{"$error":"#REF!"}},{"$f":"VLOOKUP($B92,#REF!,6,FALSE)","v":{"$error":"#REF!"}},"-",{"$error":"#REF!"},null,{"$f":"VLOOKUP($B92,#REF!,13,FALSE)","v":{"$error":"#REF!"}},{"$f":"VLOOKUP($B92,#REF!,10,FALSE)","v":{"$error":"#REF!"}},{"$f":"VLOOKUP($B92,#REF!,17,FALSE)","v":{"$error":"#REF!"}},{"$f":"IFERROR(VLOOKUP($B92,#REF!,2,FALSE),\"-\")","v":"-"}]
[null,90,{"$f":"VLOOKUP($B93,#REF!,2,FALSE)","v":{"$error":"#REF!"}},{"$f":"VLOOKUP($B93,#REF!,3,FALSE)","v":{"$error":"#REF!"}},{"$f":"VLOOKUP($B93,#REF!,5,FALSE)","v":{"$error":"#REF!"}},{"$f":"VLOOKUP($B93,#REF!,6,FALSE)","v":{"$error":"#REF!"}},"-",{"$error":"#REF!"},null,{"$f":"VLOOKUP($B93,#REF!,13,FALSE)","v":{"$error":"#REF!"}},{"$f":"VLOOKUP($B93,#REF!,10,FALSE)","v":{"$error":"#REF!"}},{"$f":"VLOOKUP($B93,#REF!,17,FALSE)","v":{"$error":"#REF!"}},{"$f":"IFERROR(VLOOKUP($B93,#REF!,2,FALSE),\"-\")","v":"-"}]
[null,91,{"$f":"VLOOKUP($B94,#REF!,2,FALSE)","v":{"$error":"#REF!"}},{"$f":"VLOOKUP($B94,#REF!,3,FALSE)","v":{"$error":"#REF!"}},{"$f":"VLOOKUP($B94,#REF!,5,FALSE)","v":{"$error":"#REF!"}},{"$f":"VLOOKUP($B94,#REF!,6,FALSE)","v":{"$error":"#REF!"}},"-",{"$error":"#REF!"},null,{"$f":"VLOOKUP($B94,#REF!,13,FALSE)","v":{"$error":"#REF!"}},{"$f":"VLOOKUP($B94,#REF!,10,FALSE)","v":{"$error":"#REF!"}},{"$f":"VLOOKUP($B94,#REF!,17,FALSE)","v":{"$error":"#REF!"}},{"$f":"IFERROR(VLOOKUP($B94,#REF!,2,FALSE),\"-\")","v":"-"}]
[null,92,{"$f":"VLOOKUP($B95,#REF!,2,FALSE)","v":{"$error":"#REF!"}},{"$f":"VLOOKUP($B95,#REF!,3,FALSE)","v":{"$error":"#REF!"}},{"$f":"VLOOKUP($B95,#REF!,5,FALSE)","v":{"$error":"#REF!"}},{"$f":"VLOOKUP($B95,#REF!,6,FALSE)","v":{"$error":"#REF!"}},"-",{"$error":"#REF!"},null,{"$f":"VLOOKUP($B95,#REF!,13,FALSE)","v":{"$error":"#REF!"}},{"$f":"VLOOKUP($B95,#REF!,10,FALSE)","v":{"$error":"#REF!"}},{"$f":"VLOOKUP($B95,#REF!,17,FALSE)","v":{"$error":"#REF!"}},{"$f":"IFERROR(VLOOKUP($B95,#REF!,2,FALSE),\"-\")","v":"-"}]
[null,93,{"$f":"VLOOKUP($B96,#REF!,2,FALSE)","v":{"$error":"#REF!"}},{"$f":"VLOOKUP($B96,#REF!,3,FALSE)","v":{"$error":"#REF!"}},{"$f":"VLOOKUP($B96,#REF!,5,FALSE)","v":{"$error":"#REF!"}},{"$f":"VLOOKUP($B96,#REF!,6,FALSE)","v":{"$error":"#REF!"}},"-",{"$error":"#REF!"},null,{"$f":"VLOOKUP($B96,#REF!,13,FALSE)","v":{"$error":"#REF!"}},{"$f":"VLOOKUP($B96,#REF!,10,FALSE)","v":{"$error":"#REF!"}},{"$f":"VLOOKUP($B96,#REF!,17,FALSE)","v":{"$error":"#REF!"}},{"$f":"IFERROR(VLOOKUP($B96,#REF!,2,FALSE),\"-\")","v":"-"}]
[null,94,{"$f":"VLOOKUP($B97,#REF!,2,FALSE)","v":{"$error":"#REF!"}},{"$f":"VLOOKUP($B97,#REF!,3,FALSE)","v":{"$error":"#REF!"}},{"$f":"VLOOKUP($B97,#REF!,5,FALSE)","v":{"$error":"#REF!"}},{"$f":"VLOOKUP($B97,#REF!,6,FALSE)","v":{"$error":"#REF!"}},"-",{"$error":"#REF!"},null,{"$f":"VLOOKUP($B97,#REF!,13,FALSE)","v":{"$error":"#REF!"}},{"$f":"VLOOKUP($B97,#REF!,10,FALSE)","v":{"$error":"#REF!"}},{"$f":"VLOOKUP($B97,#REF!,17,FALSE)","v":{"$error":"#REF!"}},{"$f":"IFERROR(VLOOKUP($B97,#REF!,2,FALSE),\"-\")","v":"-"}]
[null,95,{"$f":"VLOOKUP($B98,#REF!,2,FALSE)","v":{"$error":"#REF!"}},{"$f":"VLOOKUP($B98,#REF!,3,FALSE)","v":{"$error":"#REF!"}},{"$f":"VLOOKUP($B98,#REF!,5,FALSE)","v":{"$error":"#REF!"}},{"$f":"VLOOKUP($B98,#REF!,6,FALSE)","v":{"$error":"#REF!"}},"-",{"$error":"#REF!"},null,{"$f":"VLOOKUP($B98,#REF!,13,FALSE)","v":{"$error":"#REF!"}},{"$f":"VLOOKUP($B98,#REF!,10,FALSE)","v":{"$error":"#REF!"}},{"$f":"VLOOKUP($B98,#REF!,17,FALSE)","v":{"$error":"#REF!"}},{"$f":"IFERROR(VLOOKUP($B98,#REF!,2,FALSE),\"-\")","v":"-"}]
[null,96,{"$f":"VLOOKUP($B99,#REF!,2,FALSE)","v":{"$error":"#REF!"}},{"$f":"VLOOKUP($B99,#REF!,3,FALSE)","v":{"$error":"#REF!"}},{"$f":"VLOOKUP($B99,#REF!,5,FALSE)","v":{"$error":"#REF!"}},{"$f":"VLOOKUP($B99,#REF!,6,FALSE)","v":{"$error":"#REF!"}},"-",{"$error":"#REF!"},null,{"$f":"VLOOKUP($B99,#REF!,13,FALSE)","v":{"$error":"#REF!"}},{"$f":"VLOOKUP($B99,#REF!,10,FALSE)","v":{"$error":"#REF!"}},{"$f":"VLOOKUP($B99,#REF!,17,FALSE)","v":{"$error":"#REF!"}},{"$f":"IFERROR(VLOOKUP($B99,#REF!,2,FALSE),\"-\")","v":"-"}]
[null,97,{"$f":"VLOOKUP($B100,#REF!,2,FALSE)","v":{"$error":"#REF!"}},{"$f":"VLOOKUP($B100,#REF!,3,FALSE)","v":{"$error":"#REF!"}},{"$f":"VLOOKUP($B100,#REF!,5,FALSE)","v":{"$error":"#REF!"}},{"$f":"VLOOKUP($B100,#REF!,6,FALSE)","v":{"$error":"#REF!"}},"-",{"$error":"#REF!"},null,{"$f":"VLOOKUP($B100,#REF!,13,FALSE)","v":{"$error":"#REF!"}},{"$f":"VLOOKUP($B100,#REF!,10,FALSE)","v":{"$error":"#REF!"}},{"$f":"VLOOKUP($B100,#REF!,17,FALSE)","v":{"$error":"#REF!"}},{"$f":"IFERROR(VLOOKUP($B100,#REF!,2,FALSE),\"-\")","v":"-"}]
[null,98,{"$f":"VLOOKUP($B101,#REF!,2,FALSE)","v":{"$error":"#REF!"}},{"$f":"VLOOKUP($B101,#REF!,3,FALSE)","v":{"$error":"#REF!"}},{"$f":"VLOOKUP($B101,#REF!,5,FALSE)","v":{"$error":"#REF!"}},{"$f":"VLOOKUP($B101,#REF!,6,FALSE)","v":{"$error":"#REF!"}},"-",{"$error":"#REF!"},null,{"$f":"VLOOKUP($B101,#REF!,13,FALSE)","v":{"$error":"#REF!"}},{"$f":"VLOOKUP($B101,#REF!,10,FALSE)","v":{"$error":"#REF!"}},{"$f":"VLOOKUP($B101,#REF!,17,FALSE)","v":{"$error":"#REF!"}},{"$f":"IFERROR(VLOOKUP($B101,#REF!,2,FALSE),\"-\")","v":"-"}]
[null,99,{"$f":"VLOOKUP($B102,#REF!,2,FALSE)","v":{"$error":"#REF!"}},{"$f":"VLOOKUP($B102,#REF!,3,FALSE)","v":{"$error":"#REF!"}},{"$f":"VLOOKUP($B102,#REF!,5,FALSE)","v":{"$error":"#REF!"}},{"$f":"VLOOKUP($B102,#REF!,6,FALSE)","v":{"$error":"#REF!"}},"-",{"$error":"#REF!"},null,{"$f":"VLOOKUP($B102,#REF!,13,FALSE)","v":{"$error":"#REF!"}},{"$f":"VLOOKUP($B102,#REF!,10,FALSE)","v":{"$error":"#REF!"}},{"$f":"VLOOKUP($B102,#REF!,17,FALSE)","v":{"$error":"#REF!"}},{"$f":"IFERROR(VLOOKUP($B102,#REF!,2,FALSE),\"-\")","v":"-"}]
[null,100,{"$f":"VLOOKUP($B103,#REF!,2,FALSE)","v":{"$error":"#REF!"}},{"$f":"VLOOKUP($B103,#REF!,3,FALSE)","v":{"$error":"#REF!"}},{"$f":"VLOOKUP($B103,#REF!,5,FALSE)","v":{"$error":"#REF!"}},{"$f":"VLOOKUP($B103,#REF!,6,FALSE)","v":{"$error":"#REF!"}},"-",{"$error":"#REF!"},null,{"$f":"VLOOKUP($B103,#REF!,13,FALSE)","v":{"$error":"#REF!"}},{"$f":"VLOOKUP($B103,#REF!,10,FALSE)","v":{"$error":"#REF!"}},{"$f":"VLOOKUP($B103,#REF!,17,FALSE)","v":{"$error":"#REF!"}},{"$f":"IFERROR(VLOOKUP($B103,#REF!,2,FALSE),\"-\")","v":"-"}]
[null,101,{"$f":"VLOOKUP($B104,#REF!,2,FALSE)","v":{"$error":"#REF!"}},{"$f":"VLOOKUP($B104,#REF!,3,FALSE)","v":{"$error":"#REF!"}},{"$f":"VLOOKUP($B104,#REF!,5,FALSE)","v":{"$error":"#REF!"}},{"$f":"VLOOKUP($B104,#REF!,6,FALSE)","v":{"$error":"#REF!"}},"-",{"$error":"#REF!"},null,{"$f":"VLOOKUP($B104,#REF!,13,FALSE)","v":{"$error":"#REF!"}},{"$f":"VLOOKUP($B104,#REF!,10,FALSE)","v":{"$error":"#REF!"}},{"$f":"VLOOKUP($B104,#REF!,17,FALSE)","v":{"$error":"#REF!"}},{"$f":"IFERROR(VLOOKUP($B104,#REF!,2,FALSE),\"-\")","v":"-"}]
[null,102,{"$f":"VLOOKUP($B105,#REF!,2,FALSE)","v":{"$error":"#REF!"}},{"$f":"VLOOKUP($B105,#REF!,3,FALSE)","v":{"$error":"#REF!"}},{"$f":"VLOOKUP($B105,#REF!,5,FALSE)","v":{"$error":"#REF!"}},{"$f":"VLOOKUP($B105,#REF!,6,FALSE)","v":{"$error":"#REF!"}},"-",{"$error":"#REF!"},null,{"$f":"VLOOKUP($B105,#REF!,13,FALSE)","v":{"$error":"#REF!"}},{"$f":"VLOOKUP($B105,#REF!,10,FALSE)","v":{"$error":"#REF!"}},{"$f":"VLOOKUP($B105,#REF!,17,FALSE)","v":{"$error":"#REF!"}},{"$f":"IFERROR(VLOOKUP($B105,#REF!,2,FALSE),\"-\")","v":"-"}]
[null,103,{"$f":"VLOOKUP($B106,#REF!,2,FALSE)","v":{"$error":"#REF!"}},{"$f":"VLOOKUP($B106,#REF!,3,FALSE)","v":{"$error":"#REF!"}},{"$f":"VLOOKUP($B106,#REF!,5,FALSE)","v":{"$error":"#REF!"}},{"$f":"VLOOKUP($B106,#REF!,6,FALSE)","v":{"$error":"#REF!"}},"-",{"$error":"#REF!"},null,{"$f":"VLOOKUP($B106,#REF!,13,FALSE)","v":{"$error":"#REF!"}},{"$f":"VLOOKUP($B106,#REF!,10,FALSE)","v":{"$error":"#REF!"}},{"$f":"VLOOKUP($B106,#REF!,17,FALSE)","v":{"$error":"#REF!"}},{"$f":"IFERROR(VLOOKUP($B106,#REF!,2,FALSE),\"-\")","v":"-"}]
[null,104,{"$f":"VLOOKUP($B107,#REF!,2,FALSE)","v":{"$error":"#REF!"}},{"$f":"VLOOKUP($B107,#REF!,3,FALSE)","v":{"$error":"#REF!"}},{"$f":"VLOOKUP($B107,#REF!,5,FALSE)","v":{"$error":"#REF!"}},{"$f":"VLOOKUP($B107,#REF!,6,FALSE)","v":{"$error":"#REF!"}},"-",{"$error":"#REF!"},null,{"$f":"VLOOKUP($B107,#REF!,13,FALSE)","v":{"$error":"#REF!"}},{"$f":"VLOOKUP($B107,#REF!,10,FALSE)","v":{"$error":"#REF!"}},{"$f":"VLOOKUP($B107,#REF!,17,FALSE)","v":{"$error":"#REF!"}},{"$f":"IFERROR(VLOOKUP($B107,#REF!,2,FALSE),\"-\")","v":"-"}]
[null,105,{"$f":"VLOOKUP($B108,#REF!,2,FALSE)","v":{"$error":"#REF!"}},{"$f":"VLOOKUP($B108,#REF!,3,FALSE)","v":{"$error":"#REF!"}},{"$f":"VLOOKUP($B108,#REF!,5,FALSE)","v":{"$error":"#REF!"}},{"$f":"VLOOKUP($B108,#REF!,6,FALSE)","v":{"$error":"#REF!"}},"-",{"$error":"#REF!"},null,{"$f":"VLOOKUP($B108,#REF!,13,FALSE)","v":{"$error":"#REF!"}},{"$f":"VLOOKUP($B108,#REF!,10,FALSE)","v":{"$error":"#REF!"}},{"$f":"VLOOKUP($B108,#REF!,17,FALSE)","v":{"$error":"#REF!"}},{"$f":"IFERROR(VLOOKUP($B108,#REF!,2,FALSE),\"-\")","v":"-"}]
[null,106,{"$f":"VLOOKUP($B109,#REF!,2,FALSE)","v":{"$error":"#REF!"}},{"$f":"VLOOKUP($B109,#REF!,3,FALSE)","v":{"$error":"#REF!"}},{"$f":"VLOOKUP($B109,#REF!,5,FALSE)","v":{"$error":"#REF!"}},{"$f":"VLOOKUP($B109,#REF!,6,FALSE)","v":{"$error":"#REF!"}},"-",{"$error":"#REF!"},null,{"$f":"VLOOKUP($B109,#REF!,13,FALSE)","v":{"$error":"#REF!"}},{"$f":"VLOOKUP($B109,#REF!,10,FALSE)","v":{"$error":"#REF!"}},{"$f":"VLOOKUP($B109,#REF!,17,FALSE)","v":{"$error":"#REF!"}},{"$f":"IFERROR(VLOOKUP($B109,#REF!,2,FALSE),\"-\")","v":"-"}]
[null,107,{"$f":"VLOOKUP($B110,#REF!,2,FALSE)","v":{"$error":"#REF!"}},{"$f":"VLOOKUP($B110,#REF!,3,FALSE)","v":{"$error":"#REF!"}},{"$f":"VLOOKUP($B110,#REF!,5,FALSE)","v":{"$error":"#REF!"}},{"$f":"VLOOKUP($B110,#REF!,6,FALSE)","v":{"$error":"#REF!"}},"-",{"$error":"#REF!"},null,{"$f":"VLOOKUP($B110,#REF!,13,FALSE)","v":{"$error":"#REF!"}},{"$f":"VLOOKUP($B110,#REF!,10,FALSE)","v":{"$error":"#REF!"}},{"$f":"VLOOKUP($B110,#REF!,17,FALSE)","v":{"$error":"#REF!"}},{"$f":"IFERROR(VLOOKUP($B110,#REF!,2,FALSE),\"-\")","v":"-"}]
[null,108,{"$f":"VLOOKUP($B111,#REF!,2,FALSE)","v":{"$error":"#REF!"}},{"$f":"VLOOKUP($B111,#REF!,3,FALSE)","v":{"$error":"#REF!"}},{"$f":"VLOOKUP($B111,#REF!,5,FALSE)","v":{"$error":"#REF!"}},{"$f":"VLOOKUP($B111,#REF!,6,FALSE)","v":{"$error":"#REF!"}},"-",{"$error":"#REF!"},null,{"$f":"VLOOKUP($B111,#REF!,13,FALSE)","v":{"$error":"#REF!"}},{"$f":"VLOOKUP($B111,#REF!,10,FALSE)","v":{"$error":"#REF!"}},{"$f":"VLOOKUP($B111,#REF!,17,FALSE)","v":{"$error":"#REF!"}},{"$f":"IFERROR(VLOOKUP($B111,#REF!,2,FALSE),\"-\")","v":"-"}]
[null,109,{"$f":"VLOOKUP($B112,#REF!,2,FALSE)","v":{"$error":"#REF!"}},{"$f":"VLOOKUP($B112,#REF!,3,FALSE)","v":{"$error":"#REF!"}},{"$f":"VLOOKUP($B112,#REF!,5,FALSE)","v":{"$error":"#REF!"}},{"$f":"VLOOKUP($B112,#REF!,6,FALSE)","v":{"$error":"#REF!"}},"-",{"$error":"#REF!"},null,{"$f":"VLOOKUP($B112,#REF!,13,FALSE)","v":{"$error":"#REF!"}},{"$f":"VLOOKUP($B112,#REF!,10,FALSE)","v":{"$error":"#REF!"}},{"$f":"VLOOKUP($B112,#REF!,17,FALSE)","v":{"$error":"#REF!"}},{"$f":"IFERROR(VLOOKUP($B112,#REF!,2,FALSE),\"-\")","v":"-"}]
[null,110,{"$f":"VLOOKUP($B113,#REF!,2,FALSE)","v":{"$error":"#REF!"}},{"$f":"VLOOKUP($B113,#REF!,3,FALSE)","v":{"$error":"#REF!"}},{"$f":"VLOOKUP($B113,#REF!,5,FALSE)","v":{"$error":"#REF!"}},{"$f":"VLOOKUP($B113,#REF!,6,FALSE)","v":{"$error":"#REF!"}},"-",{"$error":"#REF!"},null,{"$f":"VLOOKUP($B113,#REF!,13,FALSE)","v":{"$error":"#REF!"}},{"$f":"VLOOKUP($B113,#REF!,10,FALSE)","v":{"$error":"#REF!"}},{"$f":"VLOOKUP($B113,#REF!,17,FALSE)","v":{"$error":"#REF!"}},{"$f":"IFERROR(VLOOKUP($B113,#REF!,2,FALSE),\"-\")","v":"-"}]
[null,111,{"$f":"VLOOKUP($B114,#REF!,2,FALSE)","v":{"$error":"#REF!"}},{"$f":"VLOOKUP($B114,#REF!,3,FALSE)","v":{"$error":"#REF!"}},{"$f":"VLOOKUP($B114,#REF!,5,FALSE)","v":{"$error":"#REF!"}},{"$f":"VLOOKUP($B114,#REF!,6,FALSE)","v":{"$error":"#REF!"}},"-",{"$error":"#REF!"},null,{"$f":"VLOOKUP($B114,#REF!,13,FALSE)","v":{"$error":"#REF!"}},{"$f":"VLOOKUP($B114,#REF!,10,FALSE)","v":{"$error":"#REF!"}},{"$f":"VLOOKUP($B114,#REF!,17,FALSE)","v":{"$error":"#REF!"}},{"$f":"IFERROR(VLOOKUP($B114,#REF!,2,FALSE),\"-\")","v":"-"}]
[null,112,{"$f":"VLOOKUP($B115,#REF!,2,FALSE)","v":{"$error":"#REF!"}},{"$f":"VLOOKUP($B115,#REF!,3,FALSE)","v":{"$error":"#REF!"}},{"$f":"VLOOKUP($B115,#REF!,5,FALSE)","v":{"$error":"#REF!"}},{"$f":"VLOOKUP($B115,#REF!,6,FALSE)","v":{"$error":"#REF!"}},"-",{"$error":"#REF!"},null,{"$f":"VLOOKUP($B115,#REF!,13,FALSE)","v":{"$error":"#REF!"}},{"$f":"VLOOKUP($B115,#REF!,10,FALSE)","v":{"$error":"#REF!"}},{"$f":"VLOOKUP($B115,#REF!,17,FALSE)","v":{"$error":"#REF!"}},{"$f":"IFERROR(VLOOKUP($B115,#REF!,2,FALSE),\"-\")","v":"-"}]
[null,113,{"$f":"VLOOKUP($B116,#REF!,2,FALSE)","v":{"$error":"#REF!"}},{"$f":"VLOOKUP($B116,#REF!,3,FALSE)","v":{"$error":"#REF!"}},{"$f":"VLOOKUP($B116,#REF!,5,FALSE)","v":{"$error":"#REF!"}},{"$f":"VLOOKUP($B116,#REF!,6,FALSE)","v":{"$error":"#REF!"}},"-",{"$error":"#REF!"},null,{"$f":"VLOOKUP($B116,#REF!,13,FALSE)","v":{"$error":"#REF!"}},{"$f":"VLOOKUP($B116,#REF!,10,FALSE)","v":{"$error":"#REF!"}},{"$f":"VLOOKUP($B116,#REF!,17,FALSE)","v":{"$error":"#REF!"}},{"$f":"IFERROR(VLOOKUP($B116,#REF!,2,FALSE),\"-\")","v":"-"}]
[null,114,{"$f":"VLOOKUP($B117,#REF!,2,FALSE)","v":{"$error":"#REF!"}},{"$f":"VLOOKUP($B117,#REF!,3,FALSE)","v":{"$error":"#REF!"}},{"$f":"VLOOKUP($B117,#REF!,5,FALSE)","v":{"$error":"#REF!"}},{"$f":"VLOOKUP($B117,#REF!,6,FALSE)","v":{"$error":"#REF!"}},"-",{"$error":"#REF!"},null,{"$f":"VLOOKUP($B117,#REF!,13,FALSE)","v":{"$error":"#REF!"}},{"$f":"VLOOKUP($B117,#REF!,10,FALSE)","v":{"$error":"#REF!"}},{"$f":"VLOOKUP($B117,#REF!,17,FALSE)","v":{"$error":"#REF!"}},{"$f":"IFERROR(VLOOKUP($B117,#REF!,2,FALSE),\"-\")","v":"-"}]
[null,115,{"$f":"VLOOKUP($B118,#REF!,2,FALSE)","v":{"$error":"#REF!"}},{"$f":"VLOOKUP($B118,#REF!,3,FALSE)","v":{"$error":"#REF!"}},{"$f":"VLOOKUP($B118,#REF!,5,FALSE)","v":{"$error":"#REF!"}},{"$f":"VLOOKUP($B118,#REF!,6,FALSE)","v":{"$error":"#REF!"}},"-",{"$error":"#REF!"},null,{"$f":"VLOOKUP($B118,#REF!,13,FALSE)","v":{"$error":"#REF!"}},{"$f":"VLOOKUP($B118,#REF!,10,FALSE)","v":{"$error":"#REF!"}},{"$f":"VLOOKUP($B118,#REF!,17,FALSE)","v":{"$error":"#REF!"}},{"$f":"IFERROR(VLOOKUP($B118,#REF!,2,FALSE),\"-\")","v":"-"}]
[null,116,{"$f":"VLOOKUP($B119,#REF!,2,FALSE)","v":{"$error":"#REF!"}},{"$f":"VLOOKUP($B119,#REF!,3,FALSE)","v":{"$error":"#REF!"}},{"$f":"VLOOKUP($B119,#REF!,5,FALSE)","v":{"$error":"#REF!"}},{"$f":"VLOOKUP($B119,#REF!,6,FALSE)","v":{"$error":"#REF!"}},"-",{"$error":"#REF!"},null,{"$f":"VLOOKUP($B119,#REF!,13,FALSE)","v":{"$error":"#REF!"}},{"$f":"VLOOKUP($B119,#REF!,10,FALSE)","v":{"$error":"#REF!"}},{"$f":"VLOOKUP($B119,#REF!,17,FALSE)","v":{"$error":"#REF!"}},{"$f":"IFERROR(VLOOKUP($B119,#REF!,2,FALSE),\"-\")","v":"-"}]
[null,117,{"$f":"VLOOKUP($B120,#REF!,2,FALSE)","v":{"$error":"#REF!"}},{"$f":"VLOOKUP($B120,#REF!,3,FALSE)","v":{"$error":"#REF!"}},{"$f":"VLOOKUP($B120,#REF!,5,FALSE)","v":{"$error":"#REF!"}},{"$f":"VLOOKUP($B120,#REF!,6,FALSE)","v":{"$error":"#REF!"}},"-",{"$error":"#REF!"},null,{"$f":"VLOOKUP($B120,#REF!,13,FALSE)","v":{"$error":"#REF!"}},{"$f":"VLOOKUP($B120,#REF!,10,FALSE)","v":{"$error":"#REF!"}},{"$f":"VLOOKUP($B120,#REF!,17,FALSE)","v":{"$error":"#REF!"}},{"$f":"IFERROR(VLOOKUP($B120,#REF!,2,FALSE),\"-\")","v":"-"}]
[null,118,{"$f":"VLOOKUP($B121,#REF!,2,FALSE)","v":{"$error":"#REF!"}},{"$f":"VLOOKUP($B121,#REF!,3,FALSE)","v":{"$error":"#REF!"}},{"$f":"VLOOKUP($B121,#REF!,5,FALSE)","v":{"$error":"#REF!"}},{"$f":"VLOOKUP($B121,#REF!,6,FALSE)","v":{"$error":"#REF!"}},"-",{"$error":"#REF!"},null,{"$f":"VLOOKUP($B121,#REF!,13,FALSE)","v":{"$error":"#REF!"}},{"$f":"VLOOKUP($B121,#REF!,10,FALSE)","v":{"$error":"#REF!"}},{"$f":"VLOOKUP($B121,#REF!,17,FALSE)","v":{"$error":"#REF!"}},{"$f":"IFERROR(VLOOKUP($B121,#REF!,2,FALSE),\"-\")","v":"-"}]
[null,119,{"$f":"VLOOKUP($B122,#REF!,2,FALSE)","v":{"$error":"#REF!"}},{"$f":"VLOOKUP($B122,#REF!,3,FALSE)","v":{"$error":"#REF!"}},{"$f":"VLOOKUP($B122,#REF!,5,FALSE)","v":{"$error":"#REF!"}},{"$f":"VLOOKUP($B122,#REF!,6,FALSE)","v":{"$error":"#REF!"}},"-",{"$error":"#REF!"},null,{"$f":"VLOOKUP($B122,#REF!,13,FALSE)","v":{"$error":"#REF!"}},{"$f":"VLOOKUP($B122,#REF!,10,FALSE)","v":{"$error":"#REF!"}},{"$f":"VLOOKUP($B122,#REF!,17,FALSE)","v":{"$error":"#REF!"}},{"$f":"IFERROR(VLOOKUP($B122,#REF!,2,FALSE),\"-\")","v":"-"}]
[null,120,{"$f":"VLOOKUP($B123,#REF!,2,FALSE)","v":{"$error":"#REF!"}},{"$f":"VLOOKUP($B123,#REF!,3,FALSE)","v":{"$error":"#REF!"}},{"$f":"VLOOKUP($B123,#REF!,5,FALSE)","v":{"$error":"#REF!"}},{"$f":"VLOOKUP($B123,#REF!,6,FALSE)","v":{"$error":"#REF!"}},"-",{"$error":"#REF!"},null,{"$f":"VLOOKUP($B123,#REF!,13,FALSE)","v":{"$error":"#REF!"}},{"$f":"VLOOKUP($B123,#REF!,10,FALSE)","v":{"$error":"#REF!"}},{"$f":"VLOOKUP($B123,#REF!,17,FALSE)","v":{"$error":"#REF!"}},{"$f":"IFERROR(VLOOKUP($B123,#REF!,2,FALSE),\"-\")","v":"-"}]
[null,121,{"$f":"VLOOKUP($B124,#REF!,2,FALSE)","v":{"$error":"#REF!"}},{"$f":"VLOOKUP($B124,#REF!,3,FALSE)","v":{"$error":"#REF!"}},{"$f":"VLOOKUP($B124,#REF!,5,FALSE)","v":{"$error":"#REF!"}},{"$f":"VLOOKUP($B124,#REF!,6,FALSE)","v":{"$error":"#REF!"}},"-",{"$error":"#REF!"},null,{"$f":"VLOOKUP($B124,#REF!,13,FALSE)","v":{"$error":"#REF!"}},{"$f":"VLOOKUP($B124,#REF!,10,FALSE)","v":{"$error":"#REF!"}},{"$f":"VLOOKUP($B124,#REF!,17,FALSE)","v":{"$error":"#REF!"}},{"$f":"IFERROR(VLOOKUP($B124,#REF!,2,FALSE),\"-\")","v":"-"}]
[null,122,{"$f":"VLOOKUP($B125,#REF!,2,FALSE)","v":{"$error":"#REF!"}},{"$f":"VLOOKUP($B125,#REF!,3,FALSE)","v":{"$error":"#REF!"}},{"$f":"VLOOKUP($B125,#REF!,5,FALSE)","v":{"$error":"#REF!"}},{"$f":"VLOOKUP($B125,#REF!,6,FALSE)","v":{"$error":"#REF!"}},"-",{"$error":"#REF!"},null,{"$f":"VLOOKUP($B125,#REF!,13,FALSE)","v":{"$error":"#REF!"}},{"$f":"VLOOKUP($B125,#REF!,10,FALSE)","v":{"$error":"#REF!"}},{"$f":"VLOOKUP($B125,#REF!,17,FALSE)","v":{"$error":"#REF!"}},{"$f":"IFERROR(VLOOKUP($B125,#REF!,2,FALSE),\"-\")","v":"-"}]
[null,123,{"$f":"VLOOKUP($B126,#REF!,2,FALSE)","v":{"$error":"#REF!"}},{"$f":"VLOOKUP($B126,#REF!,3,FALSE)","v":{"$error":"#REF!"}},{"$f":"VLOOKUP($B126,#REF!,5,FALSE)","v":{"$error":"#REF!"}},{"$f":"VLOOKUP($B126,#REF!,6,FALSE)","v":{"$error":"#REF!"}},"-",{"$error":"#REF!"},null,{"$f":"VLOOKUP($B126,#REF!,13,FALSE)","v":{"$error":"#REF!"}},{"$f":"VLOOKUP($B126,#REF!,10,FALSE)","v":{"$error":"#REF!"}},{"$f":"VLOOKUP($B126,#REF!,17,FALSE)","v":{"$error":"#REF!"}},{"$f":"IFERROR(VLOOKUP($B126,#REF!,2,FALSE),\"-\")","v":"-"}]
[null,124,{"$f":"VLOOKUP($B127,#REF!,2,FALSE)","v":{"$error":"#REF!"}},{"$f":"VLOOKUP($B127,#REF!,3,FALSE)","v":{"$error":"#REF!"}},{"$f":"VLOOKUP($B127,#REF!,5,FALSE)","v":{"$error":"#REF!"}},{"$f":"VLOOKUP($B127,#REF!,6,FALSE)","v":{"$error":"#REF!"}},"-",{"$error":"#REF!"},null,{"$f":"VLOOKUP($B127,#REF!,13,FALSE)","v":{"$error":"#REF!"}},{"$f":"VLOOKUP($B127,#REF!,10,FALSE)","v":{"$error":"#REF!"}},{"$f":"VLOOKUP($B127,#REF!,17,FALSE)","v":{"$error":"#REF!"}},{"$f":"IFERROR(VLOOKUP($B127,#REF!,2,FALSE),\"-\")","v":"-"}]
[null,125,{"$f":"VLOOKUP($B128,#REF!,2,FALSE)","v":{"$error":"#REF!"}},{"$f":"VLOOKUP($B128,#REF!,3,FALSE)","v":{"$error":"#REF!"}},{"$f":"VLOOKUP($B128,#REF!,5,FALSE)","v":{"$error":"#REF!"}},{"$f":"VLOOKUP($B128,#REF!,6,FALSE)","v":{"$error":"#REF!"}},"-",{"$error":"#REF!"},null,{"$f":"VLOOKUP($B128,#REF!,13,FALSE)","v":{"$error":"#REF!"}},{"$f":"VLOOKUP($B128,#REF!,10,FALSE)","v":{"$error":"#REF!"}},{"$f":"VLOOKUP($B128,#REF!,17,FALSE)","v":{"$error":"#REF!"}},{"$f":"IFERROR(VLOOKUP($B128,#REF!,2,FALSE),\"-\")","v":"-"}]
[null,126,{"$f":"VLOOKUP($B129,#REF!,2,FALSE)","v":{"$error":"#REF!"}},{"$f":"VLOOKUP($B129,#REF!,3,FALSE)","v":{"$error":"#REF!"}},{"$f":"VLOOKUP($B129,#REF!,5,FALSE)","v":{"$error":"#REF!"}},{"$f":"VLOOKUP($B129,#REF!,6,FALSE)","v":{"$error":"#REF!"}},"-",{"$error":"#REF!"},null,{"$f":"VLOOKUP($B129,#REF!,13,FALSE)","v":{"$error":"#REF!"}},{"$f":"VLOOKUP($B129,#REF!,10,FALSE)","v":{"$error":"#REF!"}},{"$f":"VLOOKUP($B129,#REF!,17,FALSE)","v":{"$error":"#REF!"}},{"$f":"IFERROR(VLOOKUP($B129,#REF!,2,FALSE),\"-\")","v":"-"}]
[null,127,{"$f":"VLOOKUP($B130,#REF!,2,FALSE)","v":{"$error":"#REF!"}},{"$f":"VLOOKUP($B130,#REF!,3,FALSE)","v":{"$error":"#REF!"}},{"$f":"VLOOKUP($B130,#REF!,5,FALSE)","v":{"$error":"#REF!"}},{"$f":"VLOOKUP($B130,#REF!,6,FALSE)","v":{"$error":"#REF!"}},"-",{"$error":"#REF!"},null,{"$f":"VLOOKUP($B130,#REF!,13,FALSE)","v":{"$error":"#REF!"}},{"$f":"VLOOKUP($B130,#REF!,10,FALSE)","v":{"$error":"#REF!"}},{"$f":"VLOOKUP($B130,#REF!,17,FALSE)","v":{"$error":"#REF!"}},{"$f":"IFERROR(VLOOKUP($B130,#REF!,2,FALSE),\"-\")","v":"-"}]
[null,128,{"$f":"VLOOKUP($B131,#REF!,2,FALSE)","v":{"$error":"#REF!"}},{"$f":"VLOOKUP($B131,#REF!,3,FALSE)","v":{"$error":"#REF!"}},{"$f":"VLOOKUP($B131,#REF!,5,FALSE)","v":{"$error":"#REF!"}},{"$f":"VLOOKUP($B131,#REF!,6,FALSE)","v":{"$error":"#REF!"}},"-",{"$error":"#REF!"},null,{"$f":"VLOOKUP($B131,#REF!,13,FALSE)","v":{"$error":"#REF!"}},{"$f":"VLOOKUP($B131,#REF!,10,FALSE)","v":{"$error":"#REF!"}},{"$f":"VLOOKUP($B131,#REF!,17,FALSE)","v":{"$error":"#REF!"}},{"$f":"IFERROR(VLOOKUP($B131,#REF!,2,FALSE),\"-\")","v":"-"}]
[null,129,{"$f":"VLOOKUP($B132,#REF!,2,FALSE)","v":{"$error":"#REF!"}},{"$f":"VLOOKUP($B132,#REF!,3,FALSE)","v":{"$error":"#REF!"}},{"$f":"VLOOKUP($B132,#REF!,5,FALSE)","v":{"$error":"#REF!"}},{"$f":"VLOOKUP($B132,#REF!,6,FALSE)","v":{"$error":"#REF!"}},{"$f":"IF(M132=1,\"欠席\",IF(M132=9,\"空ﾚｰﾝ\",\"-\"))","v":"-"},{"$error":"#REF!"},null,{"$f":"VLOOKUP($B132,#REF!,13,FALSE)","v":{"$error":"#REF!"}},{"$f":"VLOOKUP($B132,#REF!,10,FALSE)","v":{"$error":"#REF!"}},{"$f":"VLOOKUP($B132,#REF!,17,FALSE)","v":{"$error":"#REF!"}},{"$f":"IFERROR(VLOOKUP($B132,#REF!,2,FALSE),\"-\")","v":"-"}]
[null,130,{"$f":"VLOOKUP($B133,#REF!,2,FALSE)","v":{"$error":"#REF!"}},{"$f":"VLOOKUP($B133,#REF!,3,FALSE)","v":{"$error":"#REF!"}},{"$f":"VLOOKUP($B133,#REF!,5,FALSE)","v":{"$error":"#REF!"}},{"$f":"VLOOKUP($B133,#REF!,6,FALSE)","v":{"$error":"#REF!"}},"-",{"$f":"+C133","v":{"$error":"#REF!"}},null,{"$f":"VLOOKUP($B133,#REF!,13,FALSE)","v":{"$error":"#REF!"}},{"$f":"VLOOKUP($B133,#REF!,10,FALSE)","v":{"$error":"#REF!"}},{"$f":"VLOOKUP($B133,#REF!,17,FALSE)","v":{"$error":"#REF!"}},{"$f":"IFERROR(VLOOKUP($B133,#REF!,2,FALSE),\"-\")","v":"-"}]
[null,131,{"$f":"VLOOKUP($B134,#REF!,2,FALSE)","v":{"$error":"#REF!"}},{"$f":"VLOOKUP($B134,#REF!,3,FALSE)","v":{"$error":"#REF!"}},{"$f":"VLOOKUP($B134,#REF!,5,FALSE)","v":{"$error":"#REF!"}},{"$f":"VLOOKUP($B134,#REF!,6,FALSE)","v":{"$error":"#REF!"}},"-",{"$error":"#REF!"},null,{"$f":"VLOOKUP($B134,#REF!,13,FALSE)","v":{"$error":"#REF!"}},{"$f":"VLOOKUP($B134,#REF!,10,FALSE)","v":{"$error":"#REF!"}},{"$f":"VLOOKUP($B134,#REF!,17,FALSE)","v":{"$error":"#REF!"}},{"$f":"IFERROR(VLOOKUP($B134,#REF!,2,FALSE),\"-\")","v":"-"}]
[null,132,{"$f":"VLOOKUP($B135,#REF!,2,FALSE)","v":{"$error":"#REF!"}},{"$f":"VLOOKUP($B135,#REF!,3,FALSE)","v":{"$error":"#REF!"}},{"$f":"VLOOKUP($B135,#REF!,5,FALSE)","v":{"$error":"#REF!"}},{"$f":"VLOOKUP($B135,#REF!,6,FALSE)","v":{"$error":"#REF!"}},"-",{"$error":"#REF!"},null,{"$f":"VLOOKUP($B135,#REF!,13,FALSE)","v":{"$error":"#REF!"}},{"$f":"VLOOKUP($B135,#REF!,10,FALSE)","v":{"$error":"#REF!"}},{"$f":"VLOOKUP($B135,#REF!,17,FALSE)","v":{"$error":"#REF!"}},{"$f":"IFERROR(VLOOKUP($B135,#REF!,2,FALSE),\"-\")","v":"-"}]
[null,133,{"$f":"VLOOKUP($B136,#REF!,2,FALSE)","v":{"$error":"#REF!"}},{"$f":"VLOOKUP($B136,#REF!,3,FALSE)","v":{"$error":"#REF!"}},{"$f":"VLOOKUP($B136,#REF!,5,FALSE)","v":{"$error":"#REF!"}},{"$f":"VLOOKUP($B136,#REF!,6,FALSE)","v":{"$error":"#REF!"}},"-",{"$error":"#REF!"},null,{"$f":"VLOOKUP($B136,#REF!,13,FALSE)","v":{"$error":"#REF!"}},{"$f":"VLOOKUP($B136,#REF!,10,FALSE)","v":{"$error":"#REF!"}},{"$f":"VLOOKUP($B136,#REF!,17,FALSE)","v":{"$error":"#REF!"}},{"$f":"IFERROR(VLOOKUP($B136,#REF!,2,FALSE),\"-\")","v":"-"}]
[null,134,{"$f":"VLOOKUP($B137,#REF!,2,FALSE)","v":{"$error":"#REF!"}},{"$f":"VLOOKUP($B137,#REF!,3,FALSE)","v":{"$error":"#REF!"}},{"$f":"VLOOKUP($B137,#REF!,5,FALSE)","v":{"$error":"#REF!"}},{"$f":"VLOOKUP($B137,#REF!,6,FALSE)","v":{"$error":"#REF!"}},"-",{"$error":"#REF!"},null,{"$f":"VLOOKUP($B137,#REF!,13,FALSE)","v":{"$error":"#REF!"}},{"$f":"VLOOKUP($B137,#REF!,10,FALSE)","v":{"$error":"#REF!"}},{"$f":"VLOOKUP($B137,#REF!,17,FALSE)","v":{"$error":"#REF!"}},{"$f":"IFERROR(VLOOKUP($B137,#REF!,2,FALSE),\"-\")","v":"-"}]
[null,135,{"$f":"VLOOKUP($B138,#REF!,2,FALSE)","v":{"$error":"#REF!"}},{"$f":"VLOOKUP($B138,#REF!,3,FALSE)","v":{"$error":"#REF!"}},{"$f":"VLOOKUP($B138,#REF!,5,FALSE)","v":{"$error":"#REF!"}},{"$f":"VLOOKUP($B138,#REF!,6,FALSE)","v":{"$error":"#REF!"}},"-",{"$error":"#REF!"},null,{"$f":"VLOOKUP($B138,#REF!,13,FALSE)","v":{"$error":"#REF!"}},{"$f":"VLOOKUP($B138,#REF!,10,FALSE)","v":{"$error":"#REF!"}},{"$f":"VLOOKUP($B138,#REF!,17,FALSE)","v":{"$error":"#REF!"}},{"$f":"IFERROR(VLOOKUP($B138,#REF!,2,FALSE),\"-\")","v":"-"}]
[null,136,{"$f":"VLOOKUP($B139,#REF!,2,FALSE)","v":{"$error":"#REF!"}},{"$f":"VLOOKUP($B139,#REF!,3,FALSE)","v":{"$error":"#REF!"}},{"$f":"VLOOKUP($B139,#REF!,5,FALSE)","v":{"$error":"#REF!"}},{"$f":"VLOOKUP($B139,#REF!,6,FALSE)","v":{"$error":"#REF!"}},"-",{"$error":"#REF!"},null,{"$f":"VLOOKUP($B139,#REF!,13,FALSE)","v":{"$error":"#REF!"}},{"$f":"VLOOKUP($B139,#REF!,10,FALSE)","v":{"$error":"#REF!"}},{"$f":"VLOOKUP($B139,#REF!,17,FALSE)","v":{"$error":"#REF!"}},{"$f":"IFERROR(VLOOKUP($B139,#REF!,2,FALSE),\"-\")","v":"-"}]
[null,137,{"$f":"VLOOKUP($B140,#REF!,2,FALSE)","v":{"$error":"#REF!"}},{"$f":"VLOOKUP($B140,#REF!,3,FALSE)","v":{"$error":"#REF!"}},{"$f":"VLOOKUP($B140,#REF!,5,FALSE)","v":{"$error":"#REF!"}},{"$f":"VLOOKUP($B140,#REF!,6,FALSE)","v":{"$error":"#REF!"}},"-",{"$error":"#REF!"},null,{"$f":"VLOOKUP($B140,#REF!,13,FALSE)","v":{"$error":"#REF!"}},{"$f":"VLOOKUP($B140,#REF!,10,FALSE)","v":{"$error":"#REF!"}},{"$f":"VLOOKUP($B140,#REF!,17,FALSE)","v":{"$error":"#REF!"}},{"$f":"IFERROR(VLOOKUP($B140,#REF!,2,FALSE),\"-\")","v":"-"}]
[null,138,{"$f":"VLOOKUP($B141,#REF!,2,FALSE)","v":{"$error":"#REF!"}},{"$f":"VLOOKUP($B141,#REF!,3,FALSE)","v":{"$error":"#REF!"}},{"$f":"VLOOKUP($B141,#REF!,5,FALSE)","v":{"$error":"#REF!"}},{"$f":"VLOOKUP($B141,#REF!,6,FALSE)","v":{"$error":"#REF!"}},"-",{"$error":"#REF!"},null,{"$f":"VLOOKUP($B141,#REF!,13,FALSE)","v":{"$error":"#REF!"}},{"$f":"VLOOKUP($B141,#REF!,10,FALSE)","v":{"$error":"#REF!"}},{"$f":"VLOOKUP($B141,#REF!,17,FALSE)","v":{"$error":"#REF!"}},{"$f":"IFERROR(VLOOKUP($B141,#REF!,2,FALSE),\"-\")","v":"-"}]
[null,139,{"$f":"VLOOKUP($B142,#REF!,2,FALSE)","v":{"$error":"#REF!"}},{"$f":"VLOOKUP($B142,#REF!,3,FALSE)","v":{"$error":"#REF!"}},{"$f":"VLOOKUP($B142,#REF!,5,FALSE)","v":{"$error":"#REF!"}},{"$f":"VLOOKUP($B142,#REF!,6,FALSE)","v":{"$error":"#REF!"}},"-",{"$error":"#REF!"},null,{"$f":"VLOOKUP($B142,#REF!,13,FALSE)","v":{"$error":"#REF!"}},{"$f":"VLOOKUP($B142,#REF!,10,FALSE)","v":{"$error":"#REF!"}},{"$f":"VLOOKUP($B142,#REF!,17,FALSE)","v":{"$error":"#REF!"}},{"$f":"IFERROR(VLOOKUP($B142,#REF!,2,FALSE),\"-\")","v":"-"}]
[null,140,{"$f":"VLOOKUP($B143,#REF!,2,FALSE)","v":{"$error":"#REF!"}},{"$f":"VLOOKUP($B143,#REF!,3,FALSE)","v":{"$error":"#REF!"}},{"$f":"VLOOKUP($B143,#REF!,5,FALSE)","v":{"$error":"#REF!"}},{"$f":"VLOOKUP($B143,#REF!,6,FALSE)","v":{"$error":"#REF!"}},"-",{"$error":"#REF!"},null,{"$f":"VLOOKUP($B143,#REF!,13,FALSE)","v":{"$error":"#REF!"}},{"$f":"VLOOKUP($B143,#REF!,10,FALSE)","v":{"$error":"#REF!"}},{"$f":"VLOOKUP($B143,#REF!,17,FALSE)","v":{"$error":"#REF!"}},{"$f":"IFERROR(VLOOKUP($B143,#REF!,2,FALSE),\"-\")","v":"-"}]
[null,141,{"$f":"VLOOKUP($B144,#REF!,2,FALSE)","v":{"$error":"#REF!"}},{"$f":"VLOOKUP($B144,#REF!,3,FALSE)","v":{"$error":"#REF!"}},{"$f":"VLOOKUP($B144,#REF!,5,FALSE)","v":{"$error":"#REF!"}},{"$f":"VLOOKUP($B144,#REF!,6,FALSE)","v":{"$error":"#REF!"}},"-",{"$error":"#REF!"},null,{"$f":"VLOOKUP($B144,#REF!,13,FALSE)","v":{"$error":"#REF!"}},{"$f":"VLOOKUP($B144,#REF!,10,FALSE)","v":{"$error":"#REF!"}},{"$f":"VLOOKUP($B144,#REF!,17,FALSE)","v":{"$error":"#REF!"}},{"$f":"IFERROR(VLOOKUP($B144,#REF!,2,FALSE),\"-\")","v":"-"}]
[null,142,{"$f":"VLOOKUP($B145,#REF!,2,FALSE)","v":{"$error":"#REF!"}},{"$f":"VLOOKUP($B145,#REF!,3,FALSE)","v":{"$error":"#REF!"}},{"$f":"VLOOKUP($B145,#REF!,5,FALSE)","v":{"$error":"#REF!"}},{"$f":"VLOOKUP($B145,#REF!,6,FALSE)","v":{"$error":"#REF!"}},"-",{"$error":"#REF!"},null,{"$f":"VLOOKUP($B145,#REF!,13,FALSE)","v":{"$error":"#REF!"}},{"$f":"VLOOKUP($B145,#REF!,10,FALSE)","v":{"$error":"#REF!"}},{"$f":"VLOOKUP($B145,#REF!,17,FALSE)","v":{"$error":"#REF!"}},{"$f":"IFERROR(VLOOKUP($B145,#REF!,2,FALSE),\"-\")","v":"-"}]
[null,143,{"$f":"VLOOKUP($B146,#REF!,2,FALSE)","v":{"$error":"#REF!"}},{"$f":"VLOOKUP($B146,#REF!,3,FALSE)","v":{"$error":"#REF!"}},{"$f":"VLOOKUP($B146,#REF!,5,FALSE)","v":{"$error":"#REF!"}},{"$f":"VLOOKUP($B146,#REF!,6,FALSE)","v":{"$error":"#REF!"}},"-",{"$error":"#REF!"},null,{"$f":"VLOOKUP($B146,#REF!,13,FALSE)","v":{"$error":"#REF!"}},{"$f":"VLOOKUP($B146,#REF!,10,FALSE)","v":{"$error":"#REF!"}},{"$f":"VLOOKUP($B146,#REF!,17,FALSE)","v":{"$error":"#REF!"}},{"$f":"IFERROR(VLOOKUP($B146,#REF!,2,FALSE),\"-\")","v":"-"}]
[null,144,{"$f":"VLOOKUP($B147,#REF!,2,FALSE)","v":{"$error":"#REF!"}},{"$f":"VLOOKUP($B147,#REF!,3,FALSE)","v":{"$error":"#REF!"}},{"$f":"VLOOKUP($B147,#REF!,5,FALSE)","v":{"$error":"#REF!"}},{"$f":"VLOOKUP($B147,#REF!,6,FALSE)","v":{"$error":"#REF!"}},"-",{"$error":"#REF!"},null,{"$f":"VLOOKUP($B147,#REF!,13,FALSE)","v":{"$error":"#REF!"}},{"$f":"VLOOKUP($B147,#REF!,10,FALSE)","v":{"$error":"#REF!"}},{"$f":"VLOOKUP($B147,#REF!,17,FALSE)","v":{"$error":"#REF!"}},{"$f":"IFERROR(VLOOKUP($B147,#REF!,2,FALSE),\"-\")","v":"-"}]
[null,145,{"$f":"VLOOKUP($B148,#REF!,2,FALSE)","v":{"$error":"#REF!"}},{"$f":"VLOOKUP($B148,#REF!,3,FALSE)","v":{"$error":"#REF!"}},{"$f":"VLOOKUP($B148,#REF!,5,FALSE)","v":{"$error":"#REF!"}},{"$f":"VLOOKUP($B148,#REF!,6,FALSE)","v":{"$error":"#REF!"}},"-",{"$error":"#REF!"},null,{"$f":"VLOOKUP($B148,#REF!,13,FALSE)","v":{"$error":"#REF!"}},{"$f":"VLOOKUP($B148,#REF!,10,FALSE)","v":{"$error":"#REF!"}},{"$f":"VLOOKUP($B148,#REF!,17,FALSE)","v":{"$error":"#REF!"}},{"$f":"IFERROR(VLOOKUP($B148,#REF!,2,FALSE),\"-\")","v":"-"}]
[null,146,{"$f":"VLOOKUP($B149,#REF!,2,FALSE)","v":{"$error":"#REF!"}},{"$f":"VLOOKUP($B149,#REF!,3,FALSE)","v":{"$error":"#REF!"}},{"$f":"VLOOKUP($B149,#REF!,5,FALSE)","v":{"$error":"#REF!"}},{"$f":"VLOOKUP($B149,#REF!,6,FALSE)","v":{"$error":"#REF!"}},"-",{"$error":"#REF!"},null,{"$f":"VLOOKUP($B149,#REF!,13,FALSE)","v":{"$error":"#REF!"}},{"$f":"VLOOKUP($B149,#REF!,10,FALSE)","v":{"$error":"#REF!"}},{"$f":"VLOOKUP($B149,#REF!,17,FALSE)","v":{"$error":"#REF!"}},{"$f":"IFERROR(VLOOKUP($B149,#REF!,2,FALSE),\"-\")","v":"-"}]
[null,147,{"$f":"VLOOKUP($B150,#REF!,2,FALSE)","v":{"$error":"#REF!"}},{"$f":"VLOOKUP($B150,#REF!,3,FALSE)","v":{"$error":"#REF!"}},{"$f":"VLOOKUP($B150,#REF!,5,FALSE)","v":{"$error":"#REF!"}},{"$f":"VLOOKUP($B150,#REF!,6,FALSE)","v":{"$error":"#REF!"}},"-",{"$error":"#REF!"},null,{"$f":"VLOOKUP($B150,#REF!,13,FALSE)","v":{"$error":"#REF!"}},{"$f":"VLOOKUP($B150,#REF!,10,FALSE)","v":{"$error":"#REF!"}},{"$f":"VLOOKUP($B150,#REF!,17,FALSE)","v":{"$error":"#REF!"}},{"$f":"IFERROR(VLOOKUP($B150,#REF!,2,FALSE),\"-\")","v":"-"}]
[null,148,{"$f":"VLOOKUP($B151,#REF!,2,FALSE)","v":{"$error":"#REF!"}},{"$f":"VLOOKUP($B151,#REF!,3,FALSE)","v":{"$error":"#REF!"}},{"$f":"VLOOKUP($B151,#REF!,5,FALSE)","v":{"$error":"#REF!"}},{"$f":"VLOOKUP($B151,#REF!,6,FALSE)","v":{"$error":"#REF!"}},"-",{"$error":"#REF!"},null,{"$f":"VLOOKUP($B151,#REF!,13,FALSE)","v":{"$error":"#REF!"}},{"$f":"VLOOKUP($B151,#REF!,10,FALSE)","v":{"$error":"#REF!"}},{"$f":"VLOOKUP($B151,#REF!,17,FALSE)","v":{"$error":"#REF!"}},{"$f":"IFERROR(VLOOKUP($B151,#REF!,2,FALSE),\"-\")","v":"-"}]
[null,149,{"$f":"VLOOKUP($B152,#REF!,2,FALSE)","v":{"$error":"#REF!"}},{"$f":"VLOOKUP($B152,#REF!,3,FALSE)","v":{"$error":"#REF!"}},{"$f":"VLOOKUP($B152,#REF!,5,FALSE)","v":{"$error":"#REF!"}},{"$f":"VLOOKUP($B152,#REF!,6,FALSE)","v":{"$error":"#REF!"}},"-",{"$error":"#REF!"},null,{"$f":"VLOOKUP($B152,#REF!,13,FALSE)","v":{"$error":"#REF!"}},{"$f":"VLOOKUP($B152,#REF!,10,FALSE)","v":{"$error":"#REF!"}},{"$f":"VLOOKUP($B152,#REF!,17,FALSE)","v":{"$error":"#REF!"}},{"$f":"IFERROR(VLOOKUP($B152,#REF!,2,FALSE),\"-\")","v":"-"}]
[null,150,{"$f":"VLOOKUP($B153,#REF!,2,FALSE)","v":{"$error":"#REF!"}},{"$f":"VLOOKUP($B153,#REF!,3,FALSE)","v":{"$error":"#REF!"}},{"$f":"VLOOKUP($B153,#REF!,5,FALSE)","v":{"$error":"#REF!"}},{"$f":"VLOOKUP($B153,#REF!,6,FALSE)","v":{"$error":"#REF!"}},"-",{"$error":"#REF!"},null,{"$f":"VLOOKUP($B153,#REF!,13,FALSE)","v":{"$error":"#REF!"}},{"$f":"VLOOKUP($B153,#REF!,10,FALSE)","v":{"$error":"#REF!"}},{"$f":"VLOOKUP($B153,#REF!,17,FALSE)","v":{"$error":"#REF!"}},{"$f":"IFERROR(VLOOKUP($B153,#REF!,2,FALSE),\"-\")","v":"-"}]
[null,151,{"$f":"VLOOKUP($B154,#REF!,2,FALSE)","v":{"$error":"#REF!"}},{"$f":"VLOOKUP($B154,#REF!,3,FALSE)","v":{"$error":"#REF!"}},{"$f":"VLOOKUP($B154,#REF!,5,FALSE)","v":{"$error":"#REF!"}},{"$f":"VLOOKUP($B154,#REF!,6,FALSE)","v":{"$error":"#REF!"}},"-",{"$error":"#REF!"},null,{"$f":"VLOOKUP($B154,#REF!,13,FALSE)","v":{"$error":"#REF!"}},{"$f":"VLOOKUP($B154,#REF!,10,FALSE)","v":{"$error":"#REF!"}},{"$f":"VLOOKUP($B154,#REF!,17,FALSE)","v":{"$error":"#REF!"}},{"$f":"IFERROR(VLOOKUP($B154,#REF!,2,FALSE),\"-\")","v":"-"}]
[null,152,{"$f":"VLOOKUP($B155,#REF!,2,FALSE)","v":{"$error":"#REF!"}},{"$f":"VLOOKUP($B155,#REF!,3,FALSE)","v":{"$error":"#REF!"}},{"$f":"VLOOKUP($B155,#REF!,5,FALSE)","v":{"$error":"#REF!"}},{"$f":"VLOOKUP($B155,#REF!,6,FALSE)","v":{"$error":"#REF!"}},"-",{"$error":"#REF!"},null,{"$f":"VLOOKUP($B155,#REF!,13,FALSE)","v":{"$error":"#REF!"}},{"$f":"VLOOKUP($B155,#REF!,10,FALSE)","v":{"$error":"#REF!"}},{"$f":"VLOOKUP($B155,#REF!,17,FALSE)","v":{"$error":"#REF!"}},{"$f":"IFERROR(VLOOKUP($B155,#REF!,2,FALSE),\"-\")","v":"-"}]
[null,153,{"$f":"VLOOKUP($B156,#REF!,2,FALSE)","v":{"$error":"#REF!"}},{"$f":"VLOOKUP($B156,#REF!,3,FALSE)","v":{"$error":"#REF!"}},{"$f":"VLOOKUP($B156,#REF!,5,FALSE)","v":{"$error":"#REF!"}},{"$f":"VLOOKUP($B156,#REF!,6,FALSE)","v":{"$error":"#REF!"}},"-",{"$error":"#REF!"},null,{"$f":"VLOOKUP($B156,#REF!,13,FALSE)","v":{"$error":"#REF!"}},{"$f":"VLOOKUP($B156,#REF!,10,FALSE)","v":{"$error":"#REF!"}},{"$f":"VLOOKUP($B156,#REF!,17,FALSE)","v":{"$error":"#REF!"}},{"$f":"IFERROR(VLOOKUP($B156,#REF!,2,FALSE),\"-\")","v":"-"}]
[null,154,{"$f":"VLOOKUP($B157,#REF!,2,FALSE)","v":{"$error":"#REF!"}},{"$f":"VLOOKUP($B157,#REF!,3,FALSE)","v":{"$error":"#REF!"}},{"$f":"VLOOKUP($B157,#REF!,5,FALSE)","v":{"$error":"#REF!"}},{"$f":"VLOOKUP($B157,#REF!,6,FALSE)","v":{"$error":"#REF!"}},"-",{"$error":"#REF!"},null,{"$f":"VLOOKUP($B157,#REF!,13,FALSE)","v":{"$error":"#REF!"}},{"$f":"VLOOKUP($B157,#REF!,10,FALSE)","v":{"$error":"#REF!"}},{"$f":"VLOOKUP($B157,#REF!,17,FALSE)","v":{"$error":"#REF!"}},{"$f":"IFERROR(VLOOKUP($B157,#REF!,2,FALSE),\"-\")","v":"-"}]
[null,155,{"$f":"VLOOKUP($B158,#REF!,2,FALSE)","v":{"$error":"#REF!"}},{"$f":"VLOOKUP($B158,#REF!,3,FALSE)","v":{"$error":"#REF!"}},{"$f":"VLOOKUP($B158,#REF!,5,FALSE)","v":{"$error":"#REF!"}},{"$f":"VLOOKUP($B158,#REF!,6,FALSE)","v":{"$error":"#REF!"}},"-",{"$error":"#REF!"},null,{"$f":"VLOOKUP($B158,#REF!,13,FALSE)","v":{"$error":"#REF!"}},{"$f":"VLOOKUP($B158,#REF!,10,FALSE)","v":{"$error":"#REF!"}},{"$f":"VLOOKUP($B158,#REF!,17,FALSE)","v":{"$error":"#REF!"}},{"$f":"IFERROR(VLOOKUP($B158,#REF!,2,FALSE),\"-\")","v":"-"}]
[null,156,{"$f":"VLOOKUP($B159,#REF!,2,FALSE)","v":{"$error":"#REF!"}},{"$f":"VLOOKUP($B159,#REF!,3,FALSE)","v":{"$error":"#REF!"}},{"$f":"VLOOKUP($B159,#REF!,5,FALSE)","v":{"$error":"#REF!"}},{"$f":"VLOOKUP($B159,#REF!,6,FALSE)","v":{"$error":"#REF!"}},"-",{"$error":"#REF!"},null,{"$f":"VLOOKUP($B159,#REF!,13,FALSE)","v":{"$error":"#REF!"}},{"$f":"VLOOKUP($B159,#REF!,10,FALSE)","v":{"$error":"#REF!"}},{"$f":"VLOOKUP($B159,#REF!,17,FALSE)","v":{"$error":"#REF!"}},{"$f":"IFERROR(VLOOKUP($B159,#REF!,2,FALSE),\"-\")","v":"-"}]
[null,157,{"$f":"VLOOKUP($B160,#REF!,2,FALSE)","v":{"$error":"#REF!"}},{"$f":"VLOOKUP($B160,#REF!,3,FALSE)","v":{"$error":"#REF!"}},{"$f":"VLOOKUP($B160,#REF!,5,FALSE)","v":{"$error":"#REF!"}},{"$f":"VLOOKUP($B160,#REF!,6,FALSE)","v":{"$error":"#REF!"}},"-",{"$error":"#REF!"},null,{"$f":"VLOOKUP($B160,#REF!,13,FALSE)","v":{"$error":"#REF!"}},{"$f":"VLOOKUP($B160,#REF!,10,FALSE)","v":{"$error":"#REF!"}},{"$f":"VLOOKUP($B160,#REF!,17,FALSE)","v":{"$error":"#REF!"}},{"$f":"IFERROR(VLOOKUP($B160,#REF!,2,FALSE),\"-\")","v":"-"}]
[null,158,{"$f":"VLOOKUP($B161,#REF!,2,FALSE)","v":{"$error":"#REF!"}},{"$f":"VLOOKUP($B161,#REF!,3,FALSE)","v":{"$error":"#REF!"}},{"$f":"VLOOKUP($B161,#REF!,5,FALSE)","v":{"$error":"#REF!"}},{"$f":"VLOOKUP($B161,#REF!,6,FALSE)","v":{"$error":"#REF!"}},"-",{"$error":"#REF!"},null,{"$f":"VLOOKUP($B161,#REF!,13,FALSE)","v":{"$error":"#REF!"}},{"$f":"VLOOKUP($B161,#REF!,10,FALSE)","v":{"$error":"#REF!"}},{"$f":"VLOOKUP($B161,#REF!,17,FALSE)","v":{"$error":"#REF!"}},{"$f":"IFERROR(VLOOKUP($B161,#REF!,2,FALSE),\"-\")","v":"-"}]
[null,159,{"$f":"VLOOKUP($B162,#REF!,2,FALSE)","v":{"$error":"#REF!"}},{"$f":"VLOOKUP($B162,#REF!,3,FALSE)","v":{"$error":"#REF!"}},{"$f":"VLOOKUP($B162,#REF!,5,FALSE)","v":{"$error":"#REF!"}},{"$f":"VLOOKUP($B162,#REF!,6,FALSE)","v":{"$error":"#REF!"}},"-",{"$error":"#REF!"},null,{"$f":"VLOOKUP($B162,#REF!,13,FALSE)","v":{"$error":"#REF!"}},{"$f":"VLOOKUP($B162,#REF!,10,FALSE)","v":{"$error":"#REF!"}},{"$f":"VLOOKUP($B162,#REF!,17,FALSE)","v":{"$error":"#REF!"}},{"$f":"IFERROR(VLOOKUP($B162,#REF!,2,FALSE),\"-\")","v":"-"}]
[null,160,{"$f":"VLOOKUP($B163,#REF!,2,FALSE)","v":{"$error":"#REF!"}},{"$f":"VLOOKUP($B163,#REF!,3,FALSE)","v":{"$error":"#REF!"}},{"$f":"VLOOKUP($B163,#REF!,5,FALSE)","v":{"$error":"#REF!"}},{"$f":"VLOOKUP($B163,#REF!,6,FALSE)","v":{"$error":"#REF!"}},"-",{"$error":"#REF!"},null,{"$f":"VLOOKUP($B163,#REF!,13,FALSE)","v":{"$error":"#REF!"}},{"$f":"VLOOKUP($B163,#REF!,10,FALSE)","v":{"$error":"#REF!"}},{"$f":"VLOOKUP($B163,#REF!,17,FALSE)","v":{"$error":"#REF!"}},{"$f":"IFERROR(VLOOKUP($B163,#REF!,2,FALSE),\"-\")","v":"-"}]
[null,161,{"$f":"VLOOKUP($B164,#REF!,2,FALSE)","v":{"$error":"#REF!"}},{"$f":"VLOOKUP($B164,#REF!,3,FALSE)","v":{"$error":"#REF!"}},{"$f":"VLOOKUP($B164,#REF!,5,FALSE)","v":{"$error":"#REF!"}},{"$f":"VLOOKUP($B164,#REF!,6,FALSE)","v":{"$error":"#REF!"}},"-",{"$error":"#REF!"},null,{"$f":"VLOOKUP($B164,#REF!,13,FALSE)","v":{"$error":"#REF!"}},{"$f":"VLOOKUP($B164,#REF!,10,FALSE)","v":{"$error":"#REF!"}},{"$f":"VLOOKUP($B164,#REF!,17,FALSE)","v":{"$error":"#REF!"}},{"$f":"IFERROR(VLOOKUP($B164,#REF!,2,FALSE),\"-\")","v":"-"}]
[null,162,{"$f":"VLOOKUP($B165,#REF!,2,FALSE)","v":{"$error":"#REF!"}},{"$f":"VLOOKUP($B165,#REF!,3,FALSE)","v":{"$error":"#REF!"}},{"$f":"VLOOKUP($B165,#REF!,5,FALSE)","v":{"$error":"#REF!"}},{"$f":"VLOOKUP($B165,#REF!,6,FALSE)","v":{"$error":"#REF!"}},"-",{"$error":"#REF!"},null,{"$f":"VLOOKUP($B165,#REF!,13,FALSE)","v":{"$error":"#REF!"}},{"$f":"VLOOKUP($B165,#REF!,10,FALSE)","v":{"$error":"#REF!"}},{"$f":"VLOOKUP($B165,#REF!,17,FALSE)","v":{"$error":"#REF!"}},{"$f":"IFERROR(VLOOKUP($B165,#REF!,2,FALSE),\"-\")","v":"-"}]
[null,163,{"$f":"VLOOKUP($B166,#REF!,2,FALSE)","v":{"$error":"#REF!"}},{"$f":"VLOOKUP($B166,#REF!,3,FALSE)","v":{"$error":"#REF!"}},{"$f":"VLOOKUP($B166,#REF!,5,FALSE)","v":{"$error":"#REF!"}},{"$f":"VLOOKUP($B166,#REF!,6,FALSE)","v":{"$error":"#REF!"}},"-",{"$error":"#REF!"},null,{"$f":"VLOOKUP($B166,#REF!,13,FALSE)","v":{"$error":"#REF!"}},{"$f":"VLOOKUP($B166,#REF!,10,FALSE)","v":{"$error":"#REF!"}},{"$f":"VLOOKUP($B166,#REF!,17,FALSE)","v":{"$error":"#REF!"}},{"$f":"IFERROR(VLOOKUP($B166,#REF!,2,FALSE),\"-\")","v":"-"}]
[null,164,{"$f":"VLOOKUP($B167,#REF!,2,FALSE)","v":{"$error":"#REF!"}},{"$f":"VLOOKUP($B167,#REF!,3,FALSE)","v":{"$error":"#REF!"}},{"$f":"VLOOKUP($B167,#REF!,5,FALSE)","v":{"$error":"#REF!"}},{"$f":"VLOOKUP($B167,#REF!,6,FALSE)","v":{"$error":"#REF!"}},"-",{"$error":"#REF!"},null,{"$f":"VLOOKUP($B167,#REF!,13,FALSE)","v":{"$error":"#REF!"}},{"$f":"VLOOKUP($B167,#REF!,10,FALSE)","v":{"$error":"#REF!"}},{"$f":"VLOOKUP($B167,#REF!,17,FALSE)","v":{"$error":"#REF!"}},{"$f":"IFERROR(VLOOKUP($B167,#REF!,2,FALSE),\"-\")","v":"-"}]
[null,165,{"$f":"VLOOKUP($B168,#REF!,2,FALSE)","v":{"$error":"#REF!"}},{"$f":"VLOOKUP($B168,#REF!,3,FALSE)","v":{"$error":"#REF!"}},{"$f":"VLOOKUP($B168,#REF!,5,FALSE)","v":{"$error":"#REF!"}},{"$f":"VLOOKUP($B168,#REF!,6,FALSE)","v":{"$error":"#REF!"}},"-",{"$error":"#REF!"},null,{"$f":"VLOOKUP($B168,#REF!,13,FALSE)","v":{"$error":"#REF!"}},{"$f":"VLOOKUP($B168,#REF!,10,FALSE)","v":{"$error":"#REF!"}},{"$f":"VLOOKUP($B168,#REF!,17,FALSE)","v":{"$error":"#REF!"}},{"$f":"IFERROR(VLOOKUP($B168,#REF!,2,FALSE),\"-\")","v":"-"}]
[null,166,{"$f":"VLOOKUP($B169,#REF!,2,FALSE)","v":{"$error":"#REF!"}},{"$f":"VLOOKUP($B169,#REF!,3,FALSE)","v":{"$error":"#REF!"}},{"$f":"VLOOKUP($B169,#REF!,5,FALSE)","v":{"$error":"#REF!"}},{"$f":"VLOOKUP($B169,#REF!,6,FALSE)","v":{"$error":"#REF!"}},"-",{"$error":"#REF!"},null,{"$f":"VLOOKUP($B169,#REF!,13,FALSE)","v":{"$error":"#REF!"}},{"$f":"VLOOKUP($B169,#REF!,10,FALSE)","v":{"$error":"#REF!"}},{"$f":"VLOOKUP($B169,#REF!,17,FALSE)","v":{"$error":"#REF!"}},{"$f":"IFERROR(VLOOKUP($B169,#REF!,2,FALSE),\"-\")","v":"-"}]
[null,167,{"$f":"VLOOKUP($B170,#REF!,2,FALSE)","v":{"$error":"#REF!"}},{"$f":"VLOOKUP($B170,#REF!,3,FALSE)","v":{"$error":"#REF!"}},{"$f":"VLOOKUP($B170,#REF!,5,FALSE)","v":{"$error":"#REF!"}},{"$f":"VLOOKUP($B170,#REF!,6,FALSE)","v":{"$error":"#REF!"}},"-",{"$error":"#REF!"},null,{"$f":"VLOOKUP($B170,#REF!,13,FALSE)","v":{"$error":"#REF!"}},{"$f":"VLOOKUP($B170,#REF!,10,FALSE)","v":{"$error":"#REF!"}},{"$f":"VLOOKUP($B170,#REF!,17,FALSE)","v":{"$error":"#REF!"}},{"$f":"IFERROR(VLOOKUP($B170,#REF!,2,FALSE),\"-\")","v":"-"}]
[null,168,{"$f":"VLOOKUP($B171,#REF!,2,FALSE)","v":{"$error":"#REF!"}},{"$f":"VLOOKUP($B171,#REF!,3,FALSE)","v":{"$error":"#REF!"}},{"$f":"VLOOKUP($B171,#REF!,5,FALSE)","v":{"$error":"#REF!"}},{"$f":"VLOOKUP($B171,#REF!,6,FALSE)","v":{"$error":"#REF!"}},"-",{"$error":"#REF!"},null,{"$f":"VLOOKUP($B171,#REF!,13,FALSE)","v":{"$error":"#REF!"}},{"$f":"VLOOKUP($B171,#REF!,10,FALSE)","v":{"$error":"#REF!"}},{"$f":"VLOOKUP($B171,#REF!,17,FALSE)","v":{"$error":"#REF!"}},{"$f":"IFERROR(VLOOKUP($B171,#REF!,2,FALSE),\"-\")","v":"-"}]
[null,169,{"$f":"VLOOKUP($B172,#REF!,2,FALSE)","v":{"$error":"#REF!"}},{"$f":"VLOOKUP($B172,#REF!,3,FALSE)","v":{"$error":"#REF!"}},{"$f":"VLOOKUP($B172,#REF!,5,FALSE)","v":{"$error":"#REF!"}},{"$f":"VLOOKUP($B172,#REF!,6,FALSE)","v":{"$error":"#REF!"}},"-",{"$error":"#REF!"},null,{"$f":"VLOOKUP($B172,#REF!,13,FALSE)","v":{"$error":"#REF!"}},{"$f":"VLOOKUP($B172,#REF!,10,FALSE)","v":{"$error":"#REF!"}},{"$f":"VLOOKUP($B172,#REF!,17,FALSE)","v":{"$error":"#REF!"}},{"$f":"IFERROR(VLOOKUP($B172,#REF!,2,FALSE),\"-\")","v":"-"}]
[null,170,{"$f":"VLOOKUP($B173,#REF!,2,FALSE)","v":{"$error":"#REF!"}},{"$f":"VLOOKUP($B173,#REF!,3,FALSE)","v":{"$error":"#REF!"}},{"$f":"VLOOKUP($B173,#REF!,5,FALSE)","v":{"$error":"#REF!"}},{"$f":"VLOOKUP($B173,#REF!,6,FALSE)","v":{"$error":"#REF!"}},"-",{"$error":"#REF!"},null,{"$f":"VLOOKUP($B173,#REF!,13,FALSE)","v":{"$error":"#REF!"}},{"$f":"VLOOKUP($B173,#REF!,10,FALSE)","v":{"$error":"#REF!"}},{"$f":"VLOOKUP($B173,#REF!,17,FALSE)","v":{"$error":"#REF!"}},{"$f":"IFERROR(VLOOKUP($B173,#REF!,2,FALSE),\"-\")","v":"-"}]
[null,171,{"$f":"VLOOKUP($B174,#REF!,2,FALSE)","v":{"$error":"#REF!"}},{"$f":"VLOOKUP($B174,#REF!,3,FALSE)","v":{"$error":"#REF!"}},{"$f":"VLOOKUP($B174,#REF!,5,FALSE)","v":{"$error":"#REF!"}},{"$f":"VLOOKUP($B174,#REF!,6,FALSE)","v":{"$error":"#REF!"}},"-",{"$error":"#REF!"},null,{"$f":"VLOOKUP($B174,#REF!,13,FALSE)","v":{"$error":"#REF!"}},{"$f":"VLOOKUP($B174,#REF!,10,FALSE)","v":{"$error":"#REF!"}},{"$f":"VLOOKUP($B174,#REF!,17,FALSE)","v":{"$error":"#REF!"}},{"$f":"IFERROR(VLOOKUP($B174,#REF!,2,FALSE),\"-\")","v":"-"}]
[null,172,{"$f":"VLOOKUP($B175,#REF!,2,FALSE)","v":{"$error":"#REF!"}},{"$f":"VLOOKUP($B175,#REF!,3,FALSE)","v":{"$error":"#REF!"}},{"$f":"VLOOKUP($B175,#REF!,5,FALSE)","v":{"$error":"#REF!"}},{"$f":"VLOOKUP($B175,#REF!,6,FALSE)","v":{"$error":"#REF!"}},"-",{"$error":"#REF!"},null,{"$f":"VLOOKUP($B175,#REF!,13,FALSE)","v":{"$error":"#REF!"}},{"$f":"VLOOKUP($B175,#REF!,10,FALSE)","v":{"$error":"#REF!"}},{"$f":"VLOOKUP($B175,#REF!,17,FALSE)","v":{"$error":"#REF!"}},{"$f":"IFERROR(VLOOKUP($B175,#REF!,2,FALSE),\"-\")","v":"-"}]
[null,173,{"$f":"VLOOKUP($B176,#REF!,2,FALSE)","v":{"$error":"#REF!"}},{"$f":"VLOOKUP($B176,#REF!,3,FALSE)","v":{"$error":"#REF!"}},{"$f":"VLOOKUP($B176,#REF!,5,FALSE)","v":{"$error":"#REF!"}},{"$f":"VLOOKUP($B176,#REF!,6,FALSE)","v":{"$error":"#REF!"}},"-",{"$error":"#REF!"},null,{"$f":"VLOOKUP($B176,#REF!,13,FALSE)","v":{"$error":"#REF!"}},{"$f":"VLOOKUP($B176,#REF!,10,FALSE)","v":{"$error":"#REF!"}},{"$f":"VLOOKUP($B176,#REF!,17,FALSE)","v":{"$error":"#REF!"}},{"$f":"IFERROR(VLOOKUP($B176,#REF!,2,FALSE),\"-\")","v":"-"}]
[null,174,{"$f":"VLOOKUP($B177,#REF!,2,FALSE)","v":{"$error":"#REF!"}},{"$f":"VLOOKUP($B177,#REF!,3,FALSE)","v":{"$error":"#REF!"}},{"$f":"VLOOKUP($B177,#REF!,5,FALSE)","v":{"$error":"#REF!"}},{"$f":"VLOOKUP($B177,#REF!,6,FALSE)","v":{"$error":"#REF!"}},"-",{"$error":"#REF!"},null,{"$f":"VLOOKUP($B177,#REF!,13,FALSE)","v":{"$error":"#REF!"}},{"$f":"VLOOKUP($B177,#REF!,10,FALSE)","v":{"$error":"#REF!"}},{"$f":"VLOOKUP($B177,#REF!,17,FALSE)","v":{"$error":"#REF!"}},{"$f":"IFERROR(VLOOKUP($B177,#REF!,2,FALSE),\"-\")","v":"-"}]
[null,175,{"$f":"VLOOKUP($B178,#REF!,2,FALSE)","v":{"$error":"#REF!"}},{"$f":"VLOOKUP($B178,#REF!,3,FALSE)","v":{"$error":"#REF!"}},{"$f":"VLOOKUP($B178,#REF!,5,FALSE)","v":{"$error":"#REF!"}},{"$f":"VLOOKUP($B178,#REF!,6,FALSE)","v":{"$error":"#REF!"}},"-",{"$error":"#REF!"},null,{"$f":"VLOOKUP($B178,#REF!,13,FALSE)","v":{"$error":"#REF!"}},{"$f":"VLOOKUP($B178,#REF!,10,FALSE)","v":{"$error":"#REF!"}},{"$f":"VLOOKUP($B178,#REF!,17,FALSE)","v":{"$error":"#REF!"}},{"$f":"IFERROR(VLOOKUP($B178,#REF!,2,FALSE),\"-\")","v":"-"}]
[null,176,{"$f":"VLOOKUP($B179,#REF!,2,FALSE)","v":{"$error":"#REF!"}},{"$f":"VLOOKUP($B179,#REF!,3,FALSE)","v":{"$error":"#REF!"}},{"$f":"VLOOKUP($B179,#REF!,5,FALSE)","v":{"$error":"#REF!"}},{"$f":"VLOOKUP($B179,#REF!,6,FALSE)","v":{"$error":"#REF!"}},"-",{"$error":"#REF!"},null,{"$f":"VLOOKUP($B179,#REF!,13,FALSE)","v":{"$error":"#REF!"}},{"$f":"VLOOKUP($B179,#REF!,10,FALSE)","v":{"$error":"#REF!"}},{"$f":"VLOOKUP($B179,#REF!,17,FALSE)","v":{"$error":"#REF!"}},{"$f":"IFERROR(VLOOKUP($B179,#REF!,2,FALSE),\"-\")","v":"-"}]
[null,177,{"$f":"VLOOKUP($B180,#REF!,2,FALSE)","v":{"$error":"#REF!"}},{"$f":"VLOOKUP($B180,#REF!,3,FALSE)","v":{"$error":"#REF!"}},{"$f":"VLOOKUP($B180,#REF!,5,FALSE)","v":{"$error":"#REF!"}},{"$f":"VLOOKUP($B180,#REF!,6,FALSE)","v":{"$error":"#REF!"}},"-",{"$error":"#REF!"},null,{"$f":"VLOOKUP($B180,#REF!,13,FALSE)","v":{"$error":"#REF!"}},{"$f":"VLOOKUP($B180,#REF!,10,FALSE)","v":{"$error":"#REF!"}},{"$f":"VLOOKUP($B180,#REF!,17,FALSE)","v":{"$error":"#REF!"}},{"$f":"IFERROR(VLOOKUP($B180,#REF!,2,FALSE),\"-\")","v":"-"}]
[null,178,{"$f":"VLOOKUP($B181,#REF!,2,FALSE)","v":{"$error":"#REF!"}},{"$f":"VLOOKUP($B181,#REF!,3,FALSE)","v":{"$error":"#REF!"}},{"$f":"VLOOKUP($B181,#REF!,5,FALSE)","v":{"$error":"#REF!"}},{"$f":"VLOOKUP($B181,#REF!,6,FALSE)","v":{"$error":"#REF!"}},"-",{"$error":"#REF!"},null,{"$f":"VLOOKUP($B181,#REF!,13,FALSE)","v":{"$error":"#REF!"}},{"$f":"VLOOKUP($B181,#REF!,10,FALSE)","v":{"$error":"#REF!"}},{"$f":"VLOOKUP($B181,#REF!,17,FALSE)","v":{"$error":"#REF!"}},{"$f":"IFERROR(VLOOKUP($B181,#REF!,2,FALSE),\"-\")","v":"-"}]
[null,179,{"$f":"VLOOKUP($B182,#REF!,2,FALSE)","v":{"$error":"#REF!"}},{"$f":"VLOOKUP($B182,#REF!,3,FALSE)","v":{"$error":"#REF!"}},{"$f":"VLOOKUP($B182,#REF!,5,FALSE)","v":{"$error":"#REF!"}},{"$f":"VLOOKUP($B182,#REF!,6,FALSE)","v":{"$error":"#REF!"}},"-",{"$error":"#REF!"},null,{"$f":"VLOOKUP($B182,#REF!,13,FALSE)","v":{"$error":"#REF!"}},{"$f":"VLOOKUP($B182,#REF!,10,FALSE)","v":{"$error":"#REF!"}},{"$f":"VLOOKUP($B182,#REF!,17,FALSE)","v":{"$error":"#REF!"}},{"$f":"IFERROR(VLOOKUP($B182,#REF!,2,FALSE),\"-\")","v":"-"}]
[null,180,{"$f":"VLOOKUP($B183,#REF!,2,FALSE)","v":{"$error":"#REF!"}},{"$f":"VLOOKUP($B183,#REF!,3,FALSE)","v":{"$error":"#REF!"}},{"$f":"VLOOKUP($B183,#REF!,5,FALSE)","v":{"$error":"#REF!"}},{"$f":"VLOOKUP($B183,#REF!,6,FALSE)","v":{"$error":"#REF!"}},"-",{"$error":"#REF!"},null,{"$f":"VLOOKUP($B183,#REF!,13,FALSE)","v":{"$error":"#REF!"}},{"$f":"VLOOKUP($B183,#REF!,10,FALSE)","v":{"$error":"#REF!"}},{"$f":"VLOOKUP($B183,#REF!,17,FALSE)","v":{"$error":"#REF!"}},{"$f":"IFERROR(VLOOKUP($B183,#REF!,2,FALSE),\"-\")","v":"-"}]
[null,181,{"$f":"VLOOKUP($B184,#REF!,2,FALSE)","v":{"$error":"#REF!"}},{"$f":"VLOOKUP($B184,#REF!,3,FALSE)","v":{"$error":"#REF!"}},{"$f":"VLOOKUP($B184,#REF!,5,FALSE)","v":{"$error":"#REF!"}},{"$f":"VLOOKUP($B184,#REF!,6,FALSE)","v":{"$error":"#REF!"}},"-",{"$error":"#REF!"},null,{"$f":"VLOOKUP($B184,#REF!,13,FALSE)","v":{"$error":"#REF!"}},{"$f":"VLOOKUP($B184,#REF!,10,FALSE)","v":{"$error":"#REF!"}},{"$f":"VLOOKUP($B184,#REF!,17,FALSE)","v":{"$error":"#REF!"}},{"$f":"IFERROR(VLOOKUP($B184,#REF!,2,FALSE),\"-\")","v":"-"}]
[null,182,{"$f":"VLOOKUP($B185,#REF!,2,FALSE)","v":{"$error":"#REF!"}},{"$f":"VLOOKUP($B185,#REF!,3,FALSE)","v":{"$error":"#REF!"}},{"$f":"VLOOKUP($B185,#REF!,5,FALSE)","v":{"$error":"#REF!"}},{"$f":"VLOOKUP($B185,#REF!,6,FALSE)","v":{"$error":"#REF!"}},"-",{"$error":"#REF!"},null,{"$f":"VLOOKUP($B185,#REF!,13,FALSE)","v":{"$error":"#REF!"}},{"$f":"VLOOKUP($B185,#REF!,10,FALSE)","v":{"$error":"#REF!"}},{"$f":"VLOOKUP($B185,#REF!,17,FALSE)","v":{"$error":"#REF!"}},{"$f":"IFERROR(VLOOKUP($B185,#REF!,2,FALSE),\"-\")","v":"-"}]
[null,183,{"$f":"VLOOKUP($B186,#REF!,2,FALSE)","v":{"$error":"#REF!"}},{"$f":"VLOOKUP($B186,#REF!,3,FALSE)","v":{"$error":"#REF!"}},{"$f":"VLOOKUP($B186,#REF!,5,FALSE)","v":{"$error":"#REF!"}},{"$f":"VLOOKUP($B186,#REF!,6,FALSE)","v":{"$error":"#REF!"}},"-",{"$error":"#REF!"},null,{"$f":"VLOOKUP($B186,#REF!,13,FALSE)","v":{"$error":"#REF!"}},{"$f":"VLOOKUP($B186,#REF!,10,FALSE)","v":{"$error":"#REF!"}},{"$f":"VLOOKUP($B186,#REF!,17,FALSE)","v":{"$error":"#REF!"}},{"$f":"IFERROR(VLOOKUP($B186,#REF!,2,FALSE),\"-\")","v":"-"}]
[null,184,{"$f":"VLOOKUP($B187,#REF!,2,FALSE)","v":{"$error":"#REF!"}},{"$f":"VLOOKUP($B187,#REF!,3,FALSE)","v":{"$error":"#REF!"}},{"$f":"VLOOKUP($B187,#REF!,5,FALSE)","v":{"$error":"#REF!"}},{"$f":"VLOOKUP($B187,#REF!,6,FALSE)","v":{"$error":"#REF!"}},"-",{"$error":"#REF!"},null,{"$f":"VLOOKUP($B187,#REF!,13,FALSE)","v":{"$error":"#REF!"}},{"$f":"VLOOKUP($B187,#REF!,10,FALSE)","v":{"$error":"#REF!"}},{"$f":"VLOOKUP($B187,#REF!,17,FALSE)","v":{"$error":"#REF!"}},{"$f":"IFERROR(VLOOKUP($B187,#REF!,2,FALSE),\"-\")","v":"-"}]
[null,185,{"$f":"VLOOKUP($B188,#REF!,2,FALSE)","v":{"$error":"#REF!"}},{"$f":"VLOOKUP($B188,#REF!,3,FALSE)","v":{"$error":"#REF!"}},{"$f":"VLOOKUP($B188,#REF!,5,FALSE)","v":{"$error":"#REF!"}},{"$f":"VLOOKUP($B188,#REF!,6,FALSE)","v":{"$error":"#REF!"}},"-",{"$error":"#REF!"},null,{"$f":"VLOOKUP($B188,#REF!,13,FALSE)","v":{"$error":"#REF!"}},{"$f":"VLOOKUP($B188,#REF!,10,FALSE)","v":{"$error":"#REF!"}},{"$f":"VLOOKUP($B188,#REF!,17,FALSE)","v":{"$error":"#REF!"}},{"$f":"IFERROR(VLOOKUP($B188,#REF!,2,FALSE),\"-\")","v":"-"}]
[null,186,{"$f":"VLOOKUP($B189,#REF!,2,FALSE)","v":{"$error":"#REF!"}},{"$f":"VLOOKUP($B189,#REF!,3,FALSE)","v":{"$error":"#REF!"}},{"$f":"VLOOKUP($B189,#REF!,5,FALSE)","v":{"$error":"#REF!"}},{"$f":"VLOOKUP($B189,#REF!,6,FALSE)","v":{"$error":"#REF!"}},"-",{"$error":"#REF!"},null,{"$f":"VLOOKUP($B189,#REF!,13,FALSE)","v":{"$error":"#REF!"}},{"$f":"VLOOKUP($B189,#REF!,10,FALSE)","v":{"$error":"#REF!"}},{"$f":"VLOOKUP($B189,#REF!,17,FALSE)","v":{"$error":"#REF!"}},{"$f":"IFERROR(VLOOKUP($B189,#REF!,2,FALSE),\"-\")","v":"-"}]
[null,187,{"$f":"VLOOKUP($B190,#REF!,2,FALSE)","v":{"$error":"#REF!"}},{"$f":"VLOOKUP($B190,#REF!,3,FALSE)","v":{"$error":"#REF!"}},{"$f":"VLOOKUP($B190,#REF!,5,FALSE)","v":{"$error":"#REF!"}},{"$f":"VLOOKUP($B190,#REF!,6,FALSE)","v":{"$error":"#REF!"}},"-",{"$error":"#REF!"},null,{"$f":"VLOOKUP($B190,#REF!,13,FALSE)","v":{"$error":"#REF!"}},{"$f":"VLOOKUP($B190,#REF!,10,FALSE)","v":{"$error":"#REF!"}},{"$f":"VLOOKUP($B190,#REF!,17,FALSE)","v":{"$error":"#REF!"}},{"$f":"IFERROR(VLOOKUP($B190,#REF!,2,FALSE),\"-\")","v":"-"}]
[null,188,{"$f":"VLOOKUP($B191,#REF!,2,FALSE)","v":{"$error":"#REF!"}},{"$f":"VLOOKUP($B191,#REF!,3,FALSE)","v":{"$error":"#REF!"}},{"$f":"VLOOKUP($B191,#REF!,5,FALSE)","v":{"$error":"#REF!"}},{"$f":"VLOOKUP($B191,#REF!,6,FALSE)","v":{"$error":"#REF!"}},"-",{"$error":"#REF!"},null,{"$f":"VLOOKUP($B191,#REF!,13,FALSE)","v":{"$error":"#REF!"}},{"$f":"VLOOKUP($B191,#REF!,10,FALSE)","v":{"$error":"#REF!"}},{"$f":"VLOOKUP($B191,#REF!,17,FALSE)","v":{"$error":"#REF!"}},{"$f":"IFERROR(VLOOKUP($B191,#REF!,2,FALSE),\"-\")","v":"-"}]
[null,189,{"$f":"VLOOKUP($B192,#REF!,2,FALSE)","v":{"$error":"#REF!"}},{"$f":"VLOOKUP($B192,#REF!,3,FALSE)","v":{"$error":"#REF!"}},{"$f":"VLOOKUP($B192,#REF!,5,FALSE)","v":{"$error":"#REF!"}},{"$f":"VLOOKUP($B192,#REF!,6,FALSE)","v":{"$error":"#REF!"}},"-",{"$error":"#REF!"},null,{"$f":"VLOOKUP($B192,#REF!,13,FALSE)","v":{"$error":"#REF!"}},{"$f":"VLOOKUP($B192,#REF!,10,FALSE)","v":{"$error":"#REF!"}},{"$f":"VLOOKUP($B192,#REF!,17,FALSE)","v":{"$error":"#REF!"}},{"$f":"IFERROR(VLOOKUP($B192,#REF!,2,FALSE),\"-\")","v":"-"}]
[null,190,{"$f":"VLOOKUP($B193,#REF!,2,FALSE)","v":{"$error":"#REF!"}},{"$f":"VLOOKUP($B193,#REF!,3,FALSE)","v":{"$error":"#REF!"}},{"$f":"VLOOKUP($B193,#REF!,5,FALSE)","v":{"$error":"#REF!"}},{"$f":"VLOOKUP($B193,#REF!,6,FALSE)","v":{"$error":"#REF!"}},"-",{"$error":"#REF!"},null,{"$f":"VLOOKUP($B193,#REF!,13,FALSE)","v":{"$error":"#REF!"}},{"$f":"VLOOKUP($B193,#REF!,10,FALSE)","v":{"$error":"#REF!"}},{"$f":"VLOOKUP($B193,#REF!,17,FALSE)","v":{"$error":"#REF!"}},{"$f":"IFERROR(VLOOKUP($B193,#REF!,2,FALSE),\"-\")","v":"-"}]
[null,191,{"$f":"VLOOKUP($B194,#REF!,2,FALSE)","v":{"$error":"#REF!"}},{"$f":"VLOOKUP($B194,#REF!,3,FALSE)","v":{"$error":"#REF!"}},{"$f":"VLOOKUP($B194,#REF!,5,FALSE)","v":{"$error":"#REF!"}},{"$f":"VLOOKUP($B194,#REF!,6,FALSE)","v":{"$error":"#REF!"}},"-",{"$error":"#REF!"},null,{"$f":"VLOOKUP($B194,#REF!,13,FALSE)","v":{"$error":"#REF!"}},{"$f":"VLOOKUP($B194,#REF!,10,FALSE)","v":{"$error":"#REF!"}},{"$f":"VLOOKUP($B194,#REF!,17,FALSE)","v":{"$error":"#REF!"}},{"$f":"IFERROR(VLOOKUP($B194,#REF!,2,FALSE),\"-\")","v":"-"}]
[null,192,{"$f":"VLOOKUP($B195,#REF!,2,FALSE)","v":{"$error":"#REF!"}},{"$f":"VLOOKUP($B195,#REF!,3,FALSE)","v":{"$error":"#REF!"}},{"$f":"VLOOKUP($B195,#REF!,5,FALSE)","v":{"$error":"#REF!"}},{"$f":"VLOOKUP($B195,#REF!,6,FALSE)","v":{"$error":"#REF!"}},"-",{"$error":"#REF!"},null,{"$f":"VLOOKUP($B195,#REF!,13,FALSE)","v":{"$error":"#REF!"}},{"$f":"VLOOKUP($B195,#REF!,10,FALSE)","v":{"$error":"#REF!"}},{"$f":"VLOOKUP($B195,#REF!,17,FALSE)","v":{"$error":"#REF!"}},{"$f":"IFERROR(VLOOKUP($B195,#REF!,2,FALSE),\"-\")","v":"-"}]
[null,193,{"$f":"VLOOKUP($B196,#REF!,2,FALSE)","v":{"$error":"#REF!"}},{"$f":"VLOOKUP($B196,#REF!,3,FALSE)","v":{"$error":"#REF!"}},{"$f":"VLOOKUP($B196,#REF!,5,FALSE)","v":{"$error":"#REF!"}},{"$f":"VLOOKUP($B196,#REF!,6,FALSE)","v":{"$error":"#REF!"}},{"$f":"IF(M196=1,\"欠席\",IF(M196=9,\"空ﾚｰﾝ\",\"-\"))","v":"-"},{"$error":"#REF!"},null,{"$f":"VLOOKUP($B196,#REF!,13,FALSE)","v":{"$error":"#REF!"}},{"$f":"VLOOKUP($B196,#REF!,10,FALSE)","v":{"$error":"#REF!"}},{"$f":"VLOOKUP($B196,#REF!,17,FALSE)","v":{"$error":"#REF!"}},{"$f":"IFERROR(VLOOKUP($B196,#REF!,2,FALSE),\"-\")","v":"-"}]
[null,194,{"$f":"VLOOKUP($B197,#REF!,2,FALSE)","v":{"$error":"#REF!"}},{"$f":"VLOOKUP($B197,#REF!,3,FALSE)","v":{"$error":"#REF!"}},{"$f":"VLOOKUP($B197,#REF!,5,FALSE)","v":{"$error":"#REF!"}},{"$f":"VLOOKUP($B197,#REF!,6,FALSE)","v":{"$error":"#REF!"}},"-",{"$f":"+C197","v":{"$error":"#REF!"}},null,{"$f":"VLOOKUP($B197,#REF!,13,FALSE)","v":{"$error":"#REF!"}},{"$f":"VLOOKUP($B197,#REF!,10,FALSE)","v":{"$error":"#REF!"}},{"$f":"VLOOKUP($B197,#REF!,17,FALSE)","v":{"$error":"#REF!"}},{"$f":"IFERROR(VLOOKUP($B197,#REF!,2,FALSE),\"-\")","v":"-"}]
[null,195,{"$f":"VLOOKUP($B198,#REF!,2,FALSE)","v":{"$error":"#REF!"}},{"$f":"VLOOKUP($B198,#REF!,3,FALSE)","v":{"$error":"#REF!"}},{"$f":"VLOOKUP($B198,#REF!,5,FALSE)","v":{"$error":"#REF!"}},{"$f":"VLOOKUP($B198,#REF!,6,FALSE)","v":{"$error":"#REF!"}},"-",{"$error":"#REF!"},null,{"$f":"VLOOKUP($B198,#REF!,13,FALSE)","v":{"$error":"#REF!"}},{"$f":"VLOOKUP($B198,#REF!,10,FALSE)","v":{"$error":"#REF!"}},{"$f":"VLOOKUP($B198,#REF!,17,FALSE)","v":{"$error":"#REF!"}},{"$f":"IFERROR(VLOOKUP($B198,#REF!,2,FALSE),\"-\")","v":"-"}]
[null,196,{"$f":"VLOOKUP($B199,#REF!,2,FALSE)","v":{"$error":"#REF!"}},{"$f":"VLOOKUP($B199,#REF!,3,FALSE)","v":{"$error":"#REF!"}},{"$f":"VLOOKUP($B199,#REF!,5,FALSE)","v":{"$error":"#REF!"}},{"$f":"VLOOKUP($B199,#REF!,6,FALSE)","v":{"$error":"#REF!"}},"-",{"$error":"#REF!"},null,{"$f":"VLOOKUP($B199,#REF!,13,FALSE)","v":{"$error":"#REF!"}},{"$f":"VLOOKUP($B199,#REF!,10,FALSE)","v":{"$error":"#REF!"}},{"$f":"VLOOKUP($B199,#REF!,17,FALSE)","v":{"$error":"#REF!"}},{"$f":"IFERROR(VLOOKUP($B199,#REF!,2,FALSE),\"-\")","v":"-"}]
[null,197,{"$f":"VLOOKUP($B200,#REF!,2,FALSE)","v":{"$error":"#REF!"}},{"$f":"VLOOKUP($B200,#REF!,3,FALSE)","v":{"$error":"#REF!"}},{"$f":"VLOOKUP($B200,#REF!,5,FALSE)","v":{"$error":"#REF!"}},{"$f":"VLOOKUP($B200,#REF!,6,FALSE)","v":{"$error":"#REF!"}},"-",{"$error":"#REF!"},null,{"$f":"VLOOKUP($B200,#REF!,13,FALSE)","v":{"$error":"#REF!"}},{"$f":"VLOOKUP($B200,#REF!,10,FALSE)","v":{"$error":"#REF!"}},{"$f":"VLOOKUP($B200,#REF!,17,FALSE)","v":{"$error":"#REF!"}},{"$f":"IFERROR(VLOOKUP($B200,#REF!,2,FALSE),\"-\")","v":"-"}]
[null,198,{"$f":"VLOOKUP($B201,#REF!,2,FALSE)","v":{"$error":"#REF!"}},{"$f":"VLOOKUP($B201,#REF!,3,FALSE)","v":{"$error":"#REF!"}},{"$f":"VLOOKUP($B201,#REF!,5,FALSE)","v":{"$error":"#REF!"}},{"$f":"VLOOKUP($B201,#REF!,6,FALSE)","v":{"$error":"#REF!"}},"-",{"$error":"#REF!"},null,{"$f":"VLOOKUP($B201,#REF!,13,FALSE)","v":{"$error":"#REF!"}},{"$f":"VLOOKUP($B201,#REF!,10,FALSE)","v":{"$error":"#REF!"}},{"$f":"VLOOKUP($B201,#REF!,17,FALSE)","v":{"$error":"#REF!"}},{"$f":"IFERROR(VLOOKUP($B201,#REF!,2,FALSE),\"-\")","v":"-"}]
[null,199,{"$f":"VLOOKUP($B202,#REF!,2,FALSE)","v":{"$error":"#REF!"}},{"$f":"VLOOKUP($B202,#REF!,3,FALSE)","v":{"$error":"#REF!"}},{"$f":"VLOOKUP($B202,#REF!,5,FALSE)","v":{"$error":"#REF!"}},{"$f":"VLOOKUP($B202,#REF!,6,FALSE)","v":{"$error":"#REF!"}},"-",{"$error":"#REF!"},null,{"$f":"VLOOKUP($B202,#REF!,13,FALSE)","v":{"$error":"#REF!"}},{"$f":"VLOOKUP($B202,#REF!,10,FALSE)","v":{"$error":"#REF!"}},{"$f":"VLOOKUP($B202,#REF!,17,FALSE)","v":{"$error":"#REF!"}},{"$f":"IFERROR(VLOOKUP($B202,#REF!,2,FALSE),\"-\")","v":"-"}]
[null,200,{"$f":"VLOOKUP($B203,#REF!,2,FALSE)","v":{"$error":"#REF!"}},{"$f":"VLOOKUP($B203,#REF!,3,FALSE)","v":{"$error":"#REF!"}},{"$f":"VLOOKUP($B203,#REF!,5,FALSE)","v":{"$error":"#REF!"}},{"$f":"VLOOKUP($B203,#REF!,6,FALSE)","v":{"$error":"#REF!"}},"-",{"$error":"#REF!"},null,{"$f":"VLOOKUP($B203,#REF!,13,FALSE)","v":{"$error":"#REF!"}},{"$f":"VLOOKUP($B203,#REF!,10,FALSE)","v":{"$error":"#REF!"}},{"$f":"VLOOKUP($B203,#REF!,17,FALSE)","v":{"$error":"#REF!"}},{"$f":"IFERROR(VLOOKUP($B203,#REF!,2,FALSE),\"-\")","v":"-"}]
[null,201,{"$f":"VLOOKUP($B204,#REF!,2,FALSE)","v":{"$error":"#REF!"}},{"$f":"VLOOKUP($B204,#REF!,3,FALSE)","v":{"$error":"#REF!"}},{"$f":"VLOOKUP($B204,#REF!,5,FALSE)","v":{"$error":"#REF!"}},{"$f":"VLOOKUP($B204,#REF!,6,FALSE)","v":{"$error":"#REF!"}},"-",{"$error":"#REF!"},null,{"$f":"VLOOKUP($B204,#REF!,13,FALSE)","v":{"$error":"#REF!"}},{"$f":"VLOOKUP($B204,#REF!,10,FALSE)","v":{"$error":"#REF!"}},{"$f":"VLOOKUP($B204,#REF!,17,FALSE)","v":{"$error":"#REF!"}},{"$f":"IFERROR(VLOOKUP($B204,#REF!,2,FALSE),\"-\")","v":"-"}]
[null,202,{"$f":"VLOOKUP($B205,#REF!,2,FALSE)","v":{"$error":"#REF!"}},{"$f":"VLOOKUP($B205,#REF!,3,FALSE)","v":{"$error":"#REF!"}},{"$f":"VLOOKUP($B205,#REF!,5,FALSE)","v":{"$error":"#REF!"}},{"$f":"VLOOKUP($B205,#REF!,6,FALSE)","v":{"$error":"#REF!"}},"-",{"$error":"#REF!"},null,{"$f":"VLOOKUP($B205,#REF!,13,FALSE)","v":{"$error":"#REF!"}},{"$f":"VLOOKUP($B205,#REF!,10,FALSE)","v":{"$error":"#REF!"}},{"$f":"VLOOKUP($B205,#REF!,17,FALSE)","v":{"$error":"#REF!"}},{"$f":"IFERROR(VLOOKUP($B205,#REF!,2,FALSE),\"-\")","v":"-"}]
[null,203,{"$f":"VLOOKUP($B206,#REF!,2,FALSE)","v":{"$error":"#REF!"}},{"$f":"VLOOKUP($B206,#REF!,3,FALSE)","v":{"$error":"#REF!"}},{"$f":"VLOOKUP($B206,#REF!,5,FALSE)","v":{"$error":"#REF!"}},{"$f":"VLOOKUP($B206,#REF!,6,FALSE)","v":{"$error":"#REF!"}},"-",{"$error":"#REF!"},null,{"$f":"VLOOKUP($B206,#REF!,13,FALSE)","v":{"$error":"#REF!"}},{"$f":"VLOOKUP($B206,#REF!,10,FALSE)","v":{"$error":"#REF!"}},{"$f":"VLOOKUP($B206,#REF!,17,FALSE)","v":{"$error":"#REF!"}},{"$f":"IFERROR(VLOOKUP($B206,#REF!,2,FALSE),\"-\")","v":"-"}]
[null,204,{"$f":"VLOOKUP($B207,#REF!,2,FALSE)","v":{"$error":"#REF!"}},{"$f":"VLOOKUP($B207,#REF!,3,FALSE)","v":{"$error":"#REF!"}},{"$f":"VLOOKUP($B207,#REF!,5,FALSE)","v":{"$error":"#REF!"}},{"$f":"VLOOKUP($B207,#REF!,6,FALSE)","v":{"$error":"#REF!"}},"-",{"$error":"#REF!"},null,{"$f":"VLOOKUP($B207,#REF!,13,FALSE)","v":{"$error":"#REF!"}},{"$f":"VLOOKUP($B207,#REF!,10,FALSE)","v":{"$error":"#REF!"}},{"$f":"VLOOKUP($B207,#REF!,17,FALSE)","v":{"$error":"#REF!"}},{"$f":"IFERROR(VLOOKUP($B207,#REF!,2,FALSE),\"-\")","v":"-"}]
[null,205,{"$f":"VLOOKUP($B208,#REF!,2,FALSE)","v":{"$error":"#REF!"}},{"$f":"VLOOKUP($B208,#REF!,3,FALSE)","v":{"$error":"#REF!"}},{"$f":"VLOOKUP($B208,#REF!,5,FALSE)","v":{"$error":"#REF!"}},{"$f":"VLOOKUP($B208,#REF!,6,FALSE)","v":{"$error":"#REF!"}},"-",{"$error":"#REF!"},null,{"$f":"VLOOKUP($B208,#REF!,13,FALSE)","v":{"$error":"#REF!"}},{"$f":"VLOOKUP($B208,#REF!,10,FALSE)","v":{"$error":"#REF!"}},{"$f":"VLOOKUP($B208,#REF!,17,FALSE)","v":{"$error":"#REF!"}},{"$f":"IFERROR(VLOOKUP($B208,#REF!,2,FALSE),\"-\")","v":"-"}]
[null,206,{"$f":"VLOOKUP($B209,#REF!,2,FALSE)","v":{"$error":"#REF!"}},{"$f":"VLOOKUP($B209,#REF!,3,FALSE)","v":{"$error":"#REF!"}},{"$f":"VLOOKUP($B209,#REF!,5,FALSE)","v":{"$error":"#REF!"}},{"$f":"VLOOKUP($B209,#REF!,6,FALSE)","v":{"$error":"#REF!"}},"-",{"$error":"#REF!"},null,{"$f":"VLOOKUP($B209,#REF!,13,FALSE)","v":{"$error":"#REF!"}},{"$f":"VLOOKUP($B209,#REF!,10,FALSE)","v":{"$error":"#REF!"}},{"$f":"VLOOKUP($B209,#REF!,17,FALSE)","v":{"$error":"#REF!"}},{"$f":"IFERROR(VLOOKUP($B209,#REF!,2,FALSE),\"-\")","v":"-"}]
[null,207,{"$f":"VLOOKUP($B210,#REF!,2,FALSE)","v":{"$error":"#REF!"}},{"$f":"VLOOKUP($B210,#REF!,3,FALSE)","v":{"$error":"#REF!"}},{"$f":"VLOOKUP($B210,#REF!,5,FALSE)","v":{"$error":"#REF!"}},{"$f":"VLOOKUP($B210,#REF!,6,FALSE)","v":{"$error":"#REF!"}},"-",{"$error":"#REF!"},null,{"$f":"VLOOKUP($B210,#REF!,13,FALSE)","v":{"$error":"#REF!"}},{"$f":"VLOOKUP($B210,#REF!,10,FALSE)","v":{"$error":"#REF!"}},{"$f":"VLOOKUP($B210,#REF!,17,FALSE)","v":{"$error":"#REF!"}},{"$f":"IFERROR(VLOOKUP($B210,#REF!,2,FALSE),\"-\")","v":"-"}]
[null,208,{"$f":"VLOOKUP($B211,#REF!,2,FALSE)","v":{"$error":"#REF!"}},{"$f":"VLOOKUP($B211,#REF!,3,FALSE)","v":{"$error":"#REF!"}},{"$f":"VLOOKUP($B211,#REF!,5,FALSE)","v":{"$error":"#REF!"}},{"$f":"VLOOKUP($B211,#REF!,6,FALSE)","v":{"$error":"#REF!"}},"-",{"$error":"#REF!"},null,{"$f":"VLOOKUP($B211,#REF!,13,FALSE)","v":{"$error":"#REF!"}},{"$f":"VLOOKUP($B211,#REF!,10,FALSE)","v":{"$error":"#REF!"}},{"$f":"VLOOKUP($B211,#REF!,17,FALSE)","v":{"$error":"#REF!"}},{"$f":"IFERROR(VLOOKUP($B211,#REF!,2,FALSE),\"-\")","v":"-"}]
[null,209,{"$f":"VLOOKUP($B212,#REF!,2,FALSE)","v":{"$error":"#REF!"}},{"$f":"VLOOKUP($B212,#REF!,3,FALSE)","v":{"$error":"#REF!"}},{"$f":"VLOOKUP($B212,#REF!,5,FALSE)","v":{"$error":"#REF!"}},{"$f":"VLOOKUP($B212,#REF!,6,FALSE)","v":{"$error":"#REF!"}},"-",{"$error":"#REF!"},null,{"$f":"VLOOKUP($B212,#REF!,13,FALSE)","v":{"$error":"#REF!"}},{"$f":"VLOOKUP($B212,#REF!,10,FALSE)","v":{"$error":"#REF!"}},{"$f":"VLOOKUP($B212,#REF!,17,FALSE)","v":{"$error":"#REF!"}},{"$f":"IFERROR(VLOOKUP($B212,#REF!,2,FALSE),\"-\")","v":"-"}]
[null,210,{"$f":"VLOOKUP($B213,#REF!,2,FALSE)","v":{"$error":"#REF!"}},{"$f":"VLOOKUP($B213,#REF!,3,FALSE)","v":{"$error":"#REF!"}},{"$f":"VLOOKUP($B213,#REF!,5,FALSE)","v":{"$error":"#REF!"}},{"$f":"VLOOKUP($B213,#REF!,6,FALSE)","v":{"$error":"#REF!"}},"-",{"$error":"#REF!"},null,{"$f":"VLOOKUP($B213,#REF!,13,FALSE)","v":{"$error":"#REF!"}},{"$f":"VLOOKUP($B213,#REF!,10,FALSE)","v":{"$error":"#REF!"}},{"$f":"VLOOKUP($B213,#REF!,17,FALSE)","v":{"$error":"#REF!"}},{"$f":"IFERROR(VLOOKUP($B213,#REF!,2,FALSE),\"-\")","v":"-"}]
[null,211,{"$f":"VLOOKUP($B214,#REF!,2,FALSE)","v":{"$error":"#REF!"}},{"$f":"VLOOKUP($B214,#REF!,3,FALSE)","v":{"$error":"#REF!"}},{"$f":"VLOOKUP($B214,#REF!,5,FALSE)","v":{"$error":"#REF!"}},{"$f":"VLOOKUP($B214,#REF!,6,FALSE)","v":{"$error":"#REF!"}},"-",{"$error":"#REF!"},null,{"$f":"VLOOKUP($B214,#REF!,13,FALSE)","v":{"$error":"#REF!"}},{"$f":"VLOOKUP($B214,#REF!,10,FALSE)","v":{"$error":"#REF!"}},{"$f":"VLOOKUP($B214,#REF!,17,FALSE)","v":{"$error":"#REF!"}},{"$f":"IFERROR(VLOOKUP($B214,#REF!,2,FALSE),\"-\")","v":"-"}]
[null,212,{"$f":"VLOOKUP($B215,#REF!,2,FALSE)","v":{"$error":"#REF!"}},{"$f":"VLOOKUP($B215,#REF!,3,FALSE)","v":{"$error":"#REF!"}},{"$f":"VLOOKUP($B215,#REF!,5,FALSE)","v":{"$error":"#REF!"}},{"$f":"VLOOKUP($B215,#REF!,6,FALSE)","v":{"$error":"#REF!"}},"-",{"$error":"#REF!"},null,{"$f":"VLOOKUP($B215,#REF!,13,FALSE)","v":{"$error":"#REF!"}},{"$f":"VLOOKUP($B215,#REF!,10,FALSE)","v":{"$error":"#REF!"}},{"$f":"VLOOKUP($B215,#REF!,17,FALSE)","v":{"$error":"#REF!"}},{"$f":"IFERROR(VLOOKUP($B215,#REF!,2,FALSE),\"-\")","v":"-"}]
[null,213,{"$f":"VLOOKUP($B216,#REF!,2,FALSE)","v":{"$error":"#REF!"}},{"$f":"VLOOKUP($B216,#REF!,3,FALSE)","v":{"$error":"#REF!"}},{"$f":"VLOOKUP($B216,#REF!,5,FALSE)","v":{"$error":"#REF!"}},{"$f":"VLOOKUP($B216,#REF!,6,FALSE)","v":{"$error":"#REF!"}},"-",{"$error":"#REF!"},null,{"$f":"VLOOKUP($B216,#REF!,13,FALSE)","v":{"$error":"#REF!"}},{"$f":"VLOOKUP($B216,#REF!,10,FALSE)","v":{"$error":"#REF!"}},{"$f":"VLOOKUP($B216,#REF!,17,FALSE)","v":{"$error":"#REF!"}},{"$f":"IFERROR(VLOOKUP($B216,#REF!,2,FALSE),\"-\")","v":"-"}]
[null,214,{"$f":"VLOOKUP($B217,#REF!,2,FALSE)","v":{"$error":"#REF!"}},{"$f":"VLOOKUP($B217,#REF!,3,FALSE)","v":{"$error":"#REF!"}},{"$f":"VLOOKUP($B217,#REF!,5,FALSE)","v":{"$error":"#REF!"}},{"$f":"VLOOKUP($B217,#REF!,6,FALSE)","v":{"$error":"#REF!"}},"-",{"$error":"#REF!"},null,{"$f":"VLOOKUP($B217,#REF!,13,FALSE)","v":{"$error":"#REF!"}},{"$f":"VLOOKUP($B217,#REF!,10,FALSE)","v":{"$error":"#REF!"}},{"$f":"VLOOKUP($B217,#REF!,17,FALSE)","v":{"$error":"#REF!"}},{"$f":"IFERROR(VLOOKUP($B217,#REF!,2,FALSE),\"-\")","v":"-"}]
[null,215,{"$f":"VLOOKUP($B218,#REF!,2,FALSE)","v":{"$error":"#REF!"}},{"$f":"VLOOKUP($B218,#REF!,3,FALSE)","v":{"$error":"#REF!"}},{"$f":"VLOOKUP($B218,#REF!,5,FALSE)","v":{"$error":"#REF!"}},{"$f":"VLOOKUP($B218,#REF!,6,FALSE)","v":{"$error":"#REF!"}},"-",{"$error":"#REF!"},null,{"$f":"VLOOKUP($B218,#REF!,13,FALSE)","v":{"$error":"#REF!"}},{"$f":"VLOOKUP($B218,#REF!,10,FALSE)","v":{"$error":"#REF!"}},{"$f":"VLOOKUP($B218,#REF!,17,FALSE)","v":{"$error":"#REF!"}},{"$f":"IFERROR(VLOOKUP($B218,#REF!,2,FALSE),\"-\")","v":"-"}]
[null,216,{"$f":"VLOOKUP($B219,#REF!,2,FALSE)","v":{"$error":"#REF!"}},{"$f":"VLOOKUP($B219,#REF!,3,FALSE)","v":{"$error":"#REF!"}},{"$f":"VLOOKUP($B219,#REF!,5,FALSE)","v":{"$error":"#REF!"}},{"$f":"VLOOKUP($B219,#REF!,6,FALSE)","v":{"$error":"#REF!"}},"-",{"$error":"#REF!"},null,{"$f":"VLOOKUP($B219,#REF!,13,FALSE)","v":{"$error":"#REF!"}},{"$f":"VLOOKUP($B219,#REF!,10,FALSE)","v":{"$error":"#REF!"}},{"$f":"VLOOKUP($B219,#REF!,17,FALSE)","v":{"$error":"#REF!"}},{"$f":"IFERROR(VLOOKUP($B219,#REF!,2,FALSE),\"-\")","v":"-"}]
[null,217,{"$f":"VLOOKUP($B220,#REF!,2,FALSE)","v":{"$error":"#REF!"}},{"$f":"VLOOKUP($B220,#REF!,3,FALSE)","v":{"$error":"#REF!"}},{"$f":"VLOOKUP($B220,#REF!,5,FALSE)","v":{"$error":"#REF!"}},{"$f":"VLOOKUP($B220,#REF!,6,FALSE)","v":{"$error":"#REF!"}},"-",{"$error":"#REF!"},null,{"$f":"VLOOKUP($B220,#REF!,13,FALSE)","v":{"$error":"#REF!"}},{"$f":"VLOOKUP($B220,#REF!,10,FALSE)","v":{"$error":"#REF!"}},{"$f":"VLOOKUP($B220,#REF!,17,FALSE)","v":{"$error":"#REF!"}},{"$f":"IFERROR(VLOOKUP($B220,#REF!,2,FALSE),\"-\")","v":"-"}]
[null,218,{"$f":"VLOOKUP($B221,#REF!,2,FALSE)","v":{"$error":"#REF!"}},{"$f":"VLOOKUP($B221,#REF!,3,FALSE)","v":{"$error":"#REF!"}},{"$f":"VLOOKUP($B221,#REF!,5,FALSE)","v":{"$error":"#REF!"}},{"$f":"VLOOKUP($B221,#REF!,6,FALSE)","v":{"$error":"#REF!"}},"-",{"$error":"#REF!"},null,{"$f":"VLOOKUP($B221,#REF!,13,FALSE)","v":{"$error":"#REF!"}},{"$f":"VLOOKUP($B221,#REF!,10,FALSE)","v":{"$error":"#REF!"}},{"$f":"VLOOKUP($B221,#REF!,17,FALSE)","v":{"$error":"#REF!"}},{"$f":"IFERROR(VLOOKUP($B221,#REF!,2,FALSE),\"-\")","v":"-"}]
[null,219,{"$f":"VLOOKUP($B222,#REF!,2,FALSE)","v":{"$error":"#REF!"}},{"$f":"VLOOKUP($B222,#REF!,3,FALSE)","v":{"$error":"#REF!"}},{"$f":"VLOOKUP($B222,#REF!,5,FALSE)","v":{"$error":"#REF!"}},{"$f":"VLOOKUP($B222,#REF!,6,FALSE)","v":{"$error":"#REF!"}},"-",{"$error":"#REF!"},null,{"$f":"VLOOKUP($B222,#REF!,13,FALSE)","v":{"$error":"#REF!"}},{"$f":"VLOOKUP($B222,#REF!,10,FALSE)","v":{"$error":"#REF!"}},{"$f":"VLOOKUP($B222,#REF!,17,FALSE)","v":{"$error":"#REF!"}},{"$f":"IFERROR(VLOOKUP($B222,#REF!,2,FALSE),\"-\")","v":"-"}]
[null,220,{"$f":"VLOOKUP($B223,#REF!,2,FALSE)","v":{"$error":"#REF!"}},{"$f":"VLOOKUP($B223,#REF!,3,FALSE)","v":{"$error":"#REF!"}},{"$f":"VLOOKUP($B223,#REF!,5,FALSE)","v":{"$error":"#REF!"}},{"$f":"VLOOKUP($B223,#REF!,6,FALSE)","v":{"$error":"#REF!"}},"-",{"$error":"#REF!"},null,{"$f":"VLOOKUP($B223,#REF!,13,FALSE)","v":{"$error":"#REF!"}},{"$f":"VLOOKUP($B223,#REF!,10,FALSE)","v":{"$error":"#REF!"}},{"$f":"VLOOKUP($B223,#REF!,17,FALSE)","v":{"$error":"#REF!"}},{"$f":"IFERROR(VLOOKUP($B223,#REF!,2,FALSE),\"-\")","v":"-"}]
[null,221,{"$f":"VLOOKUP($B224,#REF!,2,FALSE)","v":{"$error":"#REF!"}},{"$f":"VLOOKUP($B224,#REF!,3,FALSE)","v":{"$error":"#REF!"}},{"$f":"VLOOKUP($B224,#REF!,5,FALSE)","v":{"$error":"#REF!"}},{"$f":"VLOOKUP($B224,#REF!,6,FALSE)","v":{"$error":"#REF!"}},"-",{"$error":"#REF!"},null,{"$f":"VLOOKUP($B224,#REF!,13,FALSE)","v":{"$error":"#REF!"}},{"$f":"VLOOKUP($B224,#REF!,10,FALSE)","v":{"$error":"#REF!"}},{"$f":"VLOOKUP($B224,#REF!,17,FALSE)","v":{"$error":"#REF!"}},{"$f":"IFERROR(VLOOKUP($B224,#REF!,2,FALSE),\"-\")","v":"-"}]
[null,222,{"$f":"VLOOKUP($B225,#REF!,2,FALSE)","v":{"$error":"#REF!"}},{"$f":"VLOOKUP($B225,#REF!,3,FALSE)","v":{"$error":"#REF!"}},{"$f":"VLOOKUP($B225,#REF!,5,FALSE)","v":{"$error":"#REF!"}},{"$f":"VLOOKUP($B225,#REF!,6,FALSE)","v":{"$error":"#REF!"}},"-",{"$error":"#REF!"},null,{"$f":"VLOOKUP($B225,#REF!,13,FALSE)","v":{"$error":"#REF!"}},{"$f":"VLOOKUP($B225,#REF!,10,FALSE)","v":{"$error":"#REF!"}},{"$f":"VLOOKUP($B225,#REF!,17,FALSE)","v":{"$error":"#REF!"}},{"$f":"IFERROR(VLOOKUP($B225,#REF!,2,FALSE),\"-\")","v":"-"}]
[null,223,{"$f":"VLOOKUP($B226,#REF!,2,FALSE)","v":{"$error":"#REF!"}},{"$f":"VLOOKUP($B226,#REF!,3,FALSE)","v":{"$error":"#REF!"}},{"$f":"VLOOKUP($B226,#REF!,5,FALSE)","v":{"$error":"#REF!"}},{"$f":"VLOOKUP($B226,#REF!,6,FALSE)","v":{"$error":"#REF!"}},"-",{"$error":"#REF!"},null,{"$f":"VLOOKUP($B226,#REF!,13,FALSE)","v":{"$error":"#REF!"}},{"$f":"VLOOKUP($B226,#REF!,10,FALSE)","v":{"$error":"#REF!"}},{"$f":"VLOOKUP($B226,#REF!,17,FALSE)","v":{"$error":"#REF!"}},{"$f":"IFERROR(VLOOKUP($B226,#REF!,2,FALSE),\"-\")","v":"-"}]
[null,224,{"$f":"VLOOKUP($B227,#REF!,2,FALSE)","v":{"$error":"#REF!"}},{"$f":"VLOOKUP($B227,#REF!,3,FALSE)","v":{"$error":"#REF!"}},{"$f":"VLOOKUP($B227,#REF!,5,FALSE)","v":{"$error":"#REF!"}},{"$f":"VLOOKUP($B227,#REF!,6,FALSE)","v":{"$error":"#REF!"}},"-",{"$error":"#REF!"},null,{"$f":"VLOOKUP($B227,#REF!,13,FALSE)","v":{"$error":"#REF!"}},{"$f":"VLOOKUP($B227,#REF!,10,FALSE)","v":{"$error":"#REF!"}},{"$f":"VLOOKUP($B227,#REF!,17,FALSE)","v":{"$error":"#REF!"}},{"$f":"IFERROR(VLOOKUP($B227,#REF!,2,FALSE),\"-\")","v":"-"}]
[null,225,{"$f":"VLOOKUP($B228,#REF!,2,FALSE)","v":{"$error":"#REF!"}},{"$f":"VLOOKUP($B228,#REF!,3,FALSE)","v":{"$error":"#REF!"}},{"$f":"VLOOKUP($B228,#REF!,5,FALSE)","v":{"$error":"#REF!"}},{"$f":"VLOOKUP($B228,#REF!,6,FALSE)","v":{"$error":"#REF!"}},"-",{"$error":"#REF!"},null,{"$f":"VLOOKUP($B228,#REF!,13,FALSE)","v":{"$error":"#REF!"}},{"$f":"VLOOKUP($B228,#REF!,10,FALSE)","v":{"$error":"#REF!"}},{"$f":"VLOOKUP($B228,#REF!,17,FALSE)","v":{"$error":"#REF!"}},{"$f":"IFERROR(VLOOKUP($B228,#REF!,2,FALSE),\"-\")","v":"-"}]
[null,226,{"$f":"VLOOKUP($B229,#REF!,2,FALSE)","v":{"$error":"#REF!"}},{"$f":"VLOOKUP($B229,#REF!,3,FALSE)","v":{"$error":"#REF!"}},{"$f":"VLOOKUP($B229,#REF!,5,FALSE)","v":{"$error":"#REF!"}},{"$f":"VLOOKUP($B229,#REF!,6,FALSE)","v":{"$error":"#REF!"}},"-",{"$error":"#REF!"},null,{"$f":"VLOOKUP($B229,#REF!,13,FALSE)","v":{"$error":"#REF!"}},{"$f":"VLOOKUP($B229,#REF!,10,FALSE)","v":{"$error":"#REF!"}},{"$f":"VLOOKUP($B229,#REF!,17,FALSE)","v":{"$error":"#REF!"}},{"$f":"IFERROR(VLOOKUP($B229,#REF!,2,FALSE),\"-\")","v":"-"}]
[null,227,{"$f":"VLOOKUP($B230,#REF!,2,FALSE)","v":{"$error":"#REF!"}},{"$f":"VLOOKUP($B230,#REF!,3,FALSE)","v":{"$error":"#REF!"}},{"$f":"VLOOKUP($B230,#REF!,5,FALSE)","v":{"$error":"#REF!"}},{"$f":"VLOOKUP($B230,#REF!,6,FALSE)","v":{"$error":"#REF!"}},"-",{"$error":"#REF!"},null,{"$f":"VLOOKUP($B230,#REF!,13,FALSE)","v":{"$error":"#REF!"}},{"$f":"VLOOKUP($B230,#REF!,10,FALSE)","v":{"$error":"#REF!"}},{"$f":"VLOOKUP($B230,#REF!,17,FALSE)","v":{"$error":"#REF!"}},{"$f":"IFERROR(VLOOKUP($B230,#REF!,2,FALSE),\"-\")","v":"-"}]
[null,228,{"$f":"VLOOKUP($B231,#REF!,2,FALSE)","v":{"$error":"#REF!"}},{"$f":"VLOOKUP($B231,#REF!,3,FALSE)","v":{"$error":"#REF!"}},{"$f":"VLOOKUP($B231,#REF!,5,FALSE)","v":{"$error":"#REF!"}},{"$f":"VLOOKUP($B231,#REF!,6,FALSE)","v":{"$error":"#REF!"}},"-",{"$error":"#REF!"},null,{"$f":"VLOOKUP($B231,#REF!,13,FALSE)","v":{"$error":"#REF!"}},{"$f":"VLOOKUP($B231,#REF!,10,FALSE)","v":{"$error":"#REF!"}},{"$f":"VLOOKUP($B231,#REF!,17,FALSE)","v":{"$error":"#REF!"}},{"$f":"IFERROR(VLOOKUP($B231,#REF!,2,FALSE),\"-\")","v":"-"}]
[null,229,{"$f":"VLOOKUP($B232,#REF!,2,FALSE)","v":{"$error":"#REF!"}},{"$f":"VLOOKUP($B232,#REF!,3,FALSE)","v":{"$error":"#REF!"}},{"$f":"VLOOKUP($B232,#REF!,5,FALSE)","v":{"$error":"#REF!"}},{"$f":"VLOOKUP($B232,#REF!,6,FALSE)","v":{"$error":"#REF!"}},"-",{"$error":"#REF!"},null,{"$f":"VLOOKUP($B232,#REF!,13,FALSE)","v":{"$error":"#REF!"}},{"$f":"VLOOKUP($B232,#REF!,10,FALSE)","v":{"$error":"#REF!"}},{"$f":"VLOOKUP($B232,#REF!,17,FALSE)","v":{"$error":"#REF!"}},{"$f":"IFERROR(VLOOKUP($B232,#REF!,2,FALSE),\"-\")","v":"-"}]
[null,230,{"$f":"VLOOKUP($B233,#REF!,2,FALSE)","v":{"$error":"#REF!"}},{"$f":"VLOOKUP($B233,#REF!,3,FALSE)","v":{"$error":"#REF!"}},{"$f":"VLOOKUP($B233,#REF!,5,FALSE)","v":{"$error":"#REF!"}},{"$f":"VLOOKUP($B233,#REF!,6,FALSE)","v":{"$error":"#REF!"}},"-",{"$error":"#REF!"},null,{"$f":"VLOOKUP($B233,#REF!,13,FALSE)","v":{"$error":"#REF!"}},{"$f":"VLOOKUP($B233,#REF!,10,FALSE)","v":{"$error":"#REF!"}},{"$f":"VLOOKUP($B233,#REF!,17,FALSE)","v":{"$error":"#REF!"}},{"$f":"IFERROR(VLOOKUP($B233,#REF!,2,FALSE),\"-\")","v":"-"}]
[null,231,{"$f":"VLOOKUP($B234,#REF!,2,FALSE)","v":{"$error":"#REF!"}},{"$f":"VLOOKUP($B234,#REF!,3,FALSE)","v":{"$error":"#REF!"}},{"$f":"VLOOKUP($B234,#REF!,5,FALSE)","v":{"$error":"#REF!"}},{"$f":"VLOOKUP($B234,#REF!,6,FALSE)","v":{"$error":"#REF!"}},"-",{"$error":"#REF!"},null,{"$f":"VLOOKUP($B234,#REF!,13,FALSE)","v":{"$error":"#REF!"}},{"$f":"VLOOKUP($B234,#REF!,10,FALSE)","v":{"$error":"#REF!"}},{"$f":"VLOOKUP($B234,#REF!,17,FALSE)","v":{"$error":"#REF!"}},{"$f":"IFERROR(VLOOKUP($B234,#REF!,2,FALSE),\"-\")","v":"-"}]
[null,232,{"$f":"VLOOKUP($B235,#REF!,2,FALSE)","v":{"$error":"#REF!"}},{"$f":"VLOOKUP($B235,#REF!,3,FALSE)","v":{"$error":"#REF!"}},{"$f":"VLOOKUP($B235,#REF!,5,FALSE)","v":{"$error":"#REF!"}},{"$f":"VLOOKUP($B235,#REF!,6,FALSE)","v":{"$error":"#REF!"}},"-",{"$error":"#REF!"},null,{"$f":"VLOOKUP($B235,#REF!,13,FALSE)","v":{"$error":"#REF!"}},{"$f":"VLOOKUP($B235,#REF!,10,FALSE)","v":{"$error":"#REF!"}},{"$f":"VLOOKUP($B235,#REF!,17,FALSE)","v":{"$error":"#REF!"}},{"$f":"IFERROR(VLOOKUP($B235,#REF!,2,FALSE),\"-\")","v":"-"}]
[null,233,{"$f":"VLOOKUP($B236,#REF!,2,FALSE)","v":{"$error":"#REF!"}},{"$f":"VLOOKUP($B236,#REF!,3,FALSE)","v":{"$error":"#REF!"}},{"$f":"VLOOKUP($B236,#REF!,5,FALSE)","v":{"$error":"#REF!"}},{"$f":"VLOOKUP($B236,#REF!,6,FALSE)","v":{"$error":"#REF!"}},"-",{"$error":"#REF!"},null,{"$f":"VLOOKUP($B236,#REF!,13,FALSE)","v":{"$error":"#REF!"}},{"$f":"VLOOKUP($B236,#REF!,10,FALSE)","v":{"$error":"#REF!"}},{"$f":"VLOOKUP($B236,#REF!,17,FALSE)","v":{"$error":"#REF!"}},{"$f":"IFERROR(VLOOKUP($B236,#REF!,2,FALSE),\"-\")","v":"-"}]
[null,234,{"$f":"VLOOKUP($B237,#REF!,2,FALSE)","v":{"$error":"#REF!"}},{"$f":"VLOOKUP($B237,#REF!,3,FALSE)","v":{"$error":"#REF!"}},{"$f":"VLOOKUP($B237,#REF!,5,FALSE)","v":{"$error":"#REF!"}},{"$f":"VLOOKUP($B237,#REF!,6,FALSE)","v":{"$error":"#REF!"}},"-",{"$error":"#REF!"},null,{"$f":"VLOOKUP($B237,#REF!,13,FALSE)","v":{"$error":"#REF!"}},{"$f":"VLOOKUP($B237,#REF!,10,FALSE)","v":{"$error":"#REF!"}},{"$f":"VLOOKUP($B237,#REF!,17,FALSE)","v":{"$error":"#REF!"}},{"$f":"IFERROR(VLOOKUP($B237,#REF!,2,FALSE),\"-\")","v":"-"}]
[null,235,{"$f":"VLOOKUP($B238,#REF!,2,FALSE)","v":{"$error":"#REF!"}},{"$f":"VLOOKUP($B238,#REF!,3,FALSE)","v":{"$error":"#REF!"}},{"$f":"VLOOKUP($B238,#REF!,5,FALSE)","v":{"$error":"#REF!"}},{"$f":"VLOOKUP($B238,#REF!,6,FALSE)","v":{"$error":"#REF!"}},"-",{"$error":"#REF!"},null,{"$f":"VLOOKUP($B238,#REF!,13,FALSE)","v":{"$error":"#REF!"}},{"$f":"VLOOKUP($B238,#REF!,10,FALSE)","v":{"$error":"#REF!"}},{"$f":"VLOOKUP($B238,#REF!,17,FALSE)","v":{"$error":"#REF!"}},{"$f":"IFERROR(VLOOKUP($B238,#REF!,2,FALSE),\"-\")","v":"-"}]
[null,236,{"$f":"VLOOKUP($B239,#REF!,2,FALSE)","v":{"$error":"#REF!"}},{"$f":"VLOOKUP($B239,#REF!,3,FALSE)","v":{"$error":"#REF!"}},{"$f":"VLOOKUP($B239,#REF!,5,FALSE)","v":{"$error":"#REF!"}},{"$f":"VLOOKUP($B239,#REF!,6,FALSE)","v":{"$error":"#REF!"}},"-",{"$error":"#REF!"},null,{"$f":"VLOOKUP($B239,#REF!,13,FALSE)","v":{"$error":"#REF!"}},{"$f":"VLOOKUP($B239,#REF!,10,FALSE)","v":{"$error":"#REF!"}},{"$f":"VLOOKUP($B239,#REF!,17,FALSE)","v":{"$error":"#REF!"}},{"$f":"IFERROR(VLOOKUP($B239,#REF!,2,FALSE),\"-\")","v":"-"}]
[null,237,{"$f":"VLOOKUP($B240,#REF!,2,FALSE)","v":{"$error":"#REF!"}},{"$f":"VLOOKUP($B240,#REF!,3,FALSE)","v":{"$error":"#REF!"}},{"$f":"VLOOKUP($B240,#REF!,5,FALSE)","v":{"$error":"#REF!"}},{"$f":"VLOOKUP($B240,#REF!,6,FALSE)","v":{"$error":"#REF!"}},"-",{"$error":"#REF!"},null,{"$f":"VLOOKUP($B240,#REF!,13,FALSE)","v":{"$error":"#REF!"}},{"$f":"VLOOKUP($B240,#REF!,10,FALSE)","v":{"$error":"#REF!"}},{"$f":"VLOOKUP($B240,#REF!,17,FALSE)","v":{"$error":"#REF!"}},{"$f":"IFERROR(VLOOKUP($B240,#REF!,2,FALSE),\"-\")","v":"-"}]
[null,238,{"$f":"VLOOKUP($B241,#REF!,2,FALSE)","v":{"$error":"#REF!"}},{"$f":"VLOOKUP($B241,#REF!,3,FALSE)","v":{"$error":"#REF!"}},{"$f":"VLOOKUP($B241,#REF!,5,FALSE)","v":{"$error":"#REF!"}},{"$f":"VLOOKUP($B241,#REF!,6,FALSE)","v":{"$error":"#REF!"}},"-",{"$error":"#REF!"},null,{"$f":"VLOOKUP($B241,#REF!,13,FALSE)","v":{"$error":"#REF!"}},{"$f":"VLOOKUP($B241,#REF!,10,FALSE)","v":{"$error":"#REF!"}},{"$f":"VLOOKUP($B241,#REF!,17,FALSE)","v":{"$error":"#REF!"}},{"$f":"IFERROR(VLOOKUP($B241,#REF!,2,FALSE),\"-\")","v":"-"}]
[null,239,{"$f":"VLOOKUP($B242,#REF!,2,FALSE)","v":{"$error":"#REF!"}},{"$f":"VLOOKUP($B242,#REF!,3,FALSE)","v":{"$error":"#REF!"}},{"$f":"VLOOKUP($B242,#REF!,5,FALSE)","v":{"$error":"#REF!"}},{"$f":"VLOOKUP($B242,#REF!,6,FALSE)","v":{"$error":"#REF!"}},"-",{"$error":"#REF!"},null,{"$f":"VLOOKUP($B242,#REF!,13,FALSE)","v":{"$error":"#REF!"}},{"$f":"VLOOKUP($B242,#REF!,10,FALSE)","v":{"$error":"#REF!"}},{"$f":"VLOOKUP($B242,#REF!,17,FALSE)","v":{"$error":"#REF!"}},{"$f":"IFERROR(VLOOKUP($B242,#REF!,2,FALSE),\"-\")","v":"-"}]
[null,240,{"$f":"VLOOKUP($B243,#REF!,2,FALSE)","v":{"$error":"#REF!"}},{"$f":"VLOOKUP($B243,#REF!,3,FALSE)","v":{"$error":"#REF!"}},{"$f":"VLOOKUP($B243,#REF!,5,FALSE)","v":{"$error":"#REF!"}},{"$f":"VLOOKUP($B243,#REF!,6,FALSE)","v":{"$error":"#REF!"}},"-",{"$error":"#REF!"},null,{"$f":"VLOOKUP($B243,#REF!,13,FALSE)","v":{"$error":"#REF!"}},{"$f":"VLOOKUP($B243,#REF!,10,FALSE)","v":{"$error":"#REF!"}},{"$f":"VLOOKUP($B243,#REF!,17,FALSE)","v":{"$error":"#REF!"}},{"$f":"IFERROR(VLOOKUP($B243,#REF!,2,FALSE),\"-\")","v":"-"}]
[null,241,{"$f":"VLOOKUP($B244,#REF!,2,FALSE)","v":{"$error":"#REF!"}},{"$f":"VLOOKUP($B244,#REF!,3,FALSE)","v":{"$error":"#REF!"}},{"$f":"VLOOKUP($B244,#REF!,5,FALSE)","v":{"$error":"#REF!"}},{"$f":"VLOOKUP($B244,#REF!,6,FALSE)","v":{"$error":"#REF!"}},"-",{"$error":"#REF!"},null,{"$f":"VLOOKUP($B244,#REF!,13,FALSE)","v":{"$error":"#REF!"}},{"$f":"VLOOKUP($B244,#REF!,10,FALSE)","v":{"$error":"#REF!"}},{"$f":"VLOOKUP($B244,#REF!,17,FALSE)","v":{"$error":"#REF!"}},{"$f":"IFERROR(VLOOKUP($B244,#REF!,2,FALSE),\"-\")","v":"-"}]
[null,242,{"$f":"VLOOKUP($B245,#REF!,2,FALSE)","v":{"$error":"#REF!"}},{"$f":"VLOOKUP($B245,#REF!,3,FALSE)","v":{"$error":"#REF!"}},{"$f":"VLOOKUP($B245,#REF!,5,FALSE)","v":{"$error":"#REF!"}},{"$f":"VLOOKUP($B245,#REF!,6,FALSE)","v":{"$error":"#REF!"}},"-",{"$error":"#REF!"},null,{"$f":"VLOOKUP($B245,#REF!,13,FALSE)","v":{"$error":"#REF!"}},{"$f":"VLOOKUP($B245,#REF!,10,FALSE)","v":{"$error":"#REF!"}},{"$f":"VLOOKUP($B245,#REF!,17,FALSE)","v":{"$error":"#REF!"}},{"$f":"IFERROR(VLOOKUP($B245,#REF!,2,FALSE),\"-\")","v":"-"}]
[null,243,{"$f":"VLOOKUP($B246,#REF!,2,FALSE)","v":{"$error":"#REF!"}},{"$f":"VLOOKUP($B246,#REF!,3,FALSE)","v":{"$error":"#REF!"}},{"$f":"VLOOKUP($B246,#REF!,5,FALSE)","v":{"$error":"#REF!"}},{"$f":"VLOOKUP($B246,#REF!,6,FALSE)","v":{"$error":"#REF!"}},"-",{"$error":"#REF!"},null,{"$f":"VLOOKUP($B246,#REF!,13,FALSE)","v":{"$error":"#REF!"}},{"$f":"VLOOKUP($B246,#REF!,10,FALSE)","v":{"$error":"#REF!"}},{"$f":"VLOOKUP($B246,#REF!,17,FALSE)","v":{"$error":"#REF!"}},{"$f":"IFERROR(VLOOKUP($B246,#REF!,2,FALSE),\"-\")","v":"-"}]
[null,244,{"$f":"VLOOKUP($B247,#REF!,2,FALSE)","v":{"$error":"#REF!"}},{"$f":"VLOOKUP($B247,#REF!,3,FALSE)","v":{"$error":"#REF!"}},{"$f":"VLOOKUP($B247,#REF!,5,FALSE)","v":{"$error":"#REF!"}},{"$f":"VLOOKUP($B247,#REF!,6,FALSE)","v":{"$error":"#REF!"}},"-",{"$error":"#REF!"},null,{"$f":"VLOOKUP($B247,#REF!,13,FALSE)","v":{"$error":"#REF!"}},{"$f":"VLOOKUP($B247,#REF!,10,FALSE)","v":{"$error":"#REF!"}},{"$f":"VLOOKUP($B247,#REF!,17,FALSE)","v":{"$error":"#REF!"}},{"$f":"IFERROR(VLOOKUP($B247,#REF!,2,FALSE),\"-\")","v":"-"}]
[null,245,{"$f":"VLOOKUP($B248,#REF!,2,FALSE)","v":{"$error":"#REF!"}},{"$f":"VLOOKUP($B248,#REF!,3,FALSE)","v":{"$error":"#REF!"}},{"$f":"VLOOKUP($B248,#REF!,5,FALSE)","v":{"$error":"#REF!"}},{"$f":"VLOOKUP($B248,#REF!,6,FALSE)","v":{"$error":"#REF!"}},"-",{"$error":"#REF!"},null,{"$f":"VLOOKUP($B248,#REF!,13,FALSE)","v":{"$error":"#REF!"}},{"$f":"VLOOKUP($B248,#REF!,10,FALSE)","v":{"$error":"#REF!"}},{"$f":"VLOOKUP($B248,#REF!,17,FALSE)","v":{"$error":"#REF!"}},{"$f":"IFERROR(VLOOKUP($B248,#REF!,2,FALSE),\"-\")","v":"-"}]
[null,246,{"$f":"VLOOKUP($B249,#REF!,2,FALSE)","v":{"$error":"#REF!"}},{"$f":"VLOOKUP($B249,#REF!,3,FALSE)","v":{"$error":"#REF!"}},{"$f":"VLOOKUP($B249,#REF!,5,FALSE)","v":{"$error":"#REF!"}},{"$f":"VLOOKUP($B249,#REF!,6,FALSE)","v":{"$error":"#REF!"}},"-",{"$error":"#REF!"},null,{"$f":"VLOOKUP($B249,#REF!,13,FALSE)","v":{"$error":"#REF!"}},{"$f":"VLOOKUP($B249,#REF!,10,FALSE)","v":{"$error":"#REF!"}},{"$f":"VLOOKUP($B249,#REF!,17,FALSE)","v":{"$error":"#REF!"}},{"$f":"IFERROR(VLOOKUP($B249,#REF!,2,FALSE),\"-\")","v":"-"}]
[null,247,{"$f":"VLOOKUP($B250,#REF!,2,FALSE)","v":{"$error":"#REF!"}},{"$f":"VLOOKUP($B250,#REF!,3,FALSE)","v":{"$error":"#REF!"}},{"$f":"VLOOKUP($B250,#REF!,5,FALSE)","v":{"$error":"#REF!"}},{"$f":"VLOOKUP($B250,#REF!,6,FALSE)","v":{"$error":"#REF!"}},"-",{"$error":"#REF!"},null,{"$f":"VLOOKUP($B250,#REF!,13,FALSE)","v":{"$error":"#REF!"}},{"$f":"VLOOKUP($B250,#REF!,10,FALSE)","v":{"$error":"#REF!"}},{"$f":"VLOOKUP($B250,#REF!,17,FALSE)","v":{"$error":"#REF!"}},{"$f":"IFERROR(VLOOKUP($B250,#REF!,2,FALSE),\"-\")","v":"-"}]
[null,248,{"$f":"VLOOKUP($B251,#REF!,2,FALSE)","v":{"$error":"#REF!"}},{"$f":"VLOOKUP($B251,#REF!,3,FALSE)","v":{"$error":"#REF!"}},{"$f":"VLOOKUP($B251,#REF!,5,FALSE)","v":{"$error":"#REF!"}},{"$f":"VLOOKUP($B251,#REF!,6,FALSE)","v":{"$error":"#REF!"}},"-",{"$error":"#REF!"},null,{"$f":"VLOOKUP($B251,#REF!,13,FALSE)","v":{"$error":"#REF!"}},{"$f":"VLOOKUP($B251,#REF!,10,FALSE)","v":{"$error":"#REF!"}},{"$f":"VLOOKUP($B251,#REF!,17,FALSE)","v":{"$error":"#REF!"}},{"$f":"IFERROR(VLOOKUP($B251,#REF!,2,FALSE),\"-\")","v":"-"}]
[null,249,{"$f":"VLOOKUP($B252,#REF!,2,FALSE)","v":{"$error":"#REF!"}},{"$f":"VLOOKUP($B252,#REF!,3,FALSE)","v":{"$error":"#REF!"}},{"$f":"VLOOKUP($B252,#REF!,5,FALSE)","v":{"$error":"#REF!"}},{"$f":"VLOOKUP($B252,#REF!,6,FALSE)","v":{"$error":"#REF!"}},"-",{"$error":"#REF!"},null,{"$f":"VLOOKUP($B252,#REF!,13,FALSE)","v":{"$error":"#REF!"}},{"$f":"VLOOKUP($B252,#REF!,10,FALSE)","v":{"$error":"#REF!"}},{"$f":"VLOOKUP($B252,#REF!,17,FALSE)","v":{"$error":"#REF!"}},{"$f":"IFERROR(VLOOKUP($B252,#REF!,2,FALSE),\"-\")","v":"-"}]
[null,250,{"$f":"VLOOKUP($B253,#REF!,2,FALSE)","v":{"$error":"#REF!"}},{"$f":"VLOOKUP($B253,#REF!,3,FALSE)","v":{"$error":"#REF!"}},{"$f":"VLOOKUP($B253,#REF!,5,FALSE)","v":{"$error":"#REF!"}},{"$f":"VLOOKUP($B253,#REF!,6,FALSE)","v":{"$error":"#REF!"}},"-",{"$error":"#REF!"},null,{"$f":"VLOOKUP($B253,#REF!,13,FALSE)","v":{"$error":"#REF!"}},{"$f":"VLOOKUP($B253,#REF!,10,FALSE)","v":{"$error":"#REF!"}},{"$f":"VLOOKUP($B253,#REF!,17,FALSE)","v":{"$error":"#REF!"}},{"$f":"IFERROR(VLOOKUP($B253,#REF!,2,FALSE),\"-\")","v":"-"}]
[null,251,{"$f":"VLOOKUP($B254,#REF!,2,FALSE)","v":{"$error":"#REF!"}},{"$f":"VLOOKUP($B254,#REF!,3,FALSE)","v":{"$error":"#REF!"}},{"$f":"VLOOKUP($B254,#REF!,5,FALSE)","v":{"$error":"#REF!"}},{"$f":"VLOOKUP($B254,#REF!,6,FALSE)","v":{"$error":"#REF!"}},"-",{"$error":"#REF!"},null,{"$f":"VLOOKUP($B254,#REF!,13,FALSE)","v":{"$error":"#REF!"}},{"$f":"VLOOKUP($B254,#REF!,10,FALSE)","v":{"$error":"#REF!"}},{"$f":"VLOOKUP($B254,#REF!,17,FALSE)","v":{"$error":"#REF!"}},{"$f":"IFERROR(VLOOKUP($B254,#REF!,2,FALSE),\"-\")","v":"-"}]
[null,252,{"$f":"VLOOKUP($B255,#REF!,2,FALSE)","v":{"$error":"#REF!"}},{"$f":"VLOOKUP($B255,#REF!,3,FALSE)","v":{"$error":"#REF!"}},{"$f":"VLOOKUP($B255,#REF!,5,FALSE)","v":{"$error":"#REF!"}},{"$f":"VLOOKUP($B255,#REF!,6,FALSE)","v":{"$error":"#REF!"}},"-",{"$error":"#REF!"},null,{"$f":"VLOOKUP($B255,#REF!,13,FALSE)","v":{"$error":"#REF!"}},{"$f":"VLOOKUP($B255,#REF!,10,FALSE)","v":{"$error":"#REF!"}},{"$f":"VLOOKUP($B255,#REF!,17,FALSE)","v":{"$error":"#REF!"}},{"$f":"IFERROR(VLOOKUP($B255,#REF!,2,FALSE),\"-\")","v":"-"}]
[null,253,{"$f":"VLOOKUP($B256,#REF!,2,FALSE)","v":{"$error":"#REF!"}},{"$f":"VLOOKUP($B256,#REF!,3,FALSE)","v":{"$error":"#REF!"}},{"$f":"VLOOKUP($B256,#REF!,5,FALSE)","v":{"$error":"#REF!"}},{"$f":"VLOOKUP($B256,#REF!,6,FALSE)","v":{"$error":"#REF!"}},"-",{"$error":"#REF!"},null,{"$f":"VLOOKUP($B256,#REF!,13,FALSE)","v":{"$error":"#REF!"}},{"$f":"VLOOKUP($B256,#REF!,10,FALSE)","v":{"$error":"#REF!"}},{"$f":"VLOOKUP($B256,#REF!,17,FALSE)","v":{"$error":"#REF!"}},{"$f":"IFERROR(VLOOKUP($B256,#REF!,2,FALSE),\"-\")","v":"-"}]
[null,254,{"$f":"VLOOKUP($B257,#REF!,2,FALSE)","v":{"$error":"#REF!"}},{"$f":"VLOOKUP($B257,#REF!,3,FALSE)","v":{"$error":"#REF!"}},{"$f":"VLOOKUP($B257,#REF!,5,FALSE)","v":{"$error":"#REF!"}},{"$f":"VLOOKUP($B257,#REF!,6,FALSE)","v":{"$error":"#REF!"}},"-",{"$error":"#REF!"},null,{"$f":"VLOOKUP($B257,#REF!,13,FALSE)","v":{"$error":"#REF!"}},{"$f":"VLOOKUP($B257,#REF!,10,FALSE)","v":{"$error":"#REF!"}},{"$f":"VLOOKUP($B257,#REF!,17,FALSE)","v":{"$error":"#REF!"}},{"$f":"IFERROR(VLOOKUP($B257,#REF!,2,FALSE),\"-\")","v":"-"}]
[null,255,{"$f":"VLOOKUP($B258,#REF!,2,FALSE)","v":{"$error":"#REF!"}},{"$f":"VLOOKUP($B258,#REF!,3,FALSE)","v":{"$error":"#REF!"}},{"$f":"VLOOKUP($B258,#REF!,5,FALSE)","v":{"$error":"#REF!"}},{"$f":"VLOOKUP($B258,#REF!,6,FALSE)","v":{"$error":"#REF!"}},"-",{"$error":"#REF!"},null,{"$f":"VLOOKUP($B258,#REF!,13,FALSE)","v":{"$error":"#REF!"}},{"$f":"VLOOKUP($B258,#REF!,10,FALSE)","v":{"$error":"#REF!"}},{"$f":"VLOOKUP($B258,#REF!,17,FALSE)","v":{"$error":"#REF!"}},{"$f":"IFERROR(VLOOKUP($B258,#REF!,2,FALSE),\"-\")","v":"-"}]
[null,256,{"$f":"VLOOKUP($B259,#REF!,2,FALSE)","v":{"$error":"#REF!"}},{"$f":"VLOOKUP($B259,#REF!,3,FALSE)","v":{"$error":"#REF!"}},{"$f":"VLOOKUP($B259,#REF!,5,FALSE)","v":{"$error":"#REF!"}},{"$f":"VLOOKUP($B259,#REF!,6,FALSE)","v":{"$error":"#REF!"}},"-",{"$error":"#REF!"},null,{"$f":"VLOOKUP($B259,#REF!,13,FALSE)","v":{"$error":"#REF!"}},{"$f":"VLOOKUP($B259,#REF!,10,FALSE)","v":{"$error":"#REF!"}},{"$f":"VLOOKUP($B259,#REF!,17,FALSE)","v":{"$error":"#REF!"}},{"$f":"IFERROR(VLOOKUP($B259,#REF!,2,FALSE),\"-\")","v":"-"}]
[null,257,{"$f":"VLOOKUP($B260,#REF!,2,FALSE)","v":{"$error":"#REF!"}},{"$f":"VLOOKUP($B260,#REF!,3,FALSE)","v":{"$error":"#REF!"}},{"$f":"VLOOKUP($B260,#REF!,5,FALSE)","v":{"$error":"#REF!"}},{"$f":"VLOOKUP($B260,#REF!,6,FALSE)","v":{"$error":"#REF!"}},{"$f":"IF(M260=1,\"欠席\",IF(M260=9,\"空ﾚｰﾝ\",\"-\"))","v":"-"},{"$error":"#REF!"},null,{"$f":"VLOOKUP($B260,#REF!,13,FALSE)","v":{"$error":"#REF!"}},{"$f":"VLOOKUP($B260,#REF!,10,FALSE)","v":{"$error":"#REF!"}},{"$f":"VLOOKUP($B260,#REF!,17,FALSE)","v":{"$error":"#REF!"}},{"$f":"IFERROR(VLOOKUP($B260,#REF!,2,FALSE),\"-\")","v":"-"}]
[null,258,{"$f":"VLOOKUP($B261,#REF!,2,FALSE)","v":{"$error":"#REF!"}},{"$f":"VLOOKUP($B261,#REF!,3,FALSE)","v":{"$error":"#REF!"}},{"$f":"VLOOKUP($B261,#REF!,5,FALSE)","v":{"$error":"#REF!"}},{"$f":"VLOOKUP($B261,#REF!,6,FALSE)","v":{"$error":"#REF!"}},"-",{"$f":"+C261","v":{"$error":"#REF!"}},null,{"$f":"VLOOKUP($B261,#REF!,13,FALSE)","v":{"$error":"#REF!"}},{"$f":"VLOOKUP($B261,#REF!,10,FALSE)","v":{"$error":"#REF!"}},{"$f":"VLOOKUP($B261,#REF!,17,FALSE)","v":{"$error":"#REF!"}},{"$f":"IFERROR(VLOOKUP($B261,#REF!,2,FALSE),\"-\")","v":"-"}]
[null,259,{"$f":"VLOOKUP($B262,#REF!,2,FALSE)","v":{"$error":"#REF!"}},{"$f":"VLOOKUP($B262,#REF!,3,FALSE)","v":{"$error":"#REF!"}},{"$f":"VLOOKUP($B262,#REF!,5,FALSE)","v":{"$error":"#REF!"}},{"$f":"VLOOKUP($B262,#REF!,6,FALSE)","v":{"$error":"#REF!"}},"-",{"$error":"#REF!"},null,{"$f":"VLOOKUP($B262,#REF!,13,FALSE)","v":{"$error":"#REF!"}},{"$f":"VLOOKUP($B262,#REF!,10,FALSE)","v":{"$error":"#REF!"}},{"$f":"VLOOKUP($B262,#REF!,17,FALSE)","v":{"$error":"#REF!"}},{"$f":"IFERROR(VLOOKUP($B262,#REF!,2,FALSE),\"-\")","v":"-"}]
[null,260,{"$f":"VLOOKUP($B263,#REF!,2,FALSE)","v":{"$error":"#REF!"}},{"$f":"VLOOKUP($B263,#REF!,3,FALSE)","v":{"$error":"#REF!"}},{"$f":"VLOOKUP($B263,#REF!,5,FALSE)","v":{"$error":"#REF!"}},{"$f":"VLOOKUP($B263,#REF!,6,FALSE)","v":{"$error":"#REF!"}},"-",{"$error":"#REF!"},null,{"$f":"VLOOKUP($B263,#REF!,13,FALSE)","v":{"$error":"#REF!"}},{"$f":"VLOOKUP($B263,#REF!,10,FALSE)","v":{"$error":"#REF!"}},{"$f":"VLOOKUP($B263,#REF!,17,FALSE)","v":{"$error":"#REF!"}},{"$f":"IFERROR(VLOOKUP($B263,#REF!,2,FALSE),\"-\")","v":"-"}]
[null,261,{"$f":"VLOOKUP($B264,#REF!,2,FALSE)","v":{"$error":"#REF!"}},{"$f":"VLOOKUP($B264,#REF!,3,FALSE)","v":{"$error":"#REF!"}},{"$f":"VLOOKUP($B264,#REF!,5,FALSE)","v":{"$error":"#REF!"}},{"$f":"VLOOKUP($B264,#REF!,6,FALSE)","v":{"$error":"#REF!"}},"-",{"$error":"#REF!"},null,{"$f":"VLOOKUP($B264,#REF!,13,FALSE)","v":{"$error":"#REF!"}},{"$f":"VLOOKUP($B264,#REF!,10,FALSE)","v":{"$error":"#REF!"}},{"$f":"VLOOKUP($B264,#REF!,17,FALSE)","v":{"$error":"#REF!"}},{"$f":"IFERROR(VLOOKUP($B264,#REF!,2,FALSE),\"-\")","v":"-"}]
[null,262,{"$f":"VLOOKUP($B265,#REF!,2,FALSE)","v":{"$error":"#REF!"}},{"$f":"VLOOKUP($B265,#REF!,3,FALSE)","v":{"$error":"#REF!"}},{"$f":"VLOOKUP($B265,#REF!,5,FALSE)","v":{"$error":"#REF!"}},{"$f":"VLOOKUP($B265,#REF!,6,FALSE)","v":{"$error":"#REF!"}},"-",{"$error":"#REF!"},null,{"$f":"VLOOKUP($B265,#REF!,13,FALSE)","v":{"$error":"#REF!"}},{"$f":"VLOOKUP($B265,#REF!,10,FALSE)","v":{"$error":"#REF!"}},{"$f":"VLOOKUP($B265,#REF!,17,FALSE)","v":{"$error":"#REF!"}},{"$f":"IFERROR(VLOOKUP($B265,#REF!,2,FALSE),\"-\")","v":"-"}]
[null,263,{"$f":"VLOOKUP($B266,#REF!,2,FALSE)","v":{"$error":"#REF!"}},{"$f":"VLOOKUP($B266,#REF!,3,FALSE)","v":{"$error":"#REF!"}},{"$f":"VLOOKUP($B266,#REF!,5,FALSE)","v":{"$error":"#REF!"}},{"$f":"VLOOKUP($B266,#REF!,6,FALSE)","v":{"$error":"#REF!"}},"-",{"$error":"#REF!"},null,{"$f":"VLOOKUP($B266,#REF!,13,FALSE)","v":{"$error":"#REF!"}},{"$f":"VLOOKUP($B266,#REF!,10,FALSE)","v":{"$error":"#REF!"}},{"$f":"VLOOKUP($B266,#REF!,17,FALSE)","v":{"$error":"#REF!"}},{"$f":"IFERROR(VLOOKUP($B266,#REF!,2,FALSE),\"-\")","v":"-"}]
[null,264,{"$f":"VLOOKUP($B267,#REF!,2,FALSE)","v":{"$error":"#REF!"}},{"$f":"VLOOKUP($B267,#REF!,3,FALSE)","v":{"$error":"#REF!"}},{"$f":"VLOOKUP($B267,#REF!,5,FALSE)","v":{"$error":"#REF!"}},{"$f":"VLOOKUP($B267,#REF!,6,FALSE)","v":{"$error":"#REF!"}},"-",{"$error":"#REF!"},null,{"$f":"VLOOKUP($B267,#REF!,13,FALSE)","v":{"$error":"#REF!"}},{"$f":"VLOOKUP($B267,#REF!,10,FALSE)","v":{"$error":"#REF!"}},{"$f":"VLOOKUP($B267,#REF!,17,FALSE)","v":{"$error":"#REF!"}},{"$f":"IFERROR(VLOOKUP($B267,#REF!,2,FALSE),\"-\")","v":"-"}]
[null,265,{"$f":"VLOOKUP($B268,#REF!,2,FALSE)","v":{"$error":"#REF!"}},{"$f":"VLOOKUP($B268,#REF!,3,FALSE)","v":{"$error":"#REF!"}},{"$f":"VLOOKUP($B268,#REF!,5,FALSE)","v":{"$error":"#REF!"}},{"$f":"VLOOKUP($B268,#REF!,6,FALSE)","v":{"$error":"#REF!"}},"-",{"$error":"#REF!"},null,{"$f":"VLOOKUP($B268,#REF!,13,FALSE)","v":{"$error":"#REF!"}},{"$f":"VLOOKUP($B268,#REF!,10,FALSE)","v":{"$error":"#REF!"}},{"$f":"VLOOKUP($B268,#REF!,17,FALSE)","v":{"$error":"#REF!"}},{"$f":"IFERROR(VLOOKUP($B268,#REF!,2,FALSE),\"-\")","v":"-"}]
[null,266,{"$f":"VLOOKUP($B269,#REF!,2,FALSE)","v":{"$error":"#REF!"}},{"$f":"VLOOKUP($B269,#REF!,3,FALSE)","v":{"$error":"#REF!"}},{"$f":"VLOOKUP($B269,#REF!,5,FALSE)","v":{"$error":"#REF!"}},{"$f":"VLOOKUP($B269,#REF!,6,FALSE)","v":{"$error":"#REF!"}},"-",{"$error":"#REF!"},null,{"$f":"VLOOKUP($B269,#REF!,13,FALSE)","v":{"$error":"#REF!"}},{"$f":"VLOOKUP($B269,#REF!,10,FALSE)","v":{"$error":"#REF!"}},{"$f":"VLOOKUP($B269,#REF!,17,FALSE)","v":{"$error":"#REF!"}},{"$f":"IFERROR(VLOOKUP($B269,#REF!,2,FALSE),\"-\")","v":"-"}]
[null,267,{"$f":"VLOOKUP($B270,#REF!,2,FALSE)","v":{"$error":"#REF!"}},{"$f":"VLOOKUP($B270,#REF!,3,FALSE)","v":{"$error":"#REF!"}},{"$f":"VLOOKUP($B270,#REF!,5,FALSE)","v":{"$error":"#REF!"}},{"$f":"VLOOKUP($B270,#REF!,6,FALSE)","v":{"$error":"#REF!"}},"-",{"$error":"#REF!"},null,{"$f":"VLOOKUP($B270,#REF!,13,FALSE)","v":{"$error":"#REF!"}},{"$f":"VLOOKUP($B270,#REF!,10,FALSE)","v":{"$error":"#REF!"}},{"$f":"VLOOKUP($B270,#REF!,17,FALSE)","v":{"$error":"#REF!"}},{"$f":"IFERROR(VLOOKUP($B270,#REF!,2,FALSE),\"-\")","v":"-"}]
[null,268,{"$f":"VLOOKUP($B271,#REF!,2,FALSE)","v":{"$error":"#REF!"}},{"$f":"VLOOKUP($B271,#REF!,3,FALSE)","v":{"$error":"#REF!"}},{"$f":"VLOOKUP($B271,#REF!,5,FALSE)","v":{"$error":"#REF!"}},{"$f":"VLOOKUP($B271,#REF!,6,FALSE)","v":{"$error":"#REF!"}},"-",{"$error":"#REF!"},null,{"$f":"VLOOKUP($B271,#REF!,13,FALSE)","v":{"$error":"#REF!"}},{"$f":"VLOOKUP($B271,#REF!,10,FALSE)","v":{"$error":"#REF!"}},{"$f":"VLOOKUP($B271,#REF!,17,FALSE)","v":{"$error":"#REF!"}},{"$f":"IFERROR(VLOOKUP($B271,#REF!,2,FALSE),\"-\")","v":"-"}]
[null,269,{"$f":"VLOOKUP($B272,#REF!,2,FALSE)","v":{"$error":"#REF!"}},{"$f":"VLOOKUP($B272,#REF!,3,FALSE)","v":{"$error":"#REF!"}},{"$f":"VLOOKUP($B272,#REF!,5,FALSE)","v":{"$error":"#REF!"}},{"$f":"VLOOKUP($B272,#REF!,6,FALSE)","v":{"$error":"#REF!"}},"-",{"$error":"#REF!"},null,{"$f":"VLOOKUP($B272,#REF!,13,FALSE)","v":{"$error":"#REF!"}},{"$f":"VLOOKUP($B272,#REF!,10,FALSE)","v":{"$error":"#REF!"}},{"$f":"VLOOKUP($B272,#REF!,17,FALSE)","v":{"$error":"#REF!"}},{"$f":"IFERROR(VLOOKUP($B272,#REF!,2,FALSE),\"-\")","v":"-"}]
[null,270,{"$f":"VLOOKUP($B273,#REF!,2,FALSE)","v":{"$error":"#REF!"}},{"$f":"VLOOKUP($B273,#REF!,3,FALSE)","v":{"$error":"#REF!"}},{"$f":"VLOOKUP($B273,#REF!,5,FALSE)","v":{"$error":"#REF!"}},{"$f":"VLOOKUP($B273,#REF!,6,FALSE)","v":{"$error":"#REF!"}},"-",{"$error":"#REF!"},null,{"$f":"VLOOKUP($B273,#REF!,13,FALSE)","v":{"$error":"#REF!"}},{"$f":"VLOOKUP($B273,#REF!,10,FALSE)","v":{"$error":"#REF!"}},{"$f":"VLOOKUP($B273,#REF!,17,FALSE)","v":{"$error":"#REF!"}},{"$f":"IFERROR(VLOOKUP($B273,#REF!,2,FALSE),\"-\")","v":"-"}]
[null,271,{"$f":"VLOOKUP($B274,#REF!,2,FALSE)","v":{"$error":"#REF!"}},{"$f":"VLOOKUP($B274,#REF!,3,FALSE)","v":{"$error":"#REF!"}},{"$f":"VLOOKUP($B274,#REF!,5,FALSE)","v":{"$error":"#REF!"}},{"$f":"VLOOKUP($B274,#REF!,6,FALSE)","v":{"$error":"#REF!"}},"-",{"$error":"#REF!"},null,{"$f":"VLOOKUP($B274,#REF!,13,FALSE)","v":{"$error":"#REF!"}},{"$f":"VLOOKUP($B274,#REF!,10,FALSE)","v":{"$error":"#REF!"}},{"$f":"VLOOKUP($B274,#REF!,17,FALSE)","v":{"$error":"#REF!"}},{"$f":"IFERROR(VLOOKUP($B274,#REF!,2,FALSE),\"-\")","v":"-"}]
[null,272,{"$f":"VLOOKUP($B275,#REF!,2,FALSE)","v":{"$error":"#REF!"}},{"$f":"VLOOKUP($B275,#REF!,3,FALSE)","v":{"$error":"#REF!"}},{"$f":"VLOOKUP($B275,#REF!,5,FALSE)","v":{"$error":"#REF!"}},{"$f":"VLOOKUP($B275,#REF!,6,FALSE)","v":{"$error":"#REF!"}},"-",{"$error":"#REF!"},null,{"$f":"VLOOKUP($B275,#REF!,13,FALSE)","v":{"$error":"#REF!"}},{"$f":"VLOOKUP($B275,#REF!,10,FALSE)","v":{"$error":"#REF!"}},{"$f":"VLOOKUP($B275,#REF!,17,FALSE)","v":{"$error":"#REF!"}},{"$f":"IFERROR(VLOOKUP($B275,#REF!,2,FALSE),\"-\")","v":"-"}]
[null,273,{"$f":"VLOOKUP($B276,#REF!,2,FALSE)","v":{"$error":"#REF!"}},{"$f":"VLOOKUP($B276,#REF!,3,FALSE)","v":{"$error":"#REF!"}},{"$f":"VLOOKUP($B276,#REF!,5,FALSE)","v":{"$error":"#REF!"}},{"$f":"VLOOKUP($B276,#REF!,6,FALSE)","v":{"$error":"#REF!"}},"-",{"$error":"#REF!"},null,{"$f":"VLOOKUP($B276,#REF!,13,FALSE)","v":{"$error":"#REF!"}},{"$f":"VLOOKUP($B276,#REF!,10,FALSE)","v":{"$error":"#REF!"}},{"$f":"VLOOKUP($B276,#REF!,17,FALSE)","v":{"$error":"#REF!"}},{"$f":"IFERROR(VLOOKUP($B276,#REF!,2,FALSE),\"-\")","v":"-"}]
[null,274,{"$f":"VLOOKUP($B277,#REF!,2,FALSE)","v":{"$error":"#REF!"}},{"$f":"VLOOKUP($B277,#REF!,3,FALSE)","v":{"$error":"#REF!"}},{"$f":"VLOOKUP($B277,#REF!,5,FALSE)","v":{"$error":"#REF!"}},{"$f":"VLOOKUP($B277,#REF!,6,FALSE)","v":{"$error":"#REF!"}},"-",{"$error":"#REF!"},null,{"$f":"VLOOKUP($B277,#REF!,13,FALSE)","v":{"$error":"#REF!"}},{"$f":"VLOOKUP($B277,#REF!,10,FALSE)","v":{"$error":"#REF!"}},{"$f":"VLOOKUP($B277,#REF!,17,FALSE)","v":{"$error":"#REF!"}},{"$f":"IFERROR(VLOOKUP($B277,#REF!,2,FALSE),\"-\")","v":"-"}]
[null,275,{"$f":"VLOOKUP($B278,#REF!,2,FALSE)","v":{"$error":"#REF!"}},{"$f":"VLOOKUP($B278,#REF!,3,FALSE)","v":{"$error":"#REF!"}},{"$f":"VLOOKUP($B278,#REF!,5,FALSE)","v":{"$error":"#REF!"}},{"$f":"VLOOKUP($B278,#REF!,6,FALSE)","v":{"$error":"#REF!"}},"-",{"$error":"#REF!"},null,{"$f":"VLOOKUP($B278,#REF!,13,FALSE)","v":{"$error":"#REF!"}},{"$f":"VLOOKUP($B278,#REF!,10,FALSE)","v":{"$error":"#REF!"}},{"$f":"VLOOKUP($B278,#REF!,17,FALSE)","v":{"$error":"#REF!"}},{"$f":"IFERROR(VLOOKUP($B278,#REF!,2,FALSE),\"-\")","v":"-"}]
[null,276,{"$f":"VLOOKUP($B279,#REF!,2,FALSE)","v":{"$error":"#REF!"}},{"$f":"VLOOKUP($B279,#REF!,3,FALSE)","v":{"$error":"#REF!"}},{"$f":"VLOOKUP($B279,#REF!,5,FALSE)","v":{"$error":"#REF!"}},{"$f":"VLOOKUP($B279,#REF!,6,FALSE)","v":{"$error":"#REF!"}},"-",{"$error":"#REF!"},null,{"$f":"VLOOKUP($B279,#REF!,13,FALSE)","v":{"$error":"#REF!"}},{"$f":"VLOOKUP($B279,#REF!,10,FALSE)","v":{"$error":"#REF!"}},{"$f":"VLOOKUP($B279,#REF!,17,FALSE)","v":{"$error":"#REF!"}},{"$f":"IFERROR(VLOOKUP($B279,#REF!,2,FALSE),\"-\")","v":"-"}]
[null,277,{"$f":"VLOOKUP($B280,#REF!,2,FALSE)","v":{"$error":"#REF!"}},{"$f":"VLOOKUP($B280,#REF!,3,FALSE)","v":{"$error":"#REF!"}},{"$f":"VLOOKUP($B280,#REF!,5,FALSE)","v":{"$error":"#REF!"}},{"$f":"VLOOKUP($B280,#REF!,6,FALSE)","v":{"$error":"#REF!"}},"-",{"$error":"#REF!"},null,{"$f":"VLOOKUP($B280,#REF!,13,FALSE)","v":{"$error":"#REF!"}},{"$f":"VLOOKUP($B280,#REF!,10,FALSE)","v":{"$error":"#REF!"}},{"$f":"VLOOKUP($B280,#REF!,17,FALSE)","v":{"$error":"#REF!"}},{"$f":"IFERROR(VLOOKUP($B280,#REF!,2,FALSE),\"-\")","v":"-"}]
[null,278,{"$f":"VLOOKUP($B281,#REF!,2,FALSE)","v":{"$error":"#REF!"}},{"$f":"VLOOKUP($B281,#REF!,3,FALSE)","v":{"$error":"#REF!"}},{"$f":"VLOOKUP($B281,#REF!,5,FALSE)","v":{"$error":"#REF!"}},{"$f":"VLOOKUP($B281,#REF!,6,FALSE)","v":{"$error":"#REF!"}},"-",{"$error":"#REF!"},null,{"$f":"VLOOKUP($B281,#REF!,13,FALSE)","v":{"$error":"#REF!"}},{"$f":"VLOOKUP($B281,#REF!,10,FALSE)","v":{"$error":"#REF!"}},{"$f":"VLOOKUP($B281,#REF!,17,FALSE)","v":{"$error":"#REF!"}},{"$f":"IFERROR(VLOOKUP($B281,#REF!,2,FALSE),\"-\")","v":"-"}]
[null,279,{"$f":"VLOOKUP($B282,#REF!,2,FALSE)","v":{"$error":"#REF!"}},{"$f":"VLOOKUP($B282,#REF!,3,FALSE)","v":{"$error":"#REF!"}},{"$f":"VLOOKUP($B282,#REF!,5,FALSE)","v":{"$error":"#REF!"}},{"$f":"VLOOKUP($B282,#REF!,6,FALSE)","v":{"$error":"#REF!"}},"-",{"$error":"#REF!"},null,{"$f":"VLOOKUP($B282,#REF!,13,FALSE)","v":{"$error":"#REF!"}},{"$f":"VLOOKUP($B282,#REF!,10,FALSE)","v":{"$error":"#REF!"}},{"$f":"VLOOKUP($B282,#REF!,17,FALSE)","v":{"$error":"#REF!"}},{"$f":"IFERROR(VLOOKUP($B282,#REF!,2,FALSE),\"-\")","v":"-"}]
[null,280,{"$f":"VLOOKUP($B283,#REF!,2,FALSE)","v":{"$error":"#REF!"}},{"$f":"VLOOKUP($B283,#REF!,3,FALSE)","v":{"$error":"#REF!"}},{"$f":"VLOOKUP($B283,#REF!,5,FALSE)","v":{"$error":"#REF!"}},{"$f":"VLOOKUP($B283,#REF!,6,FALSE)","v":{"$error":"#REF!"}},"-",{"$error":"#REF!"},null,{"$f":"VLOOKUP($B283,#REF!,13,FALSE)","v":{"$error":"#REF!"}},{"$f":"VLOOKUP($B283,#REF!,10,FALSE)","v":{"$error":"#REF!"}},{"$f":"VLOOKUP($B283,#REF!,17,FALSE)","v":{"$error":"#REF!"}},{"$f":"IFERROR(VLOOKUP($B283,#REF!,2,FALSE),\"-\")","v":"-"}]
[null,281,{"$f":"VLOOKUP($B284,#REF!,2,FALSE)","v":{"$error":"#REF!"}},{"$f":"VLOOKUP($B284,#REF!,3,FALSE)","v":{"$error":"#REF!"}},{"$f":"VLOOKUP($B284,#REF!,5,FALSE)","v":{"$error":"#REF!"}},{"$f":"VLOOKUP($B284,#REF!,6,FALSE)","v":{"$error":"#REF!"}},"-",{"$error":"#REF!"},null,{"$f":"VLOOKUP($B284,#REF!,13,FALSE)","v":{"$error":"#REF!"}},{"$f":"VLOOKUP($B284,#REF!,10,FALSE)","v":{"$error":"#REF!"}},{"$f":"VLOOKUP($B284,#REF!,17,FALSE)","v":{"$error":"#REF!"}},{"$f":"IFERROR(VLOOKUP($B284,#REF!,2,FALSE),\"-\")","v":"-"}]
[null,282,{"$f":"VLOOKUP($B285,#REF!,2,FALSE)","v":{"$error":"#REF!"}},{"$f":"VLOOKUP($B285,#REF!,3,FALSE)","v":{"$error":"#REF!"}},{"$f":"VLOOKUP($B285,#REF!,5,FALSE)","v":{"$error":"#REF!"}},{"$f":"VLOOKUP($B285,#REF!,6,FALSE)","v":{"$error":"#REF!"}},"-",{"$error":"#REF!"},null,{"$f":"VLOOKUP($B285,#REF!,13,FALSE)","v":{"$error":"#REF!"}},{"$f":"VLOOKUP($B285,#REF!,10,FALSE)","v":{"$error":"#REF!"}},{"$f":"VLOOKUP($B285,#REF!,17,FALSE)","v":{"$error":"#REF!"}},{"$f":"IFERROR(VLOOKUP($B285,#REF!,2,FALSE),\"-\")","v":"-"}]
[null,283,{"$f":"VLOOKUP($B286,#REF!,2,FALSE)","v":{"$error":"#REF!"}},{"$f":"VLOOKUP($B286,#REF!,3,FALSE)","v":{"$error":"#REF!"}},{"$f":"VLOOKUP($B286,#REF!,5,FALSE)","v":{"$error":"#REF!"}},{"$f":"VLOOKUP($B286,#REF!,6,FALSE)","v":{"$error":"#REF!"}},"-",{"$error":"#REF!"},null,{"$f":"VLOOKUP($B286,#REF!,13,FALSE)","v":{"$error":"#REF!"}},{"$f":"VLOOKUP($B286,#REF!,10,FALSE)","v":{"$error":"#REF!"}},{"$f":"VLOOKUP($B286,#REF!,17,FALSE)","v":{"$error":"#REF!"}},{"$f":"IFERROR(VLOOKUP($B286,#REF!,2,FALSE),\"-\")","v":"-"}]
[null,284,{"$f":"VLOOKUP($B287,#REF!,2,FALSE)","v":{"$error":"#REF!"}},{"$f":"VLOOKUP($B287,#REF!,3,FALSE)","v":{"$error":"#REF!"}},{"$f":"VLOOKUP($B287,#REF!,5,FALSE)","v":{"$error":"#REF!"}},{"$f":"VLOOKUP($B287,#REF!,6,FALSE)","v":{"$error":"#REF!"}},"-",{"$error":"#REF!"},null,{"$f":"VLOOKUP($B287,#REF!,13,FALSE)","v":{"$error":"#REF!"}},{"$f":"VLOOKUP($B287,#REF!,10,FALSE)","v":{"$error":"#REF!"}},{"$f":"VLOOKUP($B287,#REF!,17,FALSE)","v":{"$error":"#REF!"}},{"$f":"IFERROR(VLOOKUP($B287,#REF!,2,FALSE),\"-\")","v":"-"}]
[null,285,{"$f":"VLOOKUP($B288,#REF!,2,FALSE)","v":{"$error":"#REF!"}},{"$f":"VLOOKUP($B288,#REF!,3,FALSE)","v":{"$error":"#REF!"}},{"$f":"VLOOKUP($B288,#REF!,5,FALSE)","v":{"$error":"#REF!"}},{"$f":"VLOOKUP($B288,#REF!,6,FALSE)","v":{"$error":"#REF!"}},"-",{"$error":"#REF!"},null,{"$f":"VLOOKUP($B288,#REF!,13,FALSE)","v":{"$error":"#REF!"}},{"$f":"VLOOKUP($B288,#REF!,10,FALSE)","v":{"$error":"#REF!"}},{"$f":"VLOOKUP($B288,#REF!,17,FALSE)","v":{"$error":"#REF!"}},{"$f":"IFERROR(VLOOKUP($B288,#REF!,2,FALSE),\"-\")","v":"-"}]
[null,286,{"$f":"VLOOKUP($B289,#REF!,2,FALSE)","v":{"$error":"#REF!"}},{"$f":"VLOOKUP($B289,#REF!,3,FALSE)","v":{"$error":"#REF!"}},{"$f":"VLOOKUP($B289,#REF!,5,FALSE)","v":{"$error":"#REF!"}},{"$f":"VLOOKUP($B289,#REF!,6,FALSE)","v":{"$error":"#REF!"}},"-",{"$error":"#REF!"},null,{"$f":"VLOOKUP($B289,#REF!,13,FALSE)","v":{"$error":"#REF!"}},{"$f":"VLOOKUP($B289,#REF!,10,FALSE)","v":{"$error":"#REF!"}},{"$f":"VLOOKUP($B289,#REF!,17,FALSE)","v":{"$error":"#REF!"}},{"$f":"IFERROR(VLOOKUP($B289,#REF!,2,FALSE),\"-\")","v":"-"}]
[null,287,{"$f":"VLOOKUP($B290,#REF!,2,FALSE)","v":{"$error":"#REF!"}},{"$f":"VLOOKUP($B290,#REF!,3,FALSE)","v":{"$error":"#REF!"}},{"$f":"VLOOKUP($B290,#REF!,5,FALSE)","v":{"$error":"#REF!"}},{"$f":"VLOOKUP($B290,#REF!,6,FALSE)","v":{"$error":"#REF!"}},"-",{"$error":"#REF!"},null,{"$f":"VLOOKUP($B290,#REF!,13,FALSE)","v":{"$error":"#REF!"}},{"$f":"VLOOKUP($B290,#REF!,10,FALSE)","v":{"$error":"#REF!"}},{"$f":"VLOOKUP($B290,#REF!,17,FALSE)","v":{"$error":"#REF!"}},{"$f":"IFERROR(VLOOKUP($B290,#REF!,2,FALSE),\"-\")","v":"-"}]
[null,288,{"$f":"VLOOKUP($B291,#REF!,2,FALSE)","v":{"$error":"#REF!"}},{"$f":"VLOOKUP($B291,#REF!,3,FALSE)","v":{"$error":"#REF!"}},{"$f":"VLOOKUP($B291,#REF!,5,FALSE)","v":{"$error":"#REF!"}},{"$f":"VLOOKUP($B291,#REF!,6,FALSE)","v":{"$error":"#REF!"}},"-",{"$error":"#REF!"},null,{"$f":"VLOOKUP($B291,#REF!,13,FALSE)","v":{"$error":"#REF!"}},{"$f":"VLOOKUP($B291,#REF!,10,FALSE)","v":{"$error":"#REF!"}},{"$f":"VLOOKUP($B291,#REF!,17,FALSE)","v":{"$error":"#REF!"}},{"$f":"IFERROR(VLOOKUP($B291,#REF!,2,FALSE),\"-\")","v":"-"}]
[null,289,{"$f":"VLOOKUP($B292,#REF!,2,FALSE)","v":{"$error":"#REF!"}},{"$f":"VLOOKUP($B292,#REF!,3,FALSE)","v":{"$error":"#REF!"}},{"$f":"VLOOKUP($B292,#REF!,5,FALSE)","v":{"$error":"#REF!"}},{"$f":"VLOOKUP($B292,#REF!,6,FALSE)","v":{"$error":"#REF!"}},"-",{"$error":"#REF!"},null,{"$f":"VLOOKUP($B292,#REF!,13,FALSE)","v":{"$error":"#REF!"}},{"$f":"VLOOKUP($B292,#REF!,10,FALSE)","v":{"$error":"#REF!"}},{"$f":"VLOOKUP($B292,#REF!,17,FALSE)","v":{"$error":"#REF!"}},{"$f":"IFERROR(VLOOKUP($B292,#REF!,2,FALSE),\"-\")","v":"-"}]
[null,290,{"$f":"VLOOKUP($B293,#REF!,2,FALSE)","v":{"$error":"#REF!"}},{"$f":"VLOOKUP($B293,#REF!,3,FALSE)","v":{"$error":"#REF!"}},{"$f":"VLOOKUP($B293,#REF!,5,FALSE)","v":{"$error":"#REF!"}},{"$f":"VLOOKUP($B293,#REF!,6,FALSE)","v":{"$error":"#REF!"}},"-",{"$error":"#REF!"},null,{"$f":"VLOOKUP($B293,#REF!,13,FALSE)","v":{"$error":"#REF!"}},{"$f":"VLOOKUP($B293,#REF!,10,FALSE)","v":{"$error":"#REF!"}},{"$f":"VLOOKUP($B293,#REF!,17,FALSE)","v":{"$error":"#REF!"}},{"$f":"IFERROR(VLOOKUP($B293,#REF!,2,FALSE),\"-\")","v":"-"}]
[null,291,{"$f":"VLOOKUP($B294,#REF!,2,FALSE)","v":{"$error":"#REF!"}},{"$f":"VLOOKUP($B294,#REF!,3,FALSE)","v":{"$error":"#REF!"}},{"$f":"VLOOKUP($B294,#REF!,5,FALSE)","v":{"$error":"#REF!"}},{"$f":"VLOOKUP($B294,#REF!,6,FALSE)","v":{"$error":"#REF!"}},"-",{"$error":"#REF!"},null,{"$f":"VLOOKUP($B294,#REF!,13,FALSE)","v":{"$error":"#REF!"}},{"$f":"VLOOKUP($B294,#REF!,10,FALSE)","v":{"$error":"#REF!"}},{"$f":"VLOOKUP($B294,#REF!,17,FALSE)","v":{"$error":"#REF!"}},{"$f":"IFERROR(VLOOKUP($B294,#REF!,2,FALSE),\"-\")","v":"-"}]
[null,292,{"$f":"VLOOKUP($B295,#REF!,2,FALSE)","v":{"$error":"#REF!"}},{"$f":"VLOOKUP($B295,#REF!,3,FALSE)","v":{"$error":"#REF!"}},{"$f":"VLOOKUP($B295,#REF!,5,FALSE)","v":{"$error":"#REF!"}},{"$f":"VLOOKUP($B295,#REF!,6,FALSE)","v":{"$error":"#REF!"}},"-",{"$error":"#REF!"},null,{"$f":"VLOOKUP($B295,#REF!,13,FALSE)","v":{"$error":"#REF!"}},{"$f":"VLOOKUP($B295,#REF!,10,FALSE)","v":{"$error":"#REF!"}},{"$f":"VLOOKUP($B295,#REF!,17,FALSE)","v":{"$error":"#REF!"}},{"$f":"IFERROR(VLOOKUP($B295,#REF!,2,FALSE),\"-\")","v":"-"}]
[null,293,{"$f":"VLOOKUP($B296,#REF!,2,FALSE)","v":{"$error":"#REF!"}},{"$f":"VLOOKUP($B296,#REF!,3,FALSE)","v":{"$error":"#REF!"}},{"$f":"VLOOKUP($B296,#REF!,5,FALSE)","v":{"$error":"#REF!"}},{"$f":"VLOOKUP($B296,#REF!,6,FALSE)","v":{"$error":"#REF!"}},"-",{"$error":"#REF!"},null,{"$f":"VLOOKUP($B296,#REF!,13,FALSE)","v":{"$error":"#REF!"}},{"$f":"VLOOKUP($B296,#REF!,10,FALSE)","v":{"$error":"#REF!"}},{"$f":"VLOOKUP($B296,#REF!,17,FALSE)","v":{"$error":"#REF!"}},{"$f":"IFERROR(VLOOKUP($B296,#REF!,2,FALSE),\"-\")","v":"-"}]
[null,294,{"$f":"VLOOKUP($B297,#REF!,2,FALSE)","v":{"$error":"#REF!"}},{"$f":"VLOOKUP($B297,#REF!,3,FALSE)","v":{"$error":"#REF!"}},{"$f":"VLOOKUP($B297,#REF!,5,FALSE)","v":{"$error":"#REF!"}},{"$f":"VLOOKUP($B297,#REF!,6,FALSE)","v":{"$error":"#REF!"}},"-",{"$error":"#REF!"},null,{"$f":"VLOOKUP($B297,#REF!,13,FALSE)","v":{"$error":"#REF!"}},{"$f":"VLOOKUP($B297,#REF!,10,FALSE)","v":{"$error":"#REF!"}},{"$f":"VLOOKUP($B297,#REF!,17,FALSE)","v":{"$error":"#REF!"}},{"$f":"IFERROR(VLOOKUP($B297,#REF!,2,FALSE),\"-\")","v":"-"}]
[null,295,{"$f":"VLOOKUP($B298,#REF!,2,FALSE)","v":{"$error":"#REF!"}},{"$f":"VLOOKUP($B298,#REF!,3,FALSE)","v":{"$error":"#REF!"}},{"$f":"VLOOKUP($B298,#REF!,5,FALSE)","v":{"$error":"#REF!"}},{"$f":"VLOOKUP($B298,#REF!,6,FALSE)","v":{"$error":"#REF!"}},"-",{"$error":"#REF!"},null,{"$f":"VLOOKUP($B298,#REF!,13,FALSE)","v":{"$error":"#REF!"}},{"$f":"VLOOKUP($B298,#REF!,10,FALSE)","v":{"$error":"#REF!"}},{"$f":"VLOOKUP($B298,#REF!,17,FALSE)","v":{"$error":"#REF!"}},{"$f":"IFERROR(VLOOKUP($B298,#REF!,2,FALSE),\"-\")","v":"-"}]
[null,296,{"$f":"VLOOKUP($B299,#REF!,2,FALSE)","v":{"$error":"#REF!"}},{"$f":"VLOOKUP($B299,#REF!,3,FALSE)","v":{"$error":"#REF!"}},{"$f":"VLOOKUP($B299,#REF!,5,FALSE)","v":{"$error":"#REF!"}},{"$f":"VLOOKUP($B299,#REF!,6,FALSE)","v":{"$error":"#REF!"}},"-",{"$error":"#REF!"},null,{"$f":"VLOOKUP($B299,#REF!,13,FALSE)","v":{"$error":"#REF!"}},{"$f":"VLOOKUP($B299,#REF!,10,FALSE)","v":{"$error":"#REF!"}},{"$f":"VLOOKUP($B299,#REF!,17,FALSE)","v":{"$error":"#REF!"}},{"$f":"IFERROR(VLOOKUP($B299,#REF!,2,FALSE),\"-\")","v":"-"}]
[null,297,{"$f":"VLOOKUP($B300,#REF!,2,FALSE)","v":{"$error":"#REF!"}},{"$f":"VLOOKUP($B300,#REF!,3,FALSE)","v":{"$error":"#REF!"}},{"$f":"VLOOKUP($B300,#REF!,5,FALSE)","v":{"$error":"#REF!"}},{"$f":"VLOOKUP($B300,#REF!,6,FALSE)","v":{"$error":"#REF!"}},"-",{"$error":"#REF!"},null,{"$f":"VLOOKUP($B300,#REF!,13,FALSE)","v":{"$error":"#REF!"}},{"$f":"VLOOKUP($B300,#REF!,10,FALSE)","v":{"$error":"#REF!"}},{"$f":"VLOOKUP($B300,#REF!,17,FALSE)","v":{"$error":"#REF!"}},{"$f":"IFERROR(VLOOKUP($B300,#REF!,2,FALSE),\"-\")","v":"-"}]
[null,298,{"$f":"VLOOKUP($B301,#REF!,2,FALSE)","v":{"$error":"#REF!"}},{"$f":"VLOOKUP($B301,#REF!,3,FALSE)","v":{"$error":"#REF!"}},{"$f":"VLOOKUP($B301,#REF!,5,FALSE)","v":{"$error":"#REF!"}},{"$f":"VLOOKUP($B301,#REF!,6,FALSE)","v":{"$error":"#REF!"}},"-",{"$error":"#REF!"},null,{"$f":"VLOOKUP($B301,#REF!,13,FALSE)","v":{"$error":"#REF!"}},{"$f":"VLOOKUP($B301,#REF!,10,FALSE)","v":{"$error":"#REF!"}},{"$f":"VLOOKUP($B301,#REF!,17,FALSE)","v":{"$error":"#REF!"}},{"$f":"IFERROR(VLOOKUP($B301,#REF!,2,FALSE),\"-\")","v":"-"}]
[null,299,{"$f":"VLOOKUP($B302,#REF!,2,FALSE)","v":{"$error":"#REF!"}},{"$f":"VLOOKUP($B302,#REF!,3,FALSE)","v":{"$error":"#REF!"}},{"$f":"VLOOKUP($B302,#REF!,5,FALSE)","v":{"$error":"#REF!"}},{"$f":"VLOOKUP($B302,#REF!,6,FALSE)","v":{"$error":"#REF!"}},"-",{"$error":"#REF!"},null,{"$f":"VLOOKUP($B302,#REF!,13,FALSE)","v":{"$error":"#REF!"}},{"$f":"VLOOKUP($B302,#REF!,10,FALSE)","v":{"$error":"#REF!"}},{"$f":"VLOOKUP($B302,#REF!,17,FALSE)","v":{"$error":"#REF!"}},{"$f":"IFERROR(VLOOKUP($B302,#REF!,2,FALSE),\"-\")","v":"-"}]
[null,300,{"$f":"VLOOKUP($B303,#REF!,2,FALSE)","v":{"$error":"#REF!"}},{"$f":"VLOOKUP($B303,#REF!,3,FALSE)","v":{"$error":"#REF!"}},{"$f":"VLOOKUP($B303,#REF!,5,FALSE)","v":{"$error":"#REF!"}},{"$f":"VLOOKUP($B303,#REF!,6,FALSE)","v":{"$error":"#REF!"}},"-",{"$error":"#REF!"},null,{"$f":"VLOOKUP($B303,#REF!,13,FALSE)","v":{"$error":"#REF!"}},{"$f":"VLOOKUP($B303,#REF!,10,FALSE)","v":{"$error":"#REF!"}},{"$f":"VLOOKUP($B303,#REF!,17,FALSE)","v":{"$error":"#REF!"}},{"$f":"IFERROR(VLOOKUP($B303,#REF!,2,FALSE),\"-\")","v":"-"}]
[null,301,{"$f":"VLOOKUP($B304,#REF!,2,FALSE)","v":{"$error":"#REF!"}},{"$f":"VLOOKUP($B304,#REF!,3,FALSE)","v":{"$error":"#REF!"}},{"$f":"VLOOKUP($B304,#REF!,5,FALSE)","v":{"$error":"#REF!"}},{"$f":"VLOOKUP($B304,#REF!,6,FALSE)","v":{"$error":"#REF!"}},"-",{"$error":"#REF!"},null,{"$f":"VLOOKUP($B304,#REF!,13,FALSE)","v":{"$error":"#REF!"}},{"$f":"VLOOKUP($B304,#REF!,10,FALSE)","v":{"$error":"#REF!"}},{"$f":"VLOOKUP($B304,#REF!,17,FALSE)","v":{"$error":"#REF!"}},{"$f":"IFERROR(VLOOKUP($B304,#REF!,2,FALSE),\"-\")","v":"-"}]
[null,302,{"$f":"VLOOKUP($B305,#REF!,2,FALSE)","v":{"$error":"#REF!"}},{"$f":"VLOOKUP($B305,#REF!,3,FALSE)","v":{"$error":"#REF!"}},{"$f":"VLOOKUP($B305,#REF!,5,FALSE)","v":{"$error":"#REF!"}},{"$f":"VLOOKUP($B305,#REF!,6,FALSE)","v":{"$error":"#REF!"}},"-",{"$error":"#REF!"},null,{"$f":"VLOOKUP($B305,#REF!,13,FALSE)","v":{"$error":"#REF!"}},{"$f":"VLOOKUP($B305,#REF!,10,FALSE)","v":{"$error":"#REF!"}},{"$f":"VLOOKUP($B305,#REF!,17,FALSE)","v":{"$error":"#REF!"}},{"$f":"IFERROR(VLOOKUP($B305,#REF!,2,FALSE),\"-\")","v":"-"}]
[null,303,{"$f":"VLOOKUP($B306,#REF!,2,FALSE)","v":{"$error":"#REF!"}},{"$f":"VLOOKUP($B306,#REF!,3,FALSE)","v":{"$error":"#REF!"}},{"$f":"VLOOKUP($B306,#REF!,5,FALSE)","v":{"$error":"#REF!"}},{"$f":"VLOOKUP($B306,#REF!,6,FALSE)","v":{"$error":"#REF!"}},"-",{"$error":"#REF!"},null,{"$f":"VLOOKUP($B306,#REF!,13,FALSE)","v":{"$error":"#REF!"}},{"$f":"VLOOKUP($B306,#REF!,10,FALSE)","v":{"$error":"#REF!"}},{"$f":"VLOOKUP($B306,#REF!,17,FALSE)","v":{"$error":"#REF!"}},{"$f":"IFERROR(VLOOKUP($B306,#REF!,2,FALSE),\"-\")","v":"-"}]
[null,304,{"$f":"VLOOKUP($B307,#REF!,2,FALSE)","v":{"$error":"#REF!"}},{"$f":"VLOOKUP($B307,#REF!,3,FALSE)","v":{"$error":"#REF!"}},{"$f":"VLOOKUP($B307,#REF!,5,FALSE)","v":{"$error":"#REF!"}},{"$f":"VLOOKUP($B307,#REF!,6,FALSE)","v":{"$error":"#REF!"}},"-",{"$error":"#REF!"},null,{"$f":"VLOOKUP($B307,#REF!,13,FALSE)","v":{"$error":"#REF!"}},{"$f":"VLOOKUP($B307,#REF!,10,FALSE)","v":{"$error":"#REF!"}},{"$f":"VLOOKUP($B307,#REF!,17,FALSE)","v":{"$error":"#REF!"}},{"$f":"IFERROR(VLOOKUP($B307,#REF!,2,FALSE),\"-\")","v":"-"}]
[null,305,{"$f":"VLOOKUP($B308,#REF!,2,FALSE)","v":{"$error":"#REF!"}},{"$f":"VLOOKUP($B308,#REF!,3,FALSE)","v":{"$error":"#REF!"}},{"$f":"VLOOKUP($B308,#REF!,5,FALSE)","v":{"$error":"#REF!"}},{"$f":"VLOOKUP($B308,#REF!,6,FALSE)","v":{"$error":"#REF!"}},"-",{"$error":"#REF!"},null,{"$f":"VLOOKUP($B308,#REF!,13,FALSE)","v":{"$error":"#REF!"}},{"$f":"VLOOKUP($B308,#REF!,10,FALSE)","v":{"$error":"#REF!"}},{"$f":"VLOOKUP($B308,#REF!,17,FALSE)","v":{"$error":"#REF!"}},{"$f":"IFERROR(VLOOKUP($B308,#REF!,2,FALSE),\"-\")","v":"-"}]
[null,306,{"$f":"VLOOKUP($B309,#REF!,2,FALSE)","v":{"$error":"#REF!"}},{"$f":"VLOOKUP($B309,#REF!,3,FALSE)","v":{"$error":"#REF!"}},{"$f":"VLOOKUP($B309,#REF!,5,FALSE)","v":{"$error":"#REF!"}},{"$f":"VLOOKUP($B309,#REF!,6,FALSE)","v":{"$error":"#REF!"}},"-",{"$error":"#REF!"},null,{"$f":"VLOOKUP($B309,#REF!,13,FALSE)","v":{"$error":"#REF!"}},{"$f":"VLOOKUP($B309,#REF!,10,FALSE)","v":{"$error":"#REF!"}},{"$f":"VLOOKUP($B309,#REF!,17,FALSE)","v":{"$error":"#REF!"}},{"$f":"IFERROR(VLOOKUP($B309,#REF!,2,FALSE),\"-\")","v":"-"}]
[null,307,{"$f":"VLOOKUP($B310,#REF!,2,FALSE)","v":{"$error":"#REF!"}},{"$f":"VLOOKUP($B310,#REF!,3,FALSE)","v":{"$error":"#REF!"}},{"$f":"VLOOKUP($B310,#REF!,5,FALSE)","v":{"$error":"#REF!"}},{"$f":"VLOOKUP($B310,#REF!,6,FALSE)","v":{"$error":"#REF!"}},"-",{"$error":"#REF!"},null,{"$f":"VLOOKUP($B310,#REF!,13,FALSE)","v":{"$error":"#REF!"}},{"$f":"VLOOKUP($B310,#REF!,10,FALSE)","v":{"$error":"#REF!"}},{"$f":"VLOOKUP($B310,#REF!,17,FALSE)","v":{"$error":"#REF!"}},{"$f":"IFERROR(VLOOKUP($B310,#REF!,2,FALSE),\"-\")","v":"-"}]
[null,308,{"$f":"VLOOKUP($B311,#REF!,2,FALSE)","v":{"$error":"#REF!"}},{"$f":"VLOOKUP($B311,#REF!,3,FALSE)","v":{"$error":"#REF!"}},{"$f":"VLOOKUP($B311,#REF!,5,FALSE)","v":{"$error":"#REF!"}},{"$f":"VLOOKUP($B311,#REF!,6,FALSE)","v":{"$error":"#REF!"}},"-",{"$error":"#REF!"},null,{"$f":"VLOOKUP($B311,#REF!,13,FALSE)","v":{"$error":"#REF!"}},{"$f":"VLOOKUP($B311,#REF!,10,FALSE)","v":{"$error":"#REF!"}},{"$f":"VLOOKUP($B311,#REF!,17,FALSE)","v":{"$error":"#REF!"}},{"$f":"IFERROR(VLOOKUP($B311,#REF!,2,FALSE),\"-\")","v":"-"}]
[null,309,{"$f":"VLOOKUP($B312,#REF!,2,FALSE)","v":{"$error":"#REF!"}},{"$f":"VLOOKUP($B312,#REF!,3,FALSE)","v":{"$error":"#REF!"}},{"$f":"VLOOKUP($B312,#REF!,5,FALSE)","v":{"$error":"#REF!"}},{"$f":"VLOOKUP($B312,#REF!,6,FALSE)","v":{"$error":"#REF!"}},"-",{"$error":"#REF!"},null,{"$f":"VLOOKUP($B312,#REF!,13,FALSE)","v":{"$error":"#REF!"}},{"$f":"VLOOKUP($B312,#REF!,10,FALSE)","v":{"$error":"#REF!"}},{"$f":"VLOOKUP($B312,#REF!,17,FALSE)","v":{"$error":"#REF!"}},{"$f":"IFERROR(VLOOKUP($B312,#REF!,2,FALSE),\"-\")","v":"-"}]
[null,310,{"$f":"VLOOKUP($B313,#REF!,2,FALSE)","v":{"$error":"#REF!"}},{"$f":"VLOOKUP($B313,#REF!,3,FALSE)","v":{"$error":"#REF!"}},{"$f":"VLOOKUP($B313,#REF!,5,FALSE)","v":{"$error":"#REF!"}},{"$f":"VLOOKUP($B313,#REF!,6,FALSE)","v":{"$error":"#REF!"}},"-",{"$error":"#REF!"},null,{"$f":"VLOOKUP($B313,#REF!,13,FALSE)","v":{"$error":"#REF!"}},{"$f":"VLOOKUP($B313,#REF!,10,FALSE)","v":{"$error":"#REF!"}},{"$f":"VLOOKUP($B313,#REF!,17,FALSE)","v":{"$error":"#REF!"}},{"$f":"IFERROR(VLOOKUP($B313,#REF!,2,FALSE),\"-\")","v":"-"}]
[null,311,{"$f":"VLOOKUP($B314,#REF!,2,FALSE)","v":{"$error":"#REF!"}},{"$f":"VLOOKUP($B314,#REF!,3,FALSE)","v":{"$error":"#REF!"}},{"$f":"VLOOKUP($B314,#REF!,5,FALSE)","v":{"$error":"#REF!"}},{"$f":"VLOOKUP($B314,#REF!,6,FALSE)","v":{"$error":"#REF!"}},"-",{"$error":"#REF!"},null,{"$f":"VLOOKUP($B314,#REF!,13,FALSE)","v":{"$error":"#REF!"}},{"$f":"VLOOKUP($B314,#REF!,10,FALSE)","v":{"$error":"#REF!"}},{"$f":"VLOOKUP($B314,#REF!,17,FALSE)","v":{"$error":"#REF!"}},{"$f":"IFERROR(VLOOKUP($B314,#REF!,2,FALSE),\"-\")","v":"-"}]
[null,312,{"$f":"VLOOKUP($B315,#REF!,2,FALSE)","v":{"$error":"#REF!"}},{"$f":"VLOOKUP($B315,#REF!,3,FALSE)","v":{"$error":"#REF!"}},{"$f":"VLOOKUP($B315,#REF!,5,FALSE)","v":{"$error":"#REF!"}},{"$f":"VLOOKUP($B315,#REF!,6,FALSE)","v":{"$error":"#REF!"}},"-",{"$error":"#REF!"},null,{"$f":"VLOOKUP($B315,#REF!,13,FALSE)","v":{"$error":"#REF!"}},{"$f":"VLOOKUP($B315,#REF!,10,FALSE)","v":{"$error":"#REF!"}},{"$f":"VLOOKUP($B315,#REF!,17,FALSE)","v":{"$error":"#REF!"}},{"$f":"IFERROR(VLOOKUP($B315,#REF!,2,FALSE),\"-\")","v":"-"}]
[null,313,{"$f":"VLOOKUP($B316,#REF!,2,FALSE)","v":{"$error":"#REF!"}},{"$f":"VLOOKUP($B316,#REF!,3,FALSE)","v":{"$error":"#REF!"}},{"$f":"VLOOKUP($B316,#REF!,5,FALSE)","v":{"$error":"#REF!"}},{"$f":"VLOOKUP($B316,#REF!,6,FALSE)","v":{"$error":"#REF!"}},"-",{"$error":"#REF!"},null,{"$f":"VLOOKUP($B316,#REF!,13,FALSE)","v":{"$error":"#REF!"}},{"$f":"VLOOKUP($B316,#REF!,10,FALSE)","v":{"$error":"#REF!"}},{"$f":"VLOOKUP($B316,#REF!,17,FALSE)","v":{"$error":"#REF!"}},{"$f":"IFERROR(VLOOKUP($B316,#REF!,2,FALSE),\"-\")","v":"-"}]
[null,314,{"$f":"VLOOKUP($B317,#REF!,2,FALSE)","v":{"$error":"#REF!"}},{"$f":"VLOOKUP($B317,#REF!,3,FALSE)","v":{"$error":"#REF!"}},{"$f":"VLOOKUP($B317,#REF!,5,FALSE)","v":{"$error":"#REF!"}},{"$f":"VLOOKUP($B317,#REF!,6,FALSE)","v":{"$error":"#REF!"}},"-",{"$error":"#REF!"},null,{"$f":"VLOOKUP($B317,#REF!,13,FALSE)","v":{"$error":"#REF!"}},{"$f":"VLOOKUP($B317,#REF!,10,FALSE)","v":{"$error":"#REF!"}},{"$f":"VLOOKUP($B317,#REF!,17,FALSE)","v":{"$error":"#REF!"}},{"$f":"IFERROR(VLOOKUP($B317,#REF!,2,FALSE),\"-\")","v":"-"}]
[null,315,{"$f":"VLOOKUP($B318,#REF!,2,FALSE)","v":{"$error":"#REF!"}},{"$f":"VLOOKUP($B318,#REF!,3,FALSE)","v":{"$error":"#REF!"}},{"$f":"VLOOKUP($B318,#REF!,5,FALSE)","v":{"$error":"#REF!"}},{"$f":"VLOOKUP($B318,#REF!,6,FALSE)","v":{"$error":"#REF!"}},"-",{"$error":"#REF!"},null,{"$f":"VLOOKUP($B318,#REF!,13,FALSE)","v":{"$error":"#REF!"}},{"$f":"VLOOKUP($B318,#REF!,10,FALSE)","v":{"$error":"#REF!"}},{"$f":"VLOOKUP($B318,#REF!,17,FALSE)","v":{"$error":"#REF!"}},{"$f":"IFERROR(VLOOKUP($B318,#REF!,2,FALSE),\"-\")","v":"-"}]
[null,316,{"$f":"VLOOKUP($B319,#REF!,2,FALSE)","v":{"$error":"#REF!"}},{"$f":"VLOOKUP($B319,#REF!,3,FALSE)","v":{"$error":"#REF!"}},{"$f":"VLOOKUP($B319,#REF!,5,FALSE)","v":{"$error":"#REF!"}},{"$f":"VLOOKUP($B319,#REF!,6,FALSE)","v":{"$error":"#REF!"}},"-",{"$error":"#REF!"},null,{"$f":"VLOOKUP($B319,#REF!,13,FALSE)","v":{"$error":"#REF!"}},{"$f":"VLOOKUP($B319,#REF!,10,FALSE)","v":{"$error":"#REF!"}},{"$f":"VLOOKUP($B319,#REF!,17,FALSE)","v":{"$error":"#REF!"}},{"$f":"IFERROR(VLOOKUP($B319,#REF!,2,FALSE),\"-\")","v":"-"}]
[null,317,{"$f":"VLOOKUP($B320,#REF!,2,FALSE)","v":{"$error":"#REF!"}},{"$f":"VLOOKUP($B320,#REF!,3,FALSE)","v":{"$error":"#REF!"}},{"$f":"VLOOKUP($B320,#REF!,5,FALSE)","v":{"$error":"#REF!"}},{"$f":"VLOOKUP($B320,#REF!,6,FALSE)","v":{"$error":"#REF!"}},"-",{"$error":"#REF!"},null,{"$f":"VLOOKUP($B320,#REF!,13,FALSE)","v":{"$error":"#REF!"}},{"$f":"VLOOKUP($B320,#REF!,10,FALSE)","v":{"$error":"#REF!"}},{"$f":"VLOOKUP($B320,#REF!,17,FALSE)","v":{"$error":"#REF!"}},{"$f":"IFERROR(VLOOKUP($B320,#REF!,2,FALSE),\"-\")","v":"-"}]
[null,318,{"$f":"VLOOKUP($B321,#REF!,2,FALSE)","v":{"$error":"#REF!"}},{"$f":"VLOOKUP($B321,#REF!,3,FALSE)","v":{"$error":"#REF!"}},{"$f":"VLOOKUP($B321,#REF!,5,FALSE)","v":{"$error":"#REF!"}},{"$f":"VLOOKUP($B321,#REF!,6,FALSE)","v":{"$error":"#REF!"}},"-",{"$error":"#REF!"},null,{"$f":"VLOOKUP($B321,#REF!,13,FALSE)","v":{"$error":"#REF!"}},{"$f":"VLOOKUP($B321,#REF!,10,FALSE)","v":{"$error":"#REF!"}},{"$f":"VLOOKUP($B321,#REF!,17,FALSE)","v":{"$error":"#REF!"}},{"$f":"IFERROR(VLOOKUP($B321,#REF!,2,FALSE),\"-\")","v":"-"}]
[null,319,{"$f":"VLOOKUP($B322,#REF!,2,FALSE)","v":{"$error":"#REF!"}},{"$f":"VLOOKUP($B322,#REF!,3,FALSE)","v":{"$error":"#REF!"}},{"$f":"VLOOKUP($B322,#REF!,5,FALSE)","v":{"$error":"#REF!"}},{"$f":"VLOOKUP($B322,#REF!,6,FALSE)","v":{"$error":"#REF!"}},"-",{"$error":"#REF!"},null,{"$f":"VLOOKUP($B322,#REF!,13,FALSE)","v":{"$error":"#REF!"}},{"$f":"VLOOKUP($B322,#REF!,10,FALSE)","v":{"$error":"#REF!"}},{"$f":"VLOOKUP($B322,#REF!,17,FALSE)","v":{"$error":"#REF!"}},{"$f":"IFERROR(VLOOKUP($B322,#REF!,2,FALSE),\"-\")","v":"-"}]
[null,320,{"$f":"VLOOKUP($B323,#REF!,2,FALSE)","v":{"$error":"#REF!"}},{"$f":"VLOOKUP($B323,#REF!,3,FALSE)","v":{"$error":"#REF!"}},{"$f":"VLOOKUP($B323,#REF!,5,FALSE)","v":{"$error":"#REF!"}},{"$f":"VLOOKUP($B323,#REF!,6,FALSE)","v":{"$error":"#REF!"}},"-",{"$error":"#REF!"},null,{"$f":"VLOOKUP($B323,#REF!,13,FALSE)","v":{"$error":"#REF!"}},{"$f":"VLOOKUP($B323,#REF!,10,FALSE)","v":{"$error":"#REF!"}},{"$f":"VLOOKUP($B323,#REF!,17,FALSE)","v":{"$error":"#REF!"}},{"$f":"IFERROR(VLOOKUP($B323,#REF!,2,FALSE),\"-\")","v":"-"}]
[null,321,{"$f":"VLOOKUP($B324,#REF!,2,FALSE)","v":{"$error":"#REF!"}},{"$f":"VLOOKUP($B324,#REF!,3,FALSE)","v":{"$error":"#REF!"}},{"$f":"VLOOKUP($B324,#REF!,5,FALSE)","v":{"$error":"#REF!"}},{"$f":"VLOOKUP($B324,#REF!,6,FALSE)","v":{"$error":"#REF!"}},{"$f":"IF(M324=1,\"欠席\",IF(M324=9,\"空ﾚｰﾝ\",\"-\"))","v":"-"},{"$error":"#REF!"},null,{"$f":"VLOOKUP($B324,#REF!,13,FALSE)","v":{"$error":"#REF!"}},{"$f":"VLOOKUP($B324,#REF!,10,FALSE)","v":{"$error":"#REF!"}},{"$f":"VLOOKUP($B324,#REF!,17,FALSE)","v":{"$error":"#REF!"}},{"$f":"IFERROR(VLOOKUP($B324,#REF!,2,FALSE),\"-\")","v":"-"}]
[null,322,{"$f":"VLOOKUP($B325,#REF!,2,FALSE)","v":{"$error":"#REF!"}},{"$f":"VLOOKUP($B325,#REF!,3,FALSE)","v":{"$error":"#REF!"}},{"$f":"VLOOKUP($B325,#REF!,5,FALSE)","v":{"$error":"#REF!"}},{"$f":"VLOOKUP($B325,#REF!,6,FALSE)","v":{"$error":"#REF!"}},"-",{"$f":"+C325","v":{"$error":"#REF!"}},null,{"$f":"VLOOKUP($B325,#REF!,13,FALSE)","v":{"$error":"#REF!"}},{"$f":"VLOOKUP($B325,#REF!,10,FALSE)","v":{"$error":"#REF!"}},{"$f":"VLOOKUP($B325,#REF!,17,FALSE)","v":{"$error":"#REF!"}},{"$f":"IFERROR(VLOOKUP($B325,#REF!,2,FALSE),\"-\")","v":"-"}]
[null,323,{"$f":"VLOOKUP($B326,#REF!,2,FALSE)","v":{"$error":"#REF!"}},{"$f":"VLOOKUP($B326,#REF!,3,FALSE)","v":{"$error":"#REF!"}},{"$f":"VLOOKUP($B326,#REF!,5,FALSE)","v":{"$error":"#REF!"}},{"$f":"VLOOKUP($B326,#REF!,6,FALSE)","v":{"$error":"#REF!"}},"-",{"$error":"#REF!"},null,{"$f":"VLOOKUP($B326,#REF!,13,FALSE)","v":{"$error":"#REF!"}},{"$f":"VLOOKUP($B326,#REF!,10,FALSE)","v":{"$error":"#REF!"}},{"$f":"VLOOKUP($B326,#REF!,17,FALSE)","v":{"$error":"#REF!"}},{"$f":"IFERROR(VLOOKUP($B326,#REF!,2,FALSE),\"-\")","v":"-"}]
[null,324,{"$f":"VLOOKUP($B327,#REF!,2,FALSE)","v":{"$error":"#REF!"}},{"$f":"VLOOKUP($B327,#REF!,3,FALSE)","v":{"$error":"#REF!"}},{"$f":"VLOOKUP($B327,#REF!,5,FALSE)","v":{"$error":"#REF!"}},{"$f":"VLOOKUP($B327,#REF!,6,FALSE)","v":{"$error":"#REF!"}},"-",{"$error":"#REF!"},null,{"$f":"VLOOKUP($B327,#REF!,13,FALSE)","v":{"$error":"#REF!"}},{"$f":"VLOOKUP($B327,#REF!,10,FALSE)","v":{"$error":"#REF!"}},{"$f":"VLOOKUP($B327,#REF!,17,FALSE)","v":{"$error":"#REF!"}},{"$f":"IFERROR(VLOOKUP($B327,#REF!,2,FALSE),\"-\")","v":"-"}]
[null,325,{"$f":"VLOOKUP($B328,#REF!,2,FALSE)","v":{"$error":"#REF!"}},{"$f":"VLOOKUP($B328,#REF!,3,FALSE)","v":{"$error":"#REF!"}},{"$f":"VLOOKUP($B328,#REF!,5,FALSE)","v":{"$error":"#REF!"}},{"$f":"VLOOKUP($B328,#REF!,6,FALSE)","v":{"$error":"#REF!"}},"-",{"$error":"#REF!"},null,{"$f":"VLOOKUP($B328,#REF!,13,FALSE)","v":{"$error":"#REF!"}},{"$f":"VLOOKUP($B328,#REF!,10,FALSE)","v":{"$error":"#REF!"}},{"$f":"VLOOKUP($B328,#REF!,17,FALSE)","v":{"$error":"#REF!"}},{"$f":"IFERROR(VLOOKUP($B328,#REF!,2,FALSE),\"-\")","v":"-"}]
[null,326,{"$f":"VLOOKUP($B329,#REF!,2,FALSE)","v":{"$error":"#REF!"}},{"$f":"VLOOKUP($B329,#REF!,3,FALSE)","v":{"$error":"#REF!"}},{"$f":"VLOOKUP($B329,#REF!,5,FALSE)","v":{"$error":"#REF!"}},{"$f":"VLOOKUP($B329,#REF!,6,FALSE)","v":{"$error":"#REF!"}},"-",{"$error":"#REF!"},null,{"$f":"VLOOKUP($B329,#REF!,13,FALSE)","v":{"$error":"#REF!"}},{"$f":"VLOOKUP($B329,#REF!,10,FALSE)","v":{"$error":"#REF!"}},{"$f":"VLOOKUP($B329,#REF!,17,FALSE)","v":{"$error":"#REF!"}},{"$f":"IFERROR(VLOOKUP($B329,#REF!,2,FALSE),\"-\")","v":"-"}]
[null,327,{"$f":"VLOOKUP($B330,#REF!,2,FALSE)","v":{"$error":"#REF!"}},{"$f":"VLOOKUP($B330,#REF!,3,FALSE)","v":{"$error":"#REF!"}},{"$f":"VLOOKUP($B330,#REF!,5,FALSE)","v":{"$error":"#REF!"}},{"$f":"VLOOKUP($B330,#REF!,6,FALSE)","v":{"$error":"#REF!"}},"-",{"$error":"#REF!"},null,{"$f":"VLOOKUP($B330,#REF!,13,FALSE)","v":{"$error":"#REF!"}},{"$f":"VLOOKUP($B330,#REF!,10,FALSE)","v":{"$error":"#REF!"}},{"$f":"VLOOKUP($B330,#REF!,17,FALSE)","v":{"$error":"#REF!"}},{"$f":"IFERROR(VLOOKUP($B330,#REF!,2,FALSE),\"-\")","v":"-"}]
[null,328,{"$f":"VLOOKUP($B331,#REF!,2,FALSE)","v":{"$error":"#REF!"}},{"$f":"VLOOKUP($B331,#REF!,3,FALSE)","v":{"$error":"#REF!"}},{"$f":"VLOOKUP($B331,#REF!,5,FALSE)","v":{"$error":"#REF!"}},{"$f":"VLOOKUP($B331,#REF!,6,FALSE)","v":{"$error":"#REF!"}},"-",{"$error":"#REF!"},null,{"$f":"VLOOKUP($B331,#REF!,13,FALSE)","v":{"$error":"#REF!"}},{"$f":"VLOOKUP($B331,#REF!,10,FALSE)","v":{"$error":"#REF!"}},{"$f":"VLOOKUP($B331,#REF!,17,FALSE)","v":{"$error":"#REF!"}},{"$f":"IFERROR(VLOOKUP($B331,#REF!,2,FALSE),\"-\")","v":"-"}]
[null,329,{"$f":"VLOOKUP($B332,#REF!,2,FALSE)","v":{"$error":"#REF!"}},{"$f":"VLOOKUP($B332,#REF!,3,FALSE)","v":{"$error":"#REF!"}},{"$f":"VLOOKUP($B332,#REF!,5,FALSE)","v":{"$error":"#REF!"}},{"$f":"VLOOKUP($B332,#REF!,6,FALSE)","v":{"$error":"#REF!"}},"-",{"$error":"#REF!"},null,{"$f":"VLOOKUP($B332,#REF!,13,FALSE)","v":{"$error":"#REF!"}},{"$f":"VLOOKUP($B332,#REF!,10,FALSE)","v":{"$error":"#REF!"}},{"$f":"VLOOKUP($B332,#REF!,17,FALSE)","v":{"$error":"#REF!"}},{"$f":"IFERROR(VLOOKUP($B332,#REF!,2,FALSE),\"-\")","v":"-"}]
[null,330,{"$f":"VLOOKUP($B333,#REF!,2,FALSE)","v":{"$error":"#REF!"}},{"$f":"VLOOKUP($B333,#REF!,3,FALSE)","v":{"$error":"#REF!"}},{"$f":"VLOOKUP($B333,#REF!,5,FALSE)","v":{"$error":"#REF!"}},{"$f":"VLOOKUP($B333,#REF!,6,FALSE)","v":{"$error":"#REF!"}},"-",{"$error":"#REF!"},null,{"$f":"VLOOKUP($B333,#REF!,13,FALSE)","v":{"$error":"#REF!"}},{"$f":"VLOOKUP($B333,#REF!,10,FALSE)","v":{"$error":"#REF!"}},{"$f":"VLOOKUP($B333,#REF!,17,FALSE)","v":{"$error":"#REF!"}},{"$f":"IFERROR(VLOOKUP($B333,#REF!,2,FALSE),\"-\")","v":"-"}]
[null,331,{"$f":"VLOOKUP($B334,#REF!,2,FALSE)","v":{"$error":"#REF!"}},{"$f":"VLOOKUP($B334,#REF!,3,FALSE)","v":{"$error":"#REF!"}},{"$f":"VLOOKUP($B334,#REF!,5,FALSE)","v":{"$error":"#REF!"}},{"$f":"VLOOKUP($B334,#REF!,6,FALSE)","v":{"$error":"#REF!"}},"-",{"$error":"#REF!"},null,{"$f":"VLOOKUP($B334,#REF!,13,FALSE)","v":{"$error":"#REF!"}},{"$f":"VLOOKUP($B334,#REF!,10,FALSE)","v":{"$error":"#REF!"}},{"$f":"VLOOKUP($B334,#REF!,17,FALSE)","v":{"$error":"#REF!"}},{"$f":"IFERROR(VLOOKUP($B334,#REF!,2,FALSE),\"-\")","v":"-"}]
[null,332,{"$f":"VLOOKUP($B335,#REF!,2,FALSE)","v":{"$error":"#REF!"}},{"$f":"VLOOKUP($B335,#REF!,3,FALSE)","v":{"$error":"#REF!"}},{"$f":"VLOOKUP($B335,#REF!,5,FALSE)","v":{"$error":"#REF!"}},{"$f":"VLOOKUP($B335,#REF!,6,FALSE)","v":{"$error":"#REF!"}},"-",{"$error":"#REF!"},null,{"$f":"VLOOKUP($B335,#REF!,13,FALSE)","v":{"$error":"#REF!"}},{"$f":"VLOOKUP($B335,#REF!,10,FALSE)","v":{"$error":"#REF!"}},{"$f":"VLOOKUP($B335,#REF!,17,FALSE)","v":{"$error":"#REF!"}},{"$f":"IFERROR(VLOOKUP($B335,#REF!,2,FALSE),\"-\")","v":"-"}]
[null,333,{"$f":"VLOOKUP($B336,#REF!,2,FALSE)","v":{"$error":"#REF!"}},{"$f":"VLOOKUP($B336,#REF!,3,FALSE)","v":{"$error":"#REF!"}},{"$f":"VLOOKUP($B336,#REF!,5,FALSE)","v":{"$error":"#REF!"}},{"$f":"VLOOKUP($B336,#REF!,6,FALSE)","v":{"$error":"#REF!"}},"-",{"$error":"#REF!"},null,{"$f":"VLOOKUP($B336,#REF!,13,FALSE)","v":{"$error":"#REF!"}},{"$f":"VLOOKUP($B336,#REF!,10,FALSE)","v":{"$error":"#REF!"}},{"$f":"VLOOKUP($B336,#REF!,17,FALSE)","v":{"$error":"#REF!"}},{"$f":"IFERROR(VLOOKUP($B336,#REF!,2,FALSE),\"-\")","v":"-"}]
[null,334,{"$f":"VLOOKUP($B337,#REF!,2,FALSE)","v":{"$error":"#REF!"}},{"$f":"VLOOKUP($B337,#REF!,3,FALSE)","v":{"$error":"#REF!"}},{"$f":"VLOOKUP($B337,#REF!,5,FALSE)","v":{"$error":"#REF!"}},{"$f":"VLOOKUP($B337,#REF!,6,FALSE)","v":{"$error":"#REF!"}},"-",{"$error":"#REF!"},null,{"$f":"VLOOKUP($B337,#REF!,13,FALSE)","v":{"$error":"#REF!"}},{"$f":"VLOOKUP($B337,#REF!,10,FALSE)","v":{"$error":"#REF!"}},{"$f":"VLOOKUP($B337,#REF!,17,FALSE)","v":{"$error":"#REF!"}},{"$f":"IFERROR(VLOOKUP($B337,#REF!,2,FALSE),\"-\")","v":"-"}]
[null,335,{"$f":"VLOOKUP($B338,#REF!,2,FALSE)","v":{"$error":"#REF!"}},{"$f":"VLOOKUP($B338,#REF!,3,FALSE)","v":{"$error":"#REF!"}},{"$f":"VLOOKUP($B338,#REF!,5,FALSE)","v":{"$error":"#REF!"}},{"$f":"VLOOKUP($B338,#REF!,6,FALSE)","v":{"$error":"#REF!"}},"-",{"$error":"#REF!"},null,{"$f":"VLOOKUP($B338,#REF!,13,FALSE)","v":{"$error":"#REF!"}},{"$f":"VLOOKUP($B338,#REF!,10,FALSE)","v":{"$error":"#REF!"}},{"$f":"VLOOKUP($B338,#REF!,17,FALSE)","v":{"$error":"#REF!"}},{"$f":"IFERROR(VLOOKUP($B338,#REF!,2,FALSE),\"-\")","v":"-"}]
[null,336,{"$f":"VLOOKUP($B339,#REF!,2,FALSE)","v":{"$error":"#REF!"}},{"$f":"VLOOKUP($B339,#REF!,3,FALSE)","v":{"$error":"#REF!"}},{"$f":"VLOOKUP($B339,#REF!,5,FALSE)","v":{"$error":"#REF!"}},{"$f":"VLOOKUP($B339,#REF!,6,FALSE)","v":{"$error":"#REF!"}},"-",{"$error":"#REF!"},null,{"$f":"VLOOKUP($B339,#REF!,13,FALSE)","v":{"$error":"#REF!"}},{"$f":"VLOOKUP($B339,#REF!,10,FALSE)","v":{"$error":"#REF!"}},{"$f":"VLOOKUP($B339,#REF!,17,FALSE)","v":{"$error":"#REF!"}},{"$f":"IFERROR(VLOOKUP($B339,#REF!,2,FALSE),\"-\")","v":"-"}]
[null,337,{"$f":"VLOOKUP($B340,#REF!,2,FALSE)","v":{"$error":"#REF!"}},{"$f":"VLOOKUP($B340,#REF!,3,FALSE)","v":{"$error":"#REF!"}},{"$f":"VLOOKUP($B340,#REF!,5,FALSE)","v":{"$error":"#REF!"}},{"$f":"VLOOKUP($B340,#REF!,6,FALSE)","v":{"$error":"#REF!"}},"-",{"$error":"#REF!"},null,{"$f":"VLOOKUP($B340,#REF!,13,FALSE)","v":{"$error":"#REF!"}},{"$f":"VLOOKUP($B340,#REF!,10,FALSE)","v":{"$error":"#REF!"}},{"$f":"VLOOKUP($B340,#REF!,17,FALSE)","v":{"$error":"#REF!"}},{"$f":"IFERROR(VLOOKUP($B340,#REF!,2,FALSE),\"-\")","v":"-"}]
[null,338,{"$f":"VLOOKUP($B341,#REF!,2,FALSE)","v":{"$error":"#REF!"}},{"$f":"VLOOKUP($B341,#REF!,3,FALSE)","v":{"$error":"#REF!"}},{"$f":"VLOOKUP($B341,#REF!,5,FALSE)","v":{"$error":"#REF!"}},{"$f":"VLOOKUP($B341,#REF!,6,FALSE)","v":{"$error":"#REF!"}},"-",{"$error":"#REF!"},null,{"$f":"VLOOKUP($B341,#REF!,13,FALSE)","v":{"$error":"#REF!"}},{"$f":"VLOOKUP($B341,#REF!,10,FALSE)","v":{"$error":"#REF!"}},{"$f":"VLOOKUP($B341,#REF!,17,FALSE)","v":{"$error":"#REF!"}},{"$f":"IFERROR(VLOOKUP($B341,#REF!,2,FALSE),\"-\")","v":"-"}]
[null,339,{"$f":"VLOOKUP($B342,#REF!,2,FALSE)","v":{"$error":"#REF!"}},{"$f":"VLOOKUP($B342,#REF!,3,FALSE)","v":{"$error":"#REF!"}},{"$f":"VLOOKUP($B342,#REF!,5,FALSE)","v":{"$error":"#REF!"}},{"$f":"VLOOKUP($B342,#REF!,6,FALSE)","v":{"$error":"#REF!"}},"-",{"$error":"#REF!"},null,{"$f":"VLOOKUP($B342,#REF!,13,FALSE)","v":{"$error":"#REF!"}},{"$f":"VLOOKUP($B342,#REF!,10,FALSE)","v":{"$error":"#REF!"}},{"$f":"VLOOKUP($B342,#REF!,17,FALSE)","v":{"$error":"#REF!"}},{"$f":"IFERROR(VLOOKUP($B342,#REF!,2,FALSE),\"-\")","v":"-"}]
[null,340,{"$f":"VLOOKUP($B343,#REF!,2,FALSE)","v":{"$error":"#REF!"}},{"$f":"VLOOKUP($B343,#REF!,3,FALSE)","v":{"$error":"#REF!"}},{"$f":"VLOOKUP($B343,#REF!,5,FALSE)","v":{"$error":"#REF!"}},{"$f":"VLOOKUP($B343,#REF!,6,FALSE)","v":{"$error":"#REF!"}},"-",{"$error":"#REF!"},null,{"$f":"VLOOKUP($B343,#REF!,13,FALSE)","v":{"$error":"#REF!"}},{"$f":"VLOOKUP($B343,#REF!,10,FALSE)","v":{"$error":"#REF!"}},{"$f":"VLOOKUP($B343,#REF!,17,FALSE)","v":{"$error":"#REF!"}},{"$f":"IFERROR(VLOOKUP($B343,#REF!,2,FALSE),\"-\")","v":"-"}]
[null,341,{"$f":"VLOOKUP($B344,#REF!,2,FALSE)","v":{"$error":"#REF!"}},{"$f":"VLOOKUP($B344,#REF!,3,FALSE)","v":{"$error":"#REF!"}},{"$f":"VLOOKUP($B344,#REF!,5,FALSE)","v":{"$error":"#REF!"}},{"$f":"VLOOKUP($B344,#REF!,6,FALSE)","v":{"$error":"#REF!"}},"-",{"$error":"#REF!"},null,{"$f":"VLOOKUP($B344,#REF!,13,FALSE)","v":{"$error":"#REF!"}},{"$f":"VLOOKUP($B344,#REF!,10,FALSE)","v":{"$error":"#REF!"}},{"$f":"VLOOKUP($B344,#REF!,17,FALSE)","v":{"$error":"#REF!"}},{"$f":"IFERROR(VLOOKUP($B344,#REF!,2,FALSE),\"-\")","v":"-"}]
[null,342,{"$f":"VLOOKUP($B345,#REF!,2,FALSE)","v":{"$error":"#REF!"}},{"$f":"VLOOKUP($B345,#REF!,3,FALSE)","v":{"$error":"#REF!"}},{"$f":"VLOOKUP($B345,#REF!,5,FALSE)","v":{"$error":"#REF!"}},{"$f":"VLOOKUP($B345,#REF!,6,FALSE)","v":{"$error":"#REF!"}},"-",{"$error":"#REF!"},null,{"$f":"VLOOKUP($B345,#REF!,13,FALSE)","v":{"$error":"#REF!"}},{"$f":"VLOOKUP($B345,#REF!,10,FALSE)","v":{"$error":"#REF!"}},{"$f":"VLOOKUP($B345,#REF!,17,FALSE)","v":{"$error":"#REF!"}},{"$f":"IFERROR(VLOOKUP($B345,#REF!,2,FALSE),\"-\")","v":"-"}]
[null,343,{"$f":"VLOOKUP($B346,#REF!,2,FALSE)","v":{"$error":"#REF!"}},{"$f":"VLOOKUP($B346,#REF!,3,FALSE)","v":{"$error":"#REF!"}},{"$f":"VLOOKUP($B346,#REF!,5,FALSE)","v":{"$error":"#REF!"}},{"$f":"VLOOKUP($B346,#REF!,6,FALSE)","v":{"$error":"#REF!"}},"-",{"$error":"#REF!"},null,{"$f":"VLOOKUP($B346,#REF!,13,FALSE)","v":{"$error":"#REF!"}},{"$f":"VLOOKUP($B346,#REF!,10,FALSE)","v":{"$error":"#REF!"}},{"$f":"VLOOKUP($B346,#REF!,17,FALSE)","v":{"$error":"#REF!"}},{"$f":"IFERROR(VLOOKUP($B346,#REF!,2,FALSE),\"-\")","v":"-"}]
[null,344,{"$f":"VLOOKUP($B347,#REF!,2,FALSE)","v":{"$error":"#REF!"}},{"$f":"VLOOKUP($B347,#REF!,3,FALSE)","v":{"$error":"#REF!"}},{"$f":"VLOOKUP($B347,#REF!,5,FALSE)","v":{"$error":"#REF!"}},{"$f":"VLOOKUP($B347,#REF!,6,FALSE)","v":{"$error":"#REF!"}},"-",{"$error":"#REF!"},null,{"$f":"VLOOKUP($B347,#REF!,13,FALSE)","v":{"$error":"#REF!"}},{"$f":"VLOOKUP($B347,#REF!,10,FALSE)","v":{"$error":"#REF!"}},{"$f":"VLOOKUP($B347,#REF!,17,FALSE)","v":{"$error":"#REF!"}},{"$f":"IFERROR(VLOOKUP($B347,#REF!,2,FALSE),\"-\")","v":"-"}]
[null,345,{"$f":"VLOOKUP($B348,#REF!,2,FALSE)","v":{"$error":"#REF!"}},{"$f":"VLOOKUP($B348,#REF!,3,FALSE)","v":{"$error":"#REF!"}},{"$f":"VLOOKUP($B348,#REF!,5,FALSE)","v":{"$error":"#REF!"}},{"$f":"VLOOKUP($B348,#REF!,6,FALSE)","v":{"$error":"#REF!"}},"-",{"$error":"#REF!"},null,{"$f":"VLOOKUP($B348,#REF!,13,FALSE)","v":{"$error":"#REF!"}},{"$f":"VLOOKUP($B348,#REF!,10,FALSE)","v":{"$error":"#REF!"}},{"$f":"VLOOKUP($B348,#REF!,17,FALSE)","v":{"$error":"#REF!"}},{"$f":"IFERROR(VLOOKUP($B348,#REF!,2,FALSE),\"-\")","v":"-"}]
[null,346,{"$f":"VLOOKUP($B349,#REF!,2,FALSE)","v":{"$error":"#REF!"}},{"$f":"VLOOKUP($B349,#REF!,3,FALSE)","v":{"$error":"#REF!"}},{"$f":"VLOOKUP($B349,#REF!,5,FALSE)","v":{"$error":"#REF!"}},{"$f":"VLOOKUP($B349,#REF!,6,FALSE)","v":{"$error":"#REF!"}},"-",{"$error":"#REF!"},null,{"$f":"VLOOKUP($B349,#REF!,13,FALSE)","v":{"$error":"#REF!"}},{"$f":"VLOOKUP($B349,#REF!,10,FALSE)","v":{"$error":"#REF!"}},{"$f":"VLOOKUP($B349,#REF!,17,FALSE)","v":{"$error":"#REF!"}},{"$f":"IFERROR(VLOOKUP($B349,#REF!,2,FALSE),\"-\")","v":"-"}]
[null,347,{"$f":"VLOOKUP($B350,#REF!,2,FALSE)","v":{"$error":"#REF!"}},{"$f":"VLOOKUP($B350,#REF!,3,FALSE)","v":{"$error":"#REF!"}},{"$f":"VLOOKUP($B350,#REF!,5,FALSE)","v":{"$error":"#REF!"}},{"$f":"VLOOKUP($B350,#REF!,6,FALSE)","v":{"$error":"#REF!"}},"-",{"$error":"#REF!"},null,{"$f":"VLOOKUP($B350,#REF!,13,FALSE)","v":{"$error":"#REF!"}},{"$f":"VLOOKUP($B350,#REF!,10,FALSE)","v":{"$error":"#REF!"}},{"$f":"VLOOKUP($B350,#REF!,17,FALSE)","v":{"$error":"#REF!"}},{"$f":"IFERROR(VLOOKUP($B350,#REF!,2,FALSE),\"-\")","v":"-"}]
[null,348,{"$f":"VLOOKUP($B351,#REF!,2,FALSE)","v":{"$error":"#REF!"}},{"$f":"VLOOKUP($B351,#REF!,3,FALSE)","v":{"$error":"#REF!"}},{"$f":"VLOOKUP($B351,#REF!,5,FALSE)","v":{"$error":"#REF!"}},{"$f":"VLOOKUP($B351,#REF!,6,FALSE)","v":{"$error":"#REF!"}},"-",{"$error":"#REF!"},null,{"$f":"VLOOKUP($B351,#REF!,13,FALSE)","v":{"$error":"#REF!"}},{"$f":"VLOOKUP($B351,#REF!,10,FALSE)","v":{"$error":"#REF!"}},{"$f":"VLOOKUP($B351,#REF!,17,FALSE)","v":{"$error":"#REF!"}},{"$f":"IFERROR(VLOOKUP($B351,#REF!,2,FALSE),\"-\")","v":"-"}]
[null,349,{"$f":"VLOOKUP($B352,#REF!,2,FALSE)","v":{"$error":"#REF!"}},{"$f":"VLOOKUP($B352,#REF!,3,FALSE)","v":{"$error":"#REF!"}},{"$f":"VLOOKUP($B352,#REF!,5,FALSE)","v":{"$error":"#REF!"}},{"$f":"VLOOKUP($B352,#REF!,6,FALSE)","v":{"$error":"#REF!"}},"-",{"$error":"#REF!"},null,{"$f":"VLOOKUP($B352,#REF!,13,FALSE)","v":{"$error":"#REF!"}},{"$f":"VLOOKUP($B352,#REF!,10,FALSE)","v":{"$error":"#REF!"}},{"$f":"VLOOKUP($B352,#REF!,17,FALSE)","v":{"$error":"#REF!"}},{"$f":"IFERROR(VLOOKUP($B352,#REF!,2,FALSE),\"-\")","v":"-"}]
[null,350,{"$f":"VLOOKUP($B353,#REF!,2,FALSE)","v":{"$error":"#REF!"}},{"$f":"VLOOKUP($B353,#REF!,3,FALSE)","v":{"$error":"#REF!"}},{"$f":"VLOOKUP($B353,#REF!,5,FALSE)","v":{"$error":"#REF!"}},{"$f":"VLOOKUP($B353,#REF!,6,FALSE)","v":{"$error":"#REF!"}},"-",{"$error":"#REF!"},null,{"$f":"VLOOKUP($B353,#REF!,13,FALSE)","v":{"$error":"#REF!"}},{"$f":"VLOOKUP($B353,#REF!,10,FALSE)","v":{"$error":"#REF!"}},{"$f":"VLOOKUP($B353,#REF!,17,FALSE)","v":{"$error":"#REF!"}},{"$f":"IFERROR(VLOOKUP($B353,#REF!,2,FALSE),\"-\")","v":"-"}]
[null,351,{"$f":"VLOOKUP($B354,#REF!,2,FALSE)","v":{"$error":"#REF!"}},{"$f":"VLOOKUP($B354,#REF!,3,FALSE)","v":{"$error":"#REF!"}},{"$f":"VLOOKUP($B354,#REF!,5,FALSE)","v":{"$error":"#REF!"}},{"$f":"VLOOKUP($B354,#REF!,6,FALSE)","v":{"$error":"#REF!"}},"-",{"$error":"#REF!"},null,{"$f":"VLOOKUP($B354,#REF!,13,FALSE)","v":{"$error":"#REF!"}},{"$f":"VLOOKUP($B354,#REF!,10,FALSE)","v":{"$error":"#REF!"}},{"$f":"VLOOKUP($B354,#REF!,17,FALSE)","v":{"$error":"#REF!"}},{"$f":"IFERROR(VLOOKUP($B354,#REF!,2,FALSE),\"-\")","v":"-"}]
[null,352,{"$f":"VLOOKUP($B355,#REF!,2,FALSE)","v":{"$error":"#REF!"}},{"$f":"VLOOKUP($B355,#REF!,3,FALSE)","v":{"$error":"#REF!"}},{"$f":"VLOOKUP($B355,#REF!,5,FALSE)","v":{"$error":"#REF!"}},{"$f":"VLOOKUP($B355,#REF!,6,FALSE)","v":{"$error":"#REF!"}},"-",{"$error":"#REF!"},null,{"$f":"VLOOKUP($B355,#REF!,13,FALSE)","v":{"$error":"#REF!"}},{"$f":"VLOOKUP($B355,#REF!,10,FALSE)","v":{"$error":"#REF!"}},{"$f":"VLOOKUP($B355,#REF!,17,FALSE)","v":{"$error":"#REF!"}},{"$f":"IFERROR(VLOOKUP($B355,#REF!,2,FALSE),\"-\")","v":"-"}]
[null,353,{"$f":"VLOOKUP($B356,#REF!,2,FALSE)","v":{"$error":"#REF!"}},{"$f":"VLOOKUP($B356,#REF!,3,FALSE)","v":{"$error":"#REF!"}},{"$f":"VLOOKUP($B356,#REF!,5,FALSE)","v":{"$error":"#REF!"}},{"$f":"VLOOKUP($B356,#REF!,6,FALSE)","v":{"$error":"#REF!"}},"-",{"$error":"#REF!"},null,{"$f":"VLOOKUP($B356,#REF!,13,FALSE)","v":{"$error":"#REF!"}},{"$f":"VLOOKUP($B356,#REF!,10,FALSE)","v":{"$error":"#REF!"}},{"$f":"VLOOKUP($B356,#REF!,17,FALSE)","v":{"$error":"#REF!"}},{"$f":"IFERROR(VLOOKUP($B356,#REF!,2,FALSE),\"-\")","v":"-"}]
[null,354,{"$f":"VLOOKUP($B357,#REF!,2,FALSE)","v":{"$error":"#REF!"}},{"$f":"VLOOKUP($B357,#REF!,3,FALSE)","v":{"$error":"#REF!"}},{"$f":"VLOOKUP($B357,#REF!,5,FALSE)","v":{"$error":"#REF!"}},{"$f":"VLOOKUP($B357,#REF!,6,FALSE)","v":{"$error":"#REF!"}},"-",{"$error":"#REF!"},null,{"$f":"VLOOKUP($B357,#REF!,13,FALSE)","v":{"$error":"#REF!"}},{"$f":"VLOOKUP($B357,#REF!,10,FALSE)","v":{"$error":"#REF!"}},{"$f":"VLOOKUP($B357,#REF!,17,FALSE)","v":{"$error":"#REF!"}},{"$f":"IFERROR(VLOOKUP($B357,#REF!,2,FALSE),\"-\")","v":"-"}]
[null,355,{"$f":"VLOOKUP($B358,#REF!,2,FALSE)","v":{"$error":"#REF!"}},{"$f":"VLOOKUP($B358,#REF!,3,FALSE)","v":{"$error":"#REF!"}},{"$f":"VLOOKUP($B358,#REF!,5,FALSE)","v":{"$error":"#REF!"}},{"$f":"VLOOKUP($B358,#REF!,6,FALSE)","v":{"$error":"#REF!"}},"-",{"$error":"#REF!"},null,{"$f":"VLOOKUP($B358,#REF!,13,FALSE)","v":{"$error":"#REF!"}},{"$f":"VLOOKUP($B358,#REF!,10,FALSE)","v":{"$error":"#REF!"}},{"$f":"VLOOKUP($B358,#REF!,17,FALSE)","v":{"$error":"#REF!"}},{"$f":"IFERROR(VLOOKUP($B358,#REF!,2,FALSE),\"-\")","v":"-"}]
[null,356,{"$f":"VLOOKUP($B359,#REF!,2,FALSE)","v":{"$error":"#REF!"}},{"$f":"VLOOKUP($B359,#REF!,3,FALSE)","v":{"$error":"#REF!"}},{"$f":"VLOOKUP($B359,#REF!,5,FALSE)","v":{"$error":"#REF!"}},{"$f":"VLOOKUP($B359,#REF!,6,FALSE)","v":{"$error":"#REF!"}},"-",{"$error":"#REF!"},null,{"$f":"VLOOKUP($B359,#REF!,13,FALSE)","v":{"$error":"#REF!"}},{"$f":"VLOOKUP($B359,#REF!,10,FALSE)","v":{"$error":"#REF!"}},{"$f":"VLOOKUP($B359,#REF!,17,FALSE)","v":{"$error":"#REF!"}},{"$f":"IFERROR(VLOOKUP($B359,#REF!,2,FALSE),\"-\")","v":"-"}]
[null,357,{"$f":"VLOOKUP($B360,#REF!,2,FALSE)","v":{"$error":"#REF!"}},{"$f":"VLOOKUP($B360,#REF!,3,FALSE)","v":{"$error":"#REF!"}},{"$f":"VLOOKUP($B360,#REF!,5,FALSE)","v":{"$error":"#REF!"}},{"$f":"VLOOKUP($B360,#REF!,6,FALSE)","v":{"$error":"#REF!"}},"-",{"$error":"#REF!"},null,{"$f":"VLOOKUP($B360,#REF!,13,FALSE)","v":{"$error":"#REF!"}},{"$f":"VLOOKUP($B360,#REF!,10,FALSE)","v":{"$error":"#REF!"}},{"$f":"VLOOKUP($B360,#REF!,17,FALSE)","v":{"$error":"#REF!"}},{"$f":"IFERROR(VLOOKUP($B360,#REF!,2,FALSE),\"-\")","v":"-"}]
[null,358,{"$f":"VLOOKUP($B361,#REF!,2,FALSE)","v":{"$error":"#REF!"}},{"$f":"VLOOKUP($B361,#REF!,3,FALSE)","v":{"$error":"#REF!"}},{"$f":"VLOOKUP($B361,#REF!,5,FALSE)","v":{"$error":"#REF!"}},{"$f":"VLOOKUP($B361,#REF!,6,FALSE)","v":{"$error":"#REF!"}},"-",{"$error":"#REF!"},null,{"$f":"VLOOKUP($B361,#REF!,13,FALSE)","v":{"$error":"#REF!"}},{"$f":"VLOOKUP($B361,#REF!,10,FALSE)","v":{"$error":"#REF!"}},{"$f":"VLOOKUP($B361,#REF!,17,FALSE)","v":{"$error":"#REF!"}},{"$f":"IFERROR(VLOOKUP($B361,#REF!,2,FALSE),\"-\")","v":"-"}]
[null,359,{"$f":"VLOOKUP($B362,#REF!,2,FALSE)","v":{"$error":"#REF!"}},{"$f":"VLOOKUP($B362,#REF!,3,FALSE)","v":{"$error":"#REF!"}},{"$f":"VLOOKUP($B362,#REF!,5,FALSE)","v":{"$error":"#REF!"}},{"$f":"VLOOKUP($B362,#REF!,6,FALSE)","v":{"$error":"#REF!"}},"-",{"$error":"#REF!"},null,{"$f":"VLOOKUP($B362,#REF!,13,FALSE)","v":{"$error":"#REF!"}},{"$f":"VLOOKUP($B362,#REF!,10,FALSE)","v":{"$error":"#REF!"}},{"$f":"VLOOKUP($B362,#REF!,17,FALSE)","v":{"$error":"#REF!"}},{"$f":"IFERROR(VLOOKUP($B362,#REF!,2,FALSE),\"-\")","v":"-"}]
[null,360,{"$f":"VLOOKUP($B363,#REF!,2,FALSE)","v":{"$error":"#REF!"}},{"$f":"VLOOKUP($B363,#REF!,3,FALSE)","v":{"$error":"#REF!"}},{"$f":"VLOOKUP($B363,#REF!,5,FALSE)","v":{"$error":"#REF!"}},{"$f":"VLOOKUP($B363,#REF!,6,FALSE)","v":{"$error":"#REF!"}},"-",{"$error":"#REF!"},null,{"$f":"VLOOKUP($B363,#REF!,13,FALSE)","v":{"$error":"#REF!"}},{"$f":"VLOOKUP($B363,#REF!,10,FALSE)","v":{"$error":"#REF!"}},{"$f":"VLOOKUP($B363,#REF!,17,FALSE)","v":{"$error":"#REF!"}},{"$f":"IFERROR(VLOOKUP($B363,#REF!,2,FALSE),\"-\")","v":"-"}]
[null,361,{"$f":"VLOOKUP($B364,#REF!,2,FALSE)","v":{"$error":"#REF!"}},{"$f":"VLOOKUP($B364,#REF!,3,FALSE)","v":{"$error":"#REF!"}},{"$f":"VLOOKUP($B364,#REF!,5,FALSE)","v":{"$error":"#REF!"}},{"$f":"VLOOKUP($B364,#REF!,6,FALSE)","v":{"$error":"#REF!"}},"-",{"$error":"#REF!"},null,{"$f":"VLOOKUP($B364,#REF!,13,FALSE)","v":{"$error":"#REF!"}},{"$f":"VLOOKUP($B364,#REF!,10,FALSE)","v":{"$error":"#REF!"}},{"$f":"VLOOKUP($B364,#REF!,17,FALSE)","v":{"$error":"#REF!"}},{"$f":"IFERROR(VLOOKUP($B364,#REF!,2,FALSE),\"-\")","v":"-"}]
[null,362,{"$f":"VLOOKUP($B365,#REF!,2,FALSE)","v":{"$error":"#REF!"}},{"$f":"VLOOKUP($B365,#REF!,3,FALSE)","v":{"$error":"#REF!"}},{"$f":"VLOOKUP($B365,#REF!,5,FALSE)","v":{"$error":"#REF!"}},{"$f":"VLOOKUP($B365,#REF!,6,FALSE)","v":{"$error":"#REF!"}},"-",{"$error":"#REF!"},null,{"$f":"VLOOKUP($B365,#REF!,13,FALSE)","v":{"$error":"#REF!"}},{"$f":"VLOOKUP($B365,#REF!,10,FALSE)","v":{"$error":"#REF!"}},{"$f":"VLOOKUP($B365,#REF!,17,FALSE)","v":{"$error":"#REF!"}},{"$f":"IFERROR(VLOOKUP($B365,#REF!,2,FALSE),\"-\")","v":"-"}]
[null,363,{"$f":"VLOOKUP($B366,#REF!,2,FALSE)","v":{"$error":"#REF!"}},{"$f":"VLOOKUP($B366,#REF!,3,FALSE)","v":{"$error":"#REF!"}},{"$f":"VLOOKUP($B366,#REF!,5,FALSE)","v":{"$error":"#REF!"}},{"$f":"VLOOKUP($B366,#REF!,6,FALSE)","v":{"$error":"#REF!"}},"-",{"$error":"#REF!"},null,{"$f":"VLOOKUP($B366,#REF!,13,FALSE)","v":{"$error":"#REF!"}},{"$f":"VLOOKUP($B366,#REF!,10,FALSE)","v":{"$error":"#REF!"}},{"$f":"VLOOKUP($B366,#REF!,17,FALSE)","v":{"$error":"#REF!"}},{"$f":"IFERROR(VLOOKUP($B366,#REF!,2,FALSE),\"-\")","v":"-"}]
[null,364,{"$f":"VLOOKUP($B367,#REF!,2,FALSE)","v":{"$error":"#REF!"}},{"$f":"VLOOKUP($B367,#REF!,3,FALSE)","v":{"$error":"#REF!"}},{"$f":"VLOOKUP($B367,#REF!,5,FALSE)","v":{"$error":"#REF!"}},{"$f":"VLOOKUP($B367,#REF!,6,FALSE)","v":{"$error":"#REF!"}},"-",{"$error":"#REF!"},null,{"$f":"VLOOKUP($B367,#REF!,13,FALSE)","v":{"$error":"#REF!"}},{"$f":"VLOOKUP($B367,#REF!,10,FALSE)","v":{"$error":"#REF!"}},{"$f":"VLOOKUP($B367,#REF!,17,FALSE)","v":{"$error":"#REF!"}},{"$f":"IFERROR(VLOOKUP($B367,#REF!,2,FALSE),\"-\")","v":"-"}]
[null,365,{"$f":"VLOOKUP($B368,#REF!,2,FALSE)","v":{"$error":"#REF!"}},{"$f":"VLOOKUP($B368,#REF!,3,FALSE)","v":{"$error":"#REF!"}},{"$f":"VLOOKUP($B368,#REF!,5,FALSE)","v":{"$error":"#REF!"}},{"$f":"VLOOKUP($B368,#REF!,6,FALSE)","v":{"$error":"#REF!"}},"-",{"$error":"#REF!"},null,{"$f":"VLOOKUP($B368,#REF!,13,FALSE)","v":{"$error":"#REF!"}},{"$f":"VLOOKUP($B368,#REF!,10,FALSE)","v":{"$error":"#REF!"}},{"$f":"VLOOKUP($B368,#REF!,17,FALSE)","v":{"$error":"#REF!"}},{"$f":"IFERROR(VLOOKUP($B368,#REF!,2,FALSE),\"-\")","v":"-"}]
[null,366,{"$f":"VLOOKUP($B369,#REF!,2,FALSE)","v":{"$error":"#REF!"}},{"$f":"VLOOKUP($B369,#REF!,3,FALSE)","v":{"$error":"#REF!"}},{"$f":"VLOOKUP($B369,#REF!,5,FALSE)","v":{"$error":"#REF!"}},{"$f":"VLOOKUP($B369,#REF!,6,FALSE)","v":{"$error":"#REF!"}},"-",{"$error":"#REF!"},null,{"$f":"VLOOKUP($B369,#REF!,13,FALSE)","v":{"$error":"#REF!"}},{"$f":"VLOOKUP($B369,#REF!,10,FALSE)","v":{"$error":"#REF!"}},{"$f":"VLOOKUP($B369,#REF!,17,FALSE)","v":{"$error":"#REF!"}},{"$f":"IFERROR(VLOOKUP($B369,#REF!,2,FALSE),\"-\")","v":"-"}]
[null,367,{"$f":"VLOOKUP($B370,#REF!,2,FALSE)","v":{"$error":"#REF!"}},{"$f":"VLOOKUP($B370,#REF!,3,FALSE)","v":{"$error":"#REF!"}},{"$f":"VLOOKUP($B370,#REF!,5,FALSE)","v":{"$error":"#REF!"}},{"$f":"VLOOKUP($B370,#REF!,6,FALSE)","v":{"$error":"#REF!"}},"-",{"$error":"#REF!"},null,{"$f":"VLOOKUP($B370,#REF!,13,FALSE)","v":{"$error":"#REF!"}},{"$f":"VLOOKUP($B370,#REF!,10,FALSE)","v":{"$error":"#REF!"}},{"$f":"VLOOKUP($B370,#REF!,17,FALSE)","v":{"$error":"#REF!"}},{"$f":"IFERROR(VLOOKUP($B370,#REF!,2,FALSE),\"-\")","v":"-"}]
[null,368,{"$f":"VLOOKUP($B371,#REF!,2,FALSE)","v":{"$error":"#REF!"}},{"$f":"VLOOKUP($B371,#REF!,3,FALSE)","v":{"$error":"#REF!"}},{"$f":"VLOOKUP($B371,#REF!,5,FALSE)","v":{"$error":"#REF!"}},{"$f":"VLOOKUP($B371,#REF!,6,FALSE)","v":{"$error":"#REF!"}},"-",{"$error":"#REF!"},null,{"$f":"VLOOKUP($B371,#REF!,13,FALSE)","v":{"$error":"#REF!"}},{"$f":"VLOOKUP($B371,#REF!,10,FALSE)","v":{"$error":"#REF!"}},{"$f":"VLOOKUP($B371,#REF!,17,FALSE)","v":{"$error":"#REF!"}},{"$f":"IFERROR(VLOOKUP($B371,#REF!,2,FALSE),\"-\")","v":"-"}]
[null,369,{"$f":"VLOOKUP($B372,#REF!,2,FALSE)","v":{"$error":"#REF!"}},{"$f":"VLOOKUP($B372,#REF!,3,FALSE)","v":{"$error":"#REF!"}},{"$f":"VLOOKUP($B372,#REF!,5,FALSE)","v":{"$error":"#REF!"}},{"$f":"VLOOKUP($B372,#REF!,6,FALSE)","v":{"$error":"#REF!"}},"-",{"$error":"#REF!"},null,{"$f":"VLOOKUP($B372,#REF!,13,FALSE)","v":{"$error":"#REF!"}},{"$f":"VLOOKUP($B372,#REF!,10,FALSE)","v":{"$error":"#REF!"}},{"$f":"VLOOKUP($B372,#REF!,17,FALSE)","v":{"$error":"#REF!"}},{"$f":"IFERROR(VLOOKUP($B372,#REF!,2,FALSE),\"-\")","v":"-"}]
[null,370,{"$f":"VLOOKUP($B373,#REF!,2,FALSE)","v":{"$error":"#REF!"}},{"$f":"VLOOKUP($B373,#REF!,3,FALSE)","v":{"$error":"#REF!"}},{"$f":"VLOOKUP($B373,#REF!,5,FALSE)","v":{"$error":"#REF!"}},{"$f":"VLOOKUP($B373,#REF!,6,FALSE)","v":{"$error":"#REF!"}},"-",{"$error":"#REF!"},null,{"$f":"VLOOKUP($B373,#REF!,13,FALSE)","v":{"$error":"#REF!"}},{"$f":"VLOOKUP($B373,#REF!,10,FALSE)","v":{"$error":"#REF!"}},{"$f":"VLOOKUP($B373,#REF!,17,FALSE)","v":{"$error":"#REF!"}},{"$f":"IFERROR(VLOOKUP($B373,#REF!,2,FALSE),\"-\")","v":"-"}]
[null,371,{"$f":"VLOOKUP($B374,#REF!,2,FALSE)","v":{"$error":"#REF!"}},{"$f":"VLOOKUP($B374,#REF!,3,FALSE)","v":{"$error":"#REF!"}},{"$f":"VLOOKUP($B374,#REF!,5,FALSE)","v":{"$error":"#REF!"}},{"$f":"VLOOKUP($B374,#REF!,6,FALSE)","v":{"$error":"#REF!"}},"-",{"$error":"#REF!"},null,{"$f":"VLOOKUP($B374,#REF!,13,FALSE)","v":{"$error":"#REF!"}},{"$f":"VLOOKUP($B374,#REF!,10,FALSE)","v":{"$error":"#REF!"}},{"$f":"VLOOKUP($B374,#REF!,17,FALSE)","v":{"$error":"#REF!"}},{"$f":"IFERROR(VLOOKUP($B374,#REF!,2,FALSE),\"-\")","v":"-"}]
[null,372,{"$f":"VLOOKUP($B375,#REF!,2,FALSE)","v":{"$error":"#REF!"}},{"$f":"VLOOKUP($B375,#REF!,3,FALSE)","v":{"$error":"#REF!"}},{"$f":"VLOOKUP($B375,#REF!,5,FALSE)","v":{"$error":"#REF!"}},{"$f":"VLOOKUP($B375,#REF!,6,FALSE)","v":{"$error":"#REF!"}},"-",{"$error":"#REF!"},null,{"$f":"VLOOKUP($B375,#REF!,13,FALSE)","v":{"$error":"#REF!"}},{"$f":"VLOOKUP($B375,#REF!,10,FALSE)","v":{"$error":"#REF!"}},{"$f":"VLOOKUP($B375,#REF!,17,FALSE)","v":{"$error":"#REF!"}},{"$f":"IFERROR(VLOOKUP($B375,#REF!,2,FALSE),\"-\")","v":"-"}]
[null,373,{"$f":"VLOOKUP($B376,#REF!,2,FALSE)","v":{"$error":"#REF!"}},{"$f":"VLOOKUP($B376,#REF!,3,FALSE)","v":{"$error":"#REF!"}},{"$f":"VLOOKUP($B376,#REF!,5,FALSE)","v":{"$error":"#REF!"}},{"$f":"VLOOKUP($B376,#REF!,6,FALSE)","v":{"$error":"#REF!"}},"-",{"$error":"#REF!"},null,{"$f":"VLOOKUP($B376,#REF!,13,FALSE)","v":{"$error":"#REF!"}},{"$f":"VLOOKUP($B376,#REF!,10,FALSE)","v":{"$error":"#REF!"}},{"$f":"VLOOKUP($B376,#REF!,17,FALSE)","v":{"$error":"#REF!"}},{"$f":"IFERROR(VLOOKUP($B376,#REF!,2,FALSE),\"-\")","v":"-"}]
[null,374,{"$f":"VLOOKUP($B377,#REF!,2,FALSE)","v":{"$error":"#REF!"}},{"$f":"VLOOKUP($B377,#REF!,3,FALSE)","v":{"$error":"#REF!"}},{"$f":"VLOOKUP($B377,#REF!,5,FALSE)","v":{"$error":"#REF!"}},{"$f":"VLOOKUP($B377,#REF!,6,FALSE)","v":{"$error":"#REF!"}},"-",{"$error":"#REF!"},null,{"$f":"VLOOKUP($B377,#REF!,13,FALSE)","v":{"$error":"#REF!"}},{"$f":"VLOOKUP($B377,#REF!,10,FALSE)","v":{"$error":"#REF!"}},{"$f":"VLOOKUP($B377,#REF!,17,FALSE)","v":{"$error":"#REF!"}},{"$f":"IFERROR(VLOOKUP($B377,#REF!,2,FALSE),\"-\")","v":"-"}]
[null,375,{"$f":"VLOOKUP($B378,#REF!,2,FALSE)","v":{"$error":"#REF!"}},{"$f":"VLOOKUP($B378,#REF!,3,FALSE)","v":{"$error":"#REF!"}},{"$f":"VLOOKUP($B378,#REF!,5,FALSE)","v":{"$error":"#REF!"}},{"$f":"VLOOKUP($B378,#REF!,6,FALSE)","v":{"$error":"#REF!"}},"-",{"$error":"#REF!"},null,{"$f":"VLOOKUP($B378,#REF!,13,FALSE)","v":{"$error":"#REF!"}},{"$f":"VLOOKUP($B378,#REF!,10,FALSE)","v":{"$error":"#REF!"}},{"$f":"VLOOKUP($B378,#REF!,17,FALSE)","v":{"$error":"#REF!"}},{"$f":"IFERROR(VLOOKUP($B378,#REF!,2,FALSE),\"-\")","v":"-"}]
[null,376,{"$f":"VLOOKUP($B379,#REF!,2,FALSE)","v":{"$error":"#REF!"}},{"$f":"VLOOKUP($B379,#REF!,3,FALSE)","v":{"$error":"#REF!"}},{"$f":"VLOOKUP($B379,#REF!,5,FALSE)","v":{"$error":"#REF!"}},{"$f":"VLOOKUP($B379,#REF!,6,FALSE)","v":{"$error":"#REF!"}},"-",{"$error":"#REF!"},null,{"$f":"VLOOKUP($B379,#REF!,13,FALSE)","v":{"$error":"#REF!"}},{"$f":"VLOOKUP($B379,#REF!,10,FALSE)","v":{"$error":"#REF!"}},{"$f":"VLOOKUP($B379,#REF!,17,FALSE)","v":{"$error":"#REF!"}},{"$f":"IFERROR(VLOOKUP($B379,#REF!,2,FALSE),\"-\")","v":"-"}]
[null,377,{"$f":"VLOOKUP($B380,#REF!,2,FALSE)","v":{"$error":"#REF!"}},{"$f":"VLOOKUP($B380,#REF!,3,FALSE)","v":{"$error":"#REF!"}},{"$f":"VLOOKUP($B380,#REF!,5,FALSE)","v":{"$error":"#REF!"}},{"$f":"VLOOKUP($B380,#REF!,6,FALSE)","v":{"$error":"#REF!"}},"-",{"$error":"#REF!"},null,{"$f":"VLOOKUP($B380,#REF!,13,FALSE)","v":{"$error":"#REF!"}},{"$f":"VLOOKUP($B380,#REF!,10,FALSE)","v":{"$error":"#REF!"}},{"$f":"VLOOKUP($B380,#REF!,17,FALSE)","v":{"$error":"#REF!"}},{"$f":"IFERROR(VLOOKUP($B380,#REF!,2,FALSE),\"-\")","v":"-"}]
[null,378,{"$f":"VLOOKUP($B381,#REF!,2,FALSE)","v":{"$error":"#REF!"}},{"$f":"VLOOKUP($B381,#REF!,3,FALSE)","v":{"$error":"#REF!"}},{"$f":"VLOOKUP($B381,#REF!,5,FALSE)","v":{"$error":"#REF!"}},{"$f":"VLOOKUP($B381,#REF!,6,FALSE)","v":{"$error":"#REF!"}},"-",{"$error":"#REF!"},null,{"$f":"VLOOKUP($B381,#REF!,13,FALSE)","v":{"$error":"#REF!"}},{"$f":"VLOOKUP($B381,#REF!,10,FALSE)","v":{"$error":"#REF!"}},{"$f":"VLOOKUP($B381,#REF!,17,FALSE)","v":{"$error":"#REF!"}},{"$f":"IFERROR(VLOOKUP($B381,#REF!,2,FALSE),\"-\")","v":"-"}]
[null,379,{"$f":"VLOOKUP($B382,#REF!,2,FALSE)","v":{"$error":"#REF!"}},{"$f":"VLOOKUP($B382,#REF!,3,FALSE)","v":{"$error":"#REF!"}},{"$f":"VLOOKUP($B382,#REF!,5,FALSE)","v":{"$error":"#REF!"}},{"$f":"VLOOKUP($B382,#REF!,6,FALSE)","v":{"$error":"#REF!"}},"-",{"$error":"#REF!"},null,{"$f":"VLOOKUP($B382,#REF!,13,FALSE)","v":{"$error":"#REF!"}},{"$f":"VLOOKUP($B382,#REF!,10,FALSE)","v":{"$error":"#REF!"}},{"$f":"VLOOKUP($B382,#REF!,17,FALSE)","v":{"$error":"#REF!"}},{"$f":"IFERROR(VLOOKUP($B382,#REF!,2,FALSE),\"-\")","v":"-"}]
[null,380,{"$f":"VLOOKUP($B383,#REF!,2,FALSE)","v":{"$error":"#REF!"}},{"$f":"VLOOKUP($B383,#REF!,3,FALSE)","v":{"$error":"#REF!"}},{"$f":"VLOOKUP($B383,#REF!,5,FALSE)","v":{"$error":"#REF!"}},{"$f":"VLOOKUP($B383,#REF!,6,FALSE)","v":{"$error":"#REF!"}},"-",{"$error":"#REF!"},null,{"$f":"VLOOKUP($B383,#REF!,13,FALSE)","v":{"$error":"#REF!"}},{"$f":"VLOOKUP($B383,#REF!,10,FALSE)","v":{"$error":"#REF!"}},{"$f":"VLOOKUP($B383,#REF!,17,FALSE)","v":{"$error":"#REF!"}},{"$f":"IFERROR(VLOOKUP($B383,#REF!,2,FALSE),\"-\")","v":"-"}]
[null,381,{"$f":"VLOOKUP($B384,#REF!,2,FALSE)","v":{"$error":"#REF!"}},{"$f":"VLOOKUP($B384,#REF!,3,FALSE)","v":{"$error":"#REF!"}},{"$f":"VLOOKUP($B384,#REF!,5,FALSE)","v":{"$error":"#REF!"}},{"$f":"VLOOKUP($B384,#REF!,6,FALSE)","v":{"$error":"#REF!"}},"-",{"$error":"#REF!"},null,{"$f":"VLOOKUP($B384,#REF!,13,FALSE)","v":{"$error":"#REF!"}},{"$f":"VLOOKUP($B384,#REF!,10,FALSE)","v":{"$error":"#REF!"}},{"$f":"VLOOKUP($B384,#REF!,17,FALSE)","v":{"$error":"#REF!"}},{"$f":"IFERROR(VLOOKUP($B384,#REF!,2,FALSE),\"-\")","v":"-"}]
[null,382,{"$f":"VLOOKUP($B385,#REF!,2,FALSE)","v":{"$error":"#REF!"}},{"$f":"VLOOKUP($B385,#REF!,3,FALSE)","v":{"$error":"#REF!"}},{"$f":"VLOOKUP($B385,#REF!,5,FALSE)","v":{"$error":"#REF!"}},{"$f":"VLOOKUP($B385,#REF!,6,FALSE)","v":{"$error":"#REF!"}},"-",{"$error":"#REF!"},null,{"$f":"VLOOKUP($B385,#REF!,13,FALSE)","v":{"$error":"#REF!"}},{"$f":"VLOOKUP($B385,#REF!,10,FALSE)","v":{"$error":"#REF!"}},{"$f":"VLOOKUP($B385,#REF!,17,FALSE)","v":{"$error":"#REF!"}},{"$f":"IFERROR(VLOOKUP($B385,#REF!,2,FALSE),\"-\")","v":"-"}]
[null,383,{"$f":"VLOOKUP($B386,#REF!,2,FALSE)","v":{"$error":"#REF!"}},{"$f":"VLOOKUP($B386,#REF!,3,FALSE)","v":{"$error":"#REF!"}},{"$f":"VLOOKUP($B386,#REF!,5,FALSE)","v":{"$error":"#REF!"}},{"$f":"VLOOKUP($B386,#REF!,6,FALSE)","v":{"$error":"#REF!"}},"-",{"$error":"#REF!"},null,{"$f":"VLOOKUP($B386,#REF!,13,FALSE)","v":{"$error":"#REF!"}},{"$f":"VLOOKUP($B386,#REF!,10,FALSE)","v":{"$error":"#REF!"}},{"$f":"VLOOKUP($B386,#REF!,17,FALSE)","v":{"$error":"#REF!"}},{"$f":"IFERROR(VLOOKUP($B386,#REF!,2,FALSE),\"-\")","v":"-"}]
[null,384,{"$f":"VLOOKUP($B387,#REF!,2,FALSE)","v":{"$error":"#REF!"}},{"$f":"VLOOKUP($B387,#REF!,3,FALSE)","v":{"$error":"#REF!"}},{"$f":"VLOOKUP($B387,#REF!,5,FALSE)","v":{"$error":"#REF!"}},{"$f":"VLOOKUP($B387,#REF!,6,FALSE)","v":{"$error":"#REF!"}},"-",{"$error":"#REF!"},null,{"$f":"VLOOKUP($B387,#REF!,13,FALSE)","v":{"$error":"#REF!"}},{"$f":"VLOOKUP($B387,#REF!,10,FALSE)","v":{"$error":"#REF!"}},{"$f":"VLOOKUP($B387,#REF!,17,FALSE)","v":{"$error":"#REF!"}},{"$f":"IFERROR(VLOOKUP($B387,#REF!,2,FALSE),\"-\")","v":"-"}]
[null,385,{"$f":"VLOOKUP($B388,#REF!,2,FALSE)","v":{"$error":"#REF!"}},{"$f":"VLOOKUP($B388,#REF!,3,FALSE)","v":{"$error":"#REF!"}},{"$f":"VLOOKUP($B388,#REF!,5,FALSE)","v":{"$error":"#REF!"}},{"$f":"VLOOKUP($B388,#REF!,6,FALSE)","v":{"$error":"#REF!"}},{"$f":"IF(M388=1,\"欠席\",IF(M388=9,\"空ﾚｰﾝ\",\"-\"))","v":"-"},{"$error":"#REF!"},null,{"$f":"VLOOKUP($B388,#REF!,13,FALSE)","v":{"$error":"#REF!"}},{"$f":"VLOOKUP($B388,#REF!,10,FALSE)","v":{"$error":"#REF!"}},{"$f":"VLOOKUP($B388,#REF!,17,FALSE)","v":{"$error":"#REF!"}},{"$f":"IFERROR(VLOOKUP($B388,#REF!,2,FALSE),\"-\")","v":"-"}]
[null,386,{"$f":"VLOOKUP($B389,#REF!,2,FALSE)","v":{"$error":"#REF!"}},{"$f":"VLOOKUP($B389,#REF!,3,FALSE)","v":{"$error":"#REF!"}},{"$f":"VLOOKUP($B389,#REF!,5,FALSE)","v":{"$error":"#REF!"}},{"$f":"VLOOKUP($B389,#REF!,6,FALSE)","v":{"$error":"#REF!"}},"-",{"$f":"+C389","v":{"$error":"#REF!"}},null,{"$f":"VLOOKUP($B389,#REF!,13,FALSE)","v":{"$error":"#REF!"}},{"$f":"VLOOKUP($B389,#REF!,10,FALSE)","v":{"$error":"#REF!"}},{"$f":"VLOOKUP($B389,#REF!,17,FALSE)","v":{"$error":"#REF!"}},{"$f":"IFERROR(VLOOKUP($B389,#REF!,2,FALSE),\"-\")","v":"-"}]
[null,387,{"$f":"VLOOKUP($B390,#REF!,2,FALSE)","v":{"$error":"#REF!"}},{"$f":"VLOOKUP($B390,#REF!,3,FALSE)","v":{"$error":"#REF!"}},{"$f":"VLOOKUP($B390,#REF!,5,FALSE)","v":{"$error":"#REF!"}},{"$f":"VLOOKUP($B390,#REF!,6,FALSE)","v":{"$error":"#REF!"}},"-",{"$error":"#REF!"},null,{"$f":"VLOOKUP($B390,#REF!,13,FALSE)","v":{"$error":"#REF!"}},{"$f":"VLOOKUP($B390,#REF!,10,FALSE)","v":{"$error":"#REF!"}},{"$f":"VLOOKUP($B390,#REF!,17,FALSE)","v":{"$error":"#REF!"}},{"$f":"IFERROR(VLOOKUP($B390,#REF!,2,FALSE),\"-\")","v":"-"}]
[null,388,{"$f":"VLOOKUP($B391,#REF!,2,FALSE)","v":{"$error":"#REF!"}},{"$f":"VLOOKUP($B391,#REF!,3,FALSE)","v":{"$error":"#REF!"}},{"$f":"VLOOKUP($B391,#REF!,5,FALSE)","v":{"$error":"#REF!"}},{"$f":"VLOOKUP($B391,#REF!,6,FALSE)","v":{"$error":"#REF!"}},"-",{"$error":"#REF!"},null,{"$f":"VLOOKUP($B391,#REF!,13,FALSE)","v":{"$error":"#REF!"}},{"$f":"VLOOKUP($B391,#REF!,10,FALSE)","v":{"$error":"#REF!"}},{"$f":"VLOOKUP($B391,#REF!,17,FALSE)","v":{"$error":"#REF!"}},{"$f":"IFERROR(VLOOKUP($B391,#REF!,2,FALSE),\"-\")","v":"-"}]
[null,389,{"$f":"VLOOKUP($B392,#REF!,2,FALSE)","v":{"$error":"#REF!"}},{"$f":"VLOOKUP($B392,#REF!,3,FALSE)","v":{"$error":"#REF!"}},{"$f":"VLOOKUP($B392,#REF!,5,FALSE)","v":{"$error":"#REF!"}},{"$f":"VLOOKUP($B392,#REF!,6,FALSE)","v":{"$error":"#REF!"}},"-",{"$error":"#REF!"},null,{"$f":"VLOOKUP($B392,#REF!,13,FALSE)","v":{"$error":"#REF!"}},{"$f":"VLOOKUP($B392,#REF!,10,FALSE)","v":{"$error":"#REF!"}},{"$f":"VLOOKUP($B392,#REF!,17,FALSE)","v":{"$error":"#REF!"}},{"$f":"IFERROR(VLOOKUP($B392,#REF!,2,FALSE),\"-\")","v":"-"}]
[null,390,{"$f":"VLOOKUP($B393,#REF!,2,FALSE)","v":{"$error":"#REF!"}},{"$f":"VLOOKUP($B393,#REF!,3,FALSE)","v":{"$error":"#REF!"}},{"$f":"VLOOKUP($B393,#REF!,5,FALSE)","v":{"$error":"#REF!"}},{"$f":"VLOOKUP($B393,#REF!,6,FALSE)","v":{"$error":"#REF!"}},"-",{"$error":"#REF!"},null,{"$f":"VLOOKUP($B393,#REF!,13,FALSE)","v":{"$error":"#REF!"}},{"$f":"VLOOKUP($B393,#REF!,10,FALSE)","v":{"$error":"#REF!"}},{"$f":"VLOOKUP($B393,#REF!,17,FALSE)","v":{"$error":"#REF!"}},{"$f":"IFERROR(VLOOKUP($B393,#REF!,2,FALSE),\"-\")","v":"-"}]
[null,391,{"$f":"VLOOKUP($B394,#REF!,2,FALSE)","v":{"$error":"#REF!"}},{"$f":"VLOOKUP($B394,#REF!,3,FALSE)","v":{"$error":"#REF!"}},{"$f":"VLOOKUP($B394,#REF!,5,FALSE)","v":{"$error":"#REF!"}},{"$f":"VLOOKUP($B394,#REF!,6,FALSE)","v":{"$error":"#REF!"}},"-",{"$error":"#REF!"},null,{"$f":"VLOOKUP($B394,#REF!,13,FALSE)","v":{"$error":"#REF!"}},{"$f":"VLOOKUP($B394,#REF!,10,FALSE)","v":{"$error":"#REF!"}},{"$f":"VLOOKUP($B394,#REF!,17,FALSE)","v":{"$error":"#REF!"}},{"$f":"IFERROR(VLOOKUP($B394,#REF!,2,FALSE),\"-\")","v":"-"}]
[null,392,{"$f":"VLOOKUP($B395,#REF!,2,FALSE)","v":{"$error":"#REF!"}},{"$f":"VLOOKUP($B395,#REF!,3,FALSE)","v":{"$error":"#REF!"}},{"$f":"VLOOKUP($B395,#REF!,5,FALSE)","v":{"$error":"#REF!"}},{"$f":"VLOOKUP($B395,#REF!,6,FALSE)","v":{"$error":"#REF!"}},"-",{"$error":"#REF!"},null,{"$f":"VLOOKUP($B395,#REF!,13,FALSE)","v":{"$error":"#REF!"}},{"$f":"VLOOKUP($B395,#REF!,10,FALSE)","v":{"$error":"#REF!"}},{"$f":"VLOOKUP($B395,#REF!,17,FALSE)","v":{"$error":"#REF!"}},{"$f":"IFERROR(VLOOKUP($B395,#REF!,2,FALSE),\"-\")","v":"-"}]
[null,393,{"$f":"VLOOKUP($B396,#REF!,2,FALSE)","v":{"$error":"#REF!"}},{"$f":"VLOOKUP($B396,#REF!,3,FALSE)","v":{"$error":"#REF!"}},{"$f":"VLOOKUP($B396,#REF!,5,FALSE)","v":{"$error":"#REF!"}},{"$f":"VLOOKUP($B396,#REF!,6,FALSE)","v":{"$error":"#REF!"}},"-",{"$error":"#REF!"},null,{"$f":"VLOOKUP($B396,#REF!,13,FALSE)","v":{"$error":"#REF!"}},{"$f":"VLOOKUP($B396,#REF!,10,FALSE)","v":{"$error":"#REF!"}},{"$f":"VLOOKUP($B396,#REF!,17,FALSE)","v":{"$error":"#REF!"}},{"$f":"IFERROR(VLOOKUP($B396,#REF!,2,FALSE),\"-\")","v":"-"}]
[null,394,{"$f":"VLOOKUP($B397,#REF!,2,FALSE)","v":{"$error":"#REF!"}},{"$f":"VLOOKUP($B397,#REF!,3,FALSE)","v":{"$error":"#REF!"}},{"$f":"VLOOKUP($B397,#REF!,5,FALSE)","v":{"$error":"#REF!"}},{"$f":"VLOOKUP($B397,#REF!,6,FALSE)","v":{"$error":"#REF!"}},"-",{"$error":"#REF!"},null,{"$f":"VLOOKUP($B397,#REF!,13,FALSE)","v":{"$error":"#REF!"}},{"$f":"VLOOKUP($B397,#REF!,10,FALSE)","v":{"$error":"#REF!"}},{"$f":"VLOOKUP($B397,#REF!,17,FALSE)","v":{"$error":"#REF!"}},{"$f":"IFERROR(VLOOKUP($B397,#REF!,2,FALSE),\"-\")","v":"-"}]
[null,395,{"$f":"VLOOKUP($B398,#REF!,2,FALSE)","v":{"$error":"#REF!"}},{"$f":"VLOOKUP($B398,#REF!,3,FALSE)","v":{"$error":"#REF!"}},{"$f":"VLOOKUP($B398,#REF!,5,FALSE)","v":{"$error":"#REF!"}},{"$f":"VLOOKUP($B398,#REF!,6,FALSE)","v":{"$error":"#REF!"}},"-",{"$error":"#REF!"},null,{"$f":"VLOOKUP($B398,#REF!,13,FALSE)","v":{"$error":"#REF!"}},{"$f":"VLOOKUP($B398,#REF!,10,FALSE)","v":{"$error":"#REF!"}},{"$f":"VLOOKUP($B398,#REF!,17,FALSE)","v":{"$error":"#REF!"}},{"$f":"IFERROR(VLOOKUP($B398,#REF!,2,FALSE),\"-\")","v":"-"}]
[null,396,{"$f":"VLOOKUP($B399,#REF!,2,FALSE)","v":{"$error":"#REF!"}},{"$f":"VLOOKUP($B399,#REF!,3,FALSE)","v":{"$error":"#REF!"}},{"$f":"VLOOKUP($B399,#REF!,5,FALSE)","v":{"$error":"#REF!"}},{"$f":"VLOOKUP($B399,#REF!,6,FALSE)","v":{"$error":"#REF!"}},"-",{"$error":"#REF!"},null,{"$f":"VLOOKUP($B399,#REF!,13,FALSE)","v":{"$error":"#REF!"}},{"$f":"VLOOKUP($B399,#REF!,10,FALSE)","v":{"$error":"#REF!"}},{"$f":"VLOOKUP($B399,#REF!,17,FALSE)","v":{"$error":"#REF!"}},{"$f":"IFERROR(VLOOKUP($B399,#REF!,2,FALSE),\"-\")","v":"-"}]
[null,397,{"$f":"VLOOKUP($B400,#REF!,2,FALSE)","v":{"$error":"#REF!"}},{"$f":"VLOOKUP($B400,#REF!,3,FALSE)","v":{"$error":"#REF!"}},{"$f":"VLOOKUP($B400,#REF!,5,FALSE)","v":{"$error":"#REF!"}},{"$f":"VLOOKUP($B400,#REF!,6,FALSE)","v":{"$error":"#REF!"}},"-",{"$error":"#REF!"},null,{"$f":"VLOOKUP($B400,#REF!,13,FALSE)","v":{"$error":"#REF!"}},{"$f":"VLOOKUP($B400,#REF!,10,FALSE)","v":{"$error":"#REF!"}},{"$f":"VLOOKUP($B400,#REF!,17,FALSE)","v":{"$error":"#REF!"}},{"$f":"IFERROR(VLOOKUP($B400,#REF!,2,FALSE),\"-\")","v":"-"}]
[null,398,{"$f":"VLOOKUP($B401,#REF!,2,FALSE)","v":{"$error":"#REF!"}},{"$f":"VLOOKUP($B401,#REF!,3,FALSE)","v":{"$error":"#REF!"}},{"$f":"VLOOKUP($B401,#REF!,5,FALSE)","v":{"$error":"#REF!"}},{"$f":"VLOOKUP($B401,#REF!,6,FALSE)","v":{"$error":"#REF!"}},"-",{"$error":"#REF!"},null,{"$f":"VLOOKUP($B401,#REF!,13,FALSE)","v":{"$error":"#REF!"}},{"$f":"VLOOKUP($B401,#REF!,10,FALSE)","v":{"$error":"#REF!"}},{"$f":"VLOOKUP($B401,#REF!,17,FALSE)","v":{"$error":"#REF!"}},{"$f":"IFERROR(VLOOKUP($B401,#REF!,2,FALSE),\"-\")","v":"-"}]
[null,399,{"$f":"VLOOKUP($B402,#REF!,2,FALSE)","v":{"$error":"#REF!"}},{"$f":"VLOOKUP($B402,#REF!,3,FALSE)","v":{"$error":"#REF!"}},{"$f":"VLOOKUP($B402,#REF!,5,FALSE)","v":{"$error":"#REF!"}},{"$f":"VLOOKUP($B402,#REF!,6,FALSE)","v":{"$error":"#REF!"}},"-",{"$error":"#REF!"},null,{"$f":"VLOOKUP($B402,#REF!,13,FALSE)","v":{"$error":"#REF!"}},{"$f":"VLOOKUP($B402,#REF!,10,FALSE)","v":{"$error":"#REF!"}},{"$f":"VLOOKUP($B402,#REF!,17,FALSE)","v":{"$error":"#REF!"}},{"$f":"IFERROR(VLOOKUP($B402,#REF!,2,FALSE),\"-\")","v":"-"}]
[null,400,{"$f":"VLOOKUP($B403,#REF!,2,FALSE)","v":{"$error":"#REF!"}},{"$f":"VLOOKUP($B403,#REF!,3,FALSE)","v":{"$error":"#REF!"}},{"$f":"VLOOKUP($B403,#REF!,5,FALSE)","v":{"$error":"#REF!"}},{"$f":"VLOOKUP($B403,#REF!,6,FALSE)","v":{"$error":"#REF!"}},"-",{"$error":"#REF!"},null,{"$f":"VLOOKUP($B403,#REF!,13,FALSE)","v":{"$error":"#REF!"}},{"$f":"VLOOKUP($B403,#REF!,10,FALSE)","v":{"$error":"#REF!"}},{"$f":"VLOOKUP($B403,#REF!,17,FALSE)","v":{"$error":"#REF!"}},{"$f":"IFERROR(VLOOKUP($B403,#REF!,2,FALSE),\"-\")","v":"-"}]
[null,401,{"$f":"VLOOKUP($B404,#REF!,2,FALSE)","v":{"$error":"#REF!"}},{"$f":"VLOOKUP($B404,#REF!,3,FALSE)","v":{"$error":"#REF!"}},{"$f":"VLOOKUP($B404,#REF!,5,FALSE)","v":{"$error":"#REF!"}},{"$f":"VLOOKUP($B404,#REF!,6,FALSE)","v":{"$error":"#REF!"}},"-",{"$error":"#REF!"},null,{"$f":"VLOOKUP($B404,#REF!,13,FALSE)","v":{"$error":"#REF!"}},{"$f":"VLOOKUP($B404,#REF!,10,FALSE)","v":{"$error":"#REF!"}},{"$f":"VLOOKUP($B404,#REF!,17,FALSE)","v":{"$error":"#REF!"}},{"$f":"IFERROR(VLOOKUP($B404,#REF!,2,FALSE),\"-\")","v":"-"}]
[null,402,{"$f":"VLOOKUP($B405,#REF!,2,FALSE)","v":{"$error":"#REF!"}},{"$f":"VLOOKUP($B405,#REF!,3,FALSE)","v":{"$error":"#REF!"}},{"$f":"VLOOKUP($B405,#REF!,5,FALSE)","v":{"$error":"#REF!"}},{"$f":"VLOOKUP($B405,#REF!,6,FALSE)","v":{"$error":"#REF!"}},"-",{"$error":"#REF!"},null,{"$f":"VLOOKUP($B405,#REF!,13,FALSE)","v":{"$error":"#REF!"}},{"$f":"VLOOKUP($B405,#REF!,10,FALSE)","v":{"$error":"#REF!"}},{"$f":"VLOOKUP($B405,#REF!,17,FALSE)","v":{"$error":"#REF!"}},{"$f":"IFERROR(VLOOKUP($B405,#REF!,2,FALSE),\"-\")","v":"-"}]
[null,403,{"$f":"VLOOKUP($B406,#REF!,2,FALSE)","v":{"$error":"#REF!"}},{"$f":"VLOOKUP($B406,#REF!,3,FALSE)","v":{"$error":"#REF!"}},{"$f":"VLOOKUP($B406,#REF!,5,FALSE)","v":{"$error":"#REF!"}},{"$f":"VLOOKUP($B406,#REF!,6,FALSE)","v":{"$error":"#REF!"}},"-",{"$error":"#REF!"},null,{"$f":"VLOOKUP($B406,#REF!,13,FALSE)","v":{"$error":"#REF!"}},{"$f":"VLOOKUP($B406,#REF!,10,FALSE)","v":{"$error":"#REF!"}},{"$f":"VLOOKUP($B406,#REF!,17,FALSE)","v":{"$error":"#REF!"}},{"$f":"IFERROR(VLOOKUP($B406,#REF!,2,FALSE),\"-\")","v":"-"}]
[null,404,{"$f":"VLOOKUP($B407,#REF!,2,FALSE)","v":{"$error":"#REF!"}},{"$f":"VLOOKUP($B407,#REF!,3,FALSE)","v":{"$error":"#REF!"}},{"$f":"VLOOKUP($B407,#REF!,5,FALSE)","v":{"$error":"#REF!"}},{"$f":"VLOOKUP($B407,#REF!,6,FALSE)","v":{"$error":"#REF!"}},"-",{"$error":"#REF!"},null,{"$f":"VLOOKUP($B407,#REF!,13,FALSE)","v":{"$error":"#REF!"}},{"$f":"VLOOKUP($B407,#REF!,10,FALSE)","v":{"$error":"#REF!"}},{"$f":"VLOOKUP($B407,#REF!,17,FALSE)","v":{"$error":"#REF!"}},{"$f":"IFERROR(VLOOKUP($B407,#REF!,2,FALSE),\"-\")","v":"-"}]
[null,405,{"$f":"VLOOKUP($B408,#REF!,2,FALSE)","v":{"$error":"#REF!"}},{"$f":"VLOOKUP($B408,#REF!,3,FALSE)","v":{"$error":"#REF!"}},{"$f":"VLOOKUP($B408,#REF!,5,FALSE)","v":{"$error":"#REF!"}},{"$f":"VLOOKUP($B408,#REF!,6,FALSE)","v":{"$error":"#REF!"}},"-",{"$error":"#REF!"},null,{"$f":"VLOOKUP($B408,#REF!,13,FALSE)","v":{"$error":"#REF!"}},{"$f":"VLOOKUP($B408,#REF!,10,FALSE)","v":{"$error":"#REF!"}},{"$f":"VLOOKUP($B408,#REF!,17,FALSE)","v":{"$error":"#REF!"}},{"$f":"IFERROR(VLOOKUP($B408,#REF!,2,FALSE),\"-\")","v":"-"}]
[null,406,{"$f":"VLOOKUP($B409,#REF!,2,FALSE)","v":{"$error":"#REF!"}},{"$f":"VLOOKUP($B409,#REF!,3,FALSE)","v":{"$error":"#REF!"}},{"$f":"VLOOKUP($B409,#REF!,5,FALSE)","v":{"$error":"#REF!"}},{"$f":"VLOOKUP($B409,#REF!,6,FALSE)","v":{"$error":"#REF!"}},"-",{"$error":"#REF!"},null,{"$f":"VLOOKUP($B409,#REF!,13,FALSE)","v":{"$error":"#REF!"}},{"$f":"VLOOKUP($B409,#REF!,10,FALSE)","v":{"$error":"#REF!"}},{"$f":"VLOOKUP($B409,#REF!,17,FALSE)","v":{"$error":"#REF!"}},{"$f":"IFERROR(VLOOKUP($B409,#REF!,2,FALSE),\"-\")","v":"-"}]
[null,407,{"$f":"VLOOKUP($B410,#REF!,2,FALSE)","v":{"$error":"#REF!"}},{"$f":"VLOOKUP($B410,#REF!,3,FALSE)","v":{"$error":"#REF!"}},{"$f":"VLOOKUP($B410,#REF!,5,FALSE)","v":{"$error":"#REF!"}},{"$f":"VLOOKUP($B410,#REF!,6,FALSE)","v":{"$error":"#REF!"}},"-",{"$error":"#REF!"},null,{"$f":"VLOOKUP($B410,#REF!,13,FALSE)","v":{"$error":"#REF!"}},{"$f":"VLOOKUP($B410,#REF!,10,FALSE)","v":{"$error":"#REF!"}},{"$f":"VLOOKUP($B410,#REF!,17,FALSE)","v":{"$error":"#REF!"}},{"$f":"IFERROR(VLOOKUP($B410,#REF!,2,FALSE),\"-\")","v":"-"}]
[null,408,{"$f":"VLOOKUP($B411,#REF!,2,FALSE)","v":{"$error":"#REF!"}},{"$f":"VLOOKUP($B411,#REF!,3,FALSE)","v":{"$error":"#REF!"}},{"$f":"VLOOKUP($B411,#REF!,5,FALSE)","v":{"$error":"#REF!"}},{"$f":"VLOOKUP($B411,#REF!,6,FALSE)","v":{"$error":"#REF!"}},"-",{"$error":"#REF!"},null,{"$f":"VLOOKUP($B411,#REF!,13,FALSE)","v":{"$error":"#REF!"}},{"$f":"VLOOKUP($B411,#REF!,10,FALSE)","v":{"$error":"#REF!"}},{"$f":"VLOOKUP($B411,#REF!,17,FALSE)","v":{"$error":"#REF!"}},{"$f":"IFERROR(VLOOKUP($B411,#REF!,2,FALSE),\"-\")","v":"-"}]
[null,409,{"$f":"VLOOKUP($B412,#REF!,2,FALSE)","v":{"$error":"#REF!"}},{"$f":"VLOOKUP($B412,#REF!,3,FALSE)","v":{"$error":"#REF!"}},{"$f":"VLOOKUP($B412,#REF!,5,FALSE)","v":{"$error":"#REF!"}},{"$f":"VLOOKUP($B412,#REF!,6,FALSE)","v":{"$error":"#REF!"}},"-",{"$error":"#REF!"},null,{"$f":"VLOOKUP($B412,#REF!,13,FALSE)","v":{"$error":"#REF!"}},{"$f":"VLOOKUP($B412,#REF!,10,FALSE)","v":{"$error":"#REF!"}},{"$f":"VLOOKUP($B412,#REF!,17,FALSE)","v":{"$error":"#REF!"}},{"$f":"IFERROR(VLOOKUP($B412,#REF!,2,FALSE),\"-\")","v":"-"}]
[null,410,{"$f":"VLOOKUP($B413,#REF!,2,FALSE)","v":{"$error":"#REF!"}},{"$f":"VLOOKUP($B413,#REF!,3,FALSE)","v":{"$error":"#REF!"}},{"$f":"VLOOKUP($B413,#REF!,5,FALSE)","v":{"$error":"#REF!"}},{"$f":"VLOOKUP($B413,#REF!,6,FALSE)","v":{"$error":"#REF!"}},"-",{"$error":"#REF!"},null,{"$f":"VLOOKUP($B413,#REF!,13,FALSE)","v":{"$error":"#REF!"}},{"$f":"VLOOKUP($B413,#REF!,10,FALSE)","v":{"$error":"#REF!"}},{"$f":"VLOOKUP($B413,#REF!,17,FALSE)","v":{"$error":"#REF!"}},{"$f":"IFERROR(VLOOKUP($B413,#REF!,2,FALSE),\"-\")","v":"-"}]
[null,411,{"$f":"VLOOKUP($B414,#REF!,2,FALSE)","v":{"$error":"#REF!"}},{"$f":"VLOOKUP($B414,#REF!,3,FALSE)","v":{"$error":"#REF!"}},{"$f":"VLOOKUP($B414,#REF!,5,FALSE)","v":{"$error":"#REF!"}},{"$f":"VLOOKUP($B414,#REF!,6,FALSE)","v":{"$error":"#REF!"}},"-",{"$error":"#REF!"},null,{"$f":"VLOOKUP($B414,#REF!,13,FALSE)","v":{"$error":"#REF!"}},{"$f":"VLOOKUP($B414,#REF!,10,FALSE)","v":{"$error":"#REF!"}},{"$f":"VLOOKUP($B414,#REF!,17,FALSE)","v":{"$error":"#REF!"}},{"$f":"IFERROR(VLOOKUP($B414,#REF!,2,FALSE),\"-\")","v":"-"}]
[null,412,{"$f":"VLOOKUP($B415,#REF!,2,FALSE)","v":{"$error":"#REF!"}},{"$f":"VLOOKUP($B415,#REF!,3,FALSE)","v":{"$error":"#REF!"}},{"$f":"VLOOKUP($B415,#REF!,5,FALSE)","v":{"$error":"#REF!"}},{"$f":"VLOOKUP($B415,#REF!,6,FALSE)","v":{"$error":"#REF!"}},"-",{"$error":"#REF!"},null,{"$f":"VLOOKUP($B415,#REF!,13,FALSE)","v":{"$error":"#REF!"}},{"$f":"VLOOKUP($B415,#REF!,10,FALSE)","v":{"$error":"#REF!"}},{"$f":"VLOOKUP($B415,#REF!,17,FALSE)","v":{"$error":"#REF!"}},{"$f":"IFERROR(VLOOKUP($B415,#REF!,2,FALSE),\"-\")","v":"-"}]
[null,413,{"$f":"VLOOKUP($B416,#REF!,2,FALSE)","v":{"$error":"#REF!"}},{"$f":"VLOOKUP($B416,#REF!,3,FALSE)","v":{"$error":"#REF!"}},{"$f":"VLOOKUP($B416,#REF!,5,FALSE)","v":{"$error":"#REF!"}},{"$f":"VLOOKUP($B416,#REF!,6,FALSE)","v":{"$error":"#REF!"}},"-",{"$error":"#REF!"},null,{"$f":"VLOOKUP($B416,#REF!,13,FALSE)","v":{"$error":"#REF!"}},{"$f":"VLOOKUP($B416,#REF!,10,FALSE)","v":{"$error":"#REF!"}},{"$f":"VLOOKUP($B416,#REF!,17,FALSE)","v":{"$error":"#REF!"}},{"$f":"IFERROR(VLOOKUP($B416,#REF!,2,FALSE),\"-\")","v":"-"}]
[null,414,{"$f":"VLOOKUP($B417,#REF!,2,FALSE)","v":{"$error":"#REF!"}},{"$f":"VLOOKUP($B417,#REF!,3,FALSE)","v":{"$error":"#REF!"}},{"$f":"VLOOKUP($B417,#REF!,5,FALSE)","v":{"$error":"#REF!"}},{"$f":"VLOOKUP($B417,#REF!,6,FALSE)","v":{"$error":"#REF!"}},"-",{"$error":"#REF!"},null,{"$f":"VLOOKUP($B417,#REF!,13,FALSE)","v":{"$error":"#REF!"}},{"$f":"VLOOKUP($B417,#REF!,10,FALSE)","v":{"$error":"#REF!"}},{"$f":"VLOOKUP($B417,#REF!,17,FALSE)","v":{"$error":"#REF!"}},{"$f":"IFERROR(VLOOKUP($B417,#REF!,2,FALSE),\"-\")","v":"-"}]
[null,415,{"$f":"VLOOKUP($B418,#REF!,2,FALSE)","v":{"$error":"#REF!"}},{"$f":"VLOOKUP($B418,#REF!,3,FALSE)","v":{"$error":"#REF!"}},{"$f":"VLOOKUP($B418,#REF!,5,FALSE)","v":{"$error":"#REF!"}},{"$f":"VLOOKUP($B418,#REF!,6,FALSE)","v":{"$error":"#REF!"}},"-",{"$error":"#REF!"},null,{"$f":"VLOOKUP($B418,#REF!,13,FALSE)","v":{"$error":"#REF!"}},{"$f":"VLOOKUP($B418,#REF!,10,FALSE)","v":{"$error":"#REF!"}},{"$f":"VLOOKUP($B418,#REF!,17,FALSE)","v":{"$error":"#REF!"}},{"$f":"IFERROR(VLOOKUP($B418,#REF!,2,FALSE),\"-\")","v":"-"}]
[null,416,{"$f":"VLOOKUP($B419,#REF!,2,FALSE)","v":{"$error":"#REF!"}},{"$f":"VLOOKUP($B419,#REF!,3,FALSE)","v":{"$error":"#REF!"}},{"$f":"VLOOKUP($B419,#REF!,5,FALSE)","v":{"$error":"#REF!"}},{"$f":"VLOOKUP($B419,#REF!,6,FALSE)","v":{"$error":"#REF!"}},"-",{"$error":"#REF!"},null,{"$f":"VLOOKUP($B419,#REF!,13,FALSE)","v":{"$error":"#REF!"}},{"$f":"VLOOKUP($B419,#REF!,10,FALSE)","v":{"$error":"#REF!"}},{"$f":"VLOOKUP($B419,#REF!,17,FALSE)","v":{"$error":"#REF!"}},{"$f":"IFERROR(VLOOKUP($B419,#REF!,2,FALSE),\"-\")","v":"-"}]
[null,417,{"$f":"VLOOKUP($B420,#REF!,2,FALSE)","v":{"$error":"#REF!"}},{"$f":"VLOOKUP($B420,#REF!,3,FALSE)","v":{"$error":"#REF!"}},{"$f":"VLOOKUP($B420,#REF!,5,FALSE)","v":{"$error":"#REF!"}},{"$f":"VLOOKUP($B420,#REF!,6,FALSE)","v":{"$error":"#REF!"}},"-",{"$error":"#REF!"},null,{"$f":"VLOOKUP($B420,#REF!,13,FALSE)","v":{"$error":"#REF!"}},{"$f":"VLOOKUP($B420,#REF!,10,FALSE)","v":{"$error":"#REF!"}},{"$f":"VLOOKUP($B420,#REF!,17,FALSE)","v":{"$error":"#REF!"}},{"$f":"IFERROR(VLOOKUP($B420,#REF!,2,FALSE),\"-\")","v":"-"}]
[null,418,{"$f":"VLOOKUP($B421,#REF!,2,FALSE)","v":{"$error":"#REF!"}},{"$f":"VLOOKUP($B421,#REF!,3,FALSE)","v":{"$error":"#REF!"}},{"$f":"VLOOKUP($B421,#REF!,5,FALSE)","v":{"$error":"#REF!"}},{"$f":"VLOOKUP($B421,#REF!,6,FALSE)","v":{"$error":"#REF!"}},"-",{"$error":"#REF!"},null,{"$f":"VLOOKUP($B421,#REF!,13,FALSE)","v":{"$error":"#REF!"}},{"$f":"VLOOKUP($B421,#REF!,10,FALSE)","v":{"$error":"#REF!"}},{"$f":"VLOOKUP($B421,#REF!,17,FALSE)","v":{"$error":"#REF!"}},{"$f":"IFERROR(VLOOKUP($B421,#REF!,2,FALSE),\"-\")","v":"-"}]
[null,419,{"$f":"VLOOKUP($B422,#REF!,2,FALSE)","v":{"$error":"#REF!"}},{"$f":"VLOOKUP($B422,#REF!,3,FALSE)","v":{"$error":"#REF!"}},{"$f":"VLOOKUP($B422,#REF!,5,FALSE)","v":{"$error":"#REF!"}},{"$f":"VLOOKUP($B422,#REF!,6,FALSE)","v":{"$error":"#REF!"}},"-",{"$error":"#REF!"},null,{"$f":"VLOOKUP($B422,#REF!,13,FALSE)","v":{"$error":"#REF!"}},{"$f":"VLOOKUP($B422,#REF!,10,FALSE)","v":{"$error":"#REF!"}},{"$f":"VLOOKUP($B422,#REF!,17,FALSE)","v":{"$error":"#REF!"}},{"$f":"IFERROR(VLOOKUP($B422,#REF!,2,FALSE),\"-\")","v":"-"}]
[null,420,{"$f":"VLOOKUP($B423,#REF!,2,FALSE)","v":{"$error":"#REF!"}},{"$f":"VLOOKUP($B423,#REF!,3,FALSE)","v":{"$error":"#REF!"}},{"$f":"VLOOKUP($B423,#REF!,5,FALSE)","v":{"$error":"#REF!"}},{"$f":"VLOOKUP($B423,#REF!,6,FALSE)","v":{"$error":"#REF!"}},"-",{"$error":"#REF!"},null,{"$f":"VLOOKUP($B423,#REF!,13,FALSE)","v":{"$error":"#REF!"}},{"$f":"VLOOKUP($B423,#REF!,10,FALSE)","v":{"$error":"#REF!"}},{"$f":"VLOOKUP($B423,#REF!,17,FALSE)","v":{"$error":"#REF!"}},{"$f":"IFERROR(VLOOKUP($B423,#REF!,2,FALSE),\"-\")","v":"-"}]
[null,421,{"$f":"VLOOKUP($B424,#REF!,2,FALSE)","v":{"$error":"#REF!"}},{"$f":"VLOOKUP($B424,#REF!,3,FALSE)","v":{"$error":"#REF!"}},{"$f":"VLOOKUP($B424,#REF!,5,FALSE)","v":{"$error":"#REF!"}},{"$f":"VLOOKUP($B424,#REF!,6,FALSE)","v":{"$error":"#REF!"}},"-",{"$error":"#REF!"},null,{"$f":"VLOOKUP($B424,#REF!,13,FALSE)","v":{"$error":"#REF!"}},{"$f":"VLOOKUP($B424,#REF!,10,FALSE)","v":{"$error":"#REF!"}},{"$f":"VLOOKUP($B424,#REF!,17,FALSE)","v":{"$error":"#REF!"}},{"$f":"IFERROR(VLOOKUP($B424,#REF!,2,FALSE),\"-\")","v":"-"}]
[null,422,{"$f":"VLOOKUP($B425,#REF!,2,FALSE)","v":{"$error":"#REF!"}},{"$f":"VLOOKUP($B425,#REF!,3,FALSE)","v":{"$error":"#REF!"}},{"$f":"VLOOKUP($B425,#REF!,5,FALSE)","v":{"$error":"#REF!"}},{"$f":"VLOOKUP($B425,#REF!,6,FALSE)","v":{"$error":"#REF!"}},"-",{"$error":"#REF!"},null,{"$f":"VLOOKUP($B425,#REF!,13,FALSE)","v":{"$error":"#REF!"}},{"$f":"VLOOKUP($B425,#REF!,10,FALSE)","v":{"$error":"#REF!"}},{"$f":"VLOOKUP($B425,#REF!,17,FALSE)","v":{"$error":"#REF!"}},{"$f":"IFERROR(VLOOKUP($B425,#REF!,2,FALSE),\"-\")","v":"-"}]
[null,423,{"$f":"VLOOKUP($B426,#REF!,2,FALSE)","v":{"$error":"#REF!"}},{"$f":"VLOOKUP($B426,#REF!,3,FALSE)","v":{"$error":"#REF!"}},{"$f":"VLOOKUP($B426,#REF!,5,FALSE)","v":{"$error":"#REF!"}},{"$f":"VLOOKUP($B426,#REF!,6,FALSE)","v":{"$error":"#REF!"}},"-",{"$error":"#REF!"},null,{"$f":"VLOOKUP($B426,#REF!,13,FALSE)","v":{"$error":"#REF!"}},{"$f":"VLOOKUP($B426,#REF!,10,FALSE)","v":{"$error":"#REF!"}},{"$f":"VLOOKUP($B426,#REF!,17,FALSE)","v":{"$error":"#REF!"}},{"$f":"IFERROR(VLOOKUP($B426,#REF!,2,FALSE),\"-\")","v":"-"}]
[null,424,{"$f":"VLOOKUP($B427,#REF!,2,FALSE)","v":{"$error":"#REF!"}},{"$f":"VLOOKUP($B427,#REF!,3,FALSE)","v":{"$error":"#REF!"}},{"$f":"VLOOKUP($B427,#REF!,5,FALSE)","v":{"$error":"#REF!"}},{"$f":"VLOOKUP($B427,#REF!,6,FALSE)","v":{"$error":"#REF!"}},"-",{"$error":"#REF!"},null,{"$f":"VLOOKUP($B427,#REF!,13,FALSE)","v":{"$error":"#REF!"}},{"$f":"VLOOKUP($B427,#REF!,10,FALSE)","v":{"$error":"#REF!"}},{"$f":"VLOOKUP($B427,#REF!,17,FALSE)","v":{"$error":"#REF!"}},{"$f":"IFERROR(VLOOKUP($B427,#REF!,2,FALSE),\"-\")","v":"-"}]
[null,425,{"$f":"VLOOKUP($B428,#REF!,2,FALSE)","v":{"$error":"#REF!"}},{"$f":"VLOOKUP($B428,#REF!,3,FALSE)","v":{"$error":"#REF!"}},{"$f":"VLOOKUP($B428,#REF!,5,FALSE)","v":{"$error":"#REF!"}},{"$f":"VLOOKUP($B428,#REF!,6,FALSE)","v":{"$error":"#REF!"}},"-",{"$error":"#REF!"},null,{"$f":"VLOOKUP($B428,#REF!,13,FALSE)","v":{"$error":"#REF!"}},{"$f":"VLOOKUP($B428,#REF!,10,FALSE)","v":{"$error":"#REF!"}},{"$f":"VLOOKUP($B428,#REF!,17,FALSE)","v":{"$error":"#REF!"}},{"$f":"IFERROR(VLOOKUP($B428,#REF!,2,FALSE),\"-\")","v":"-"}]
[null,426,{"$f":"VLOOKUP($B429,#REF!,2,FALSE)","v":{"$error":"#REF!"}},{"$f":"VLOOKUP($B429,#REF!,3,FALSE)","v":{"$error":"#REF!"}},{"$f":"VLOOKUP($B429,#REF!,5,FALSE)","v":{"$error":"#REF!"}},{"$f":"VLOOKUP($B429,#REF!,6,FALSE)","v":{"$error":"#REF!"}},"-",{"$error":"#REF!"},null,{"$f":"VLOOKUP($B429,#REF!,13,FALSE)","v":{"$error":"#REF!"}},{"$f":"VLOOKUP($B429,#REF!,10,FALSE)","v":{"$error":"#REF!"}},{"$f":"VLOOKUP($B429,#REF!,17,FALSE)","v":{"$error":"#REF!"}},{"$f":"IFERROR(VLOOKUP($B429,#REF!,2,FALSE),\"-\")","v":"-"}]
[null,427,{"$f":"VLOOKUP($B430,#REF!,2,FALSE)","v":{"$error":"#REF!"}},{"$f":"VLOOKUP($B430,#REF!,3,FALSE)","v":{"$error":"#REF!"}},{"$f":"VLOOKUP($B430,#REF!,5,FALSE)","v":{"$error":"#REF!"}},{"$f":"VLOOKUP($B430,#REF!,6,FALSE)","v":{"$error":"#REF!"}},"-",{"$error":"#REF!"},null,{"$f":"VLOOKUP($B430,#REF!,13,FALSE)","v":{"$error":"#REF!"}},{"$f":"VLOOKUP($B430,#REF!,10,FALSE)","v":{"$error":"#REF!"}},{"$f":"VLOOKUP($B430,#REF!,17,FALSE)","v":{"$error":"#REF!"}},{"$f":"IFERROR(VLOOKUP($B430,#REF!,2,FALSE),\"-\")","v":"-"}]
[null,428,{"$f":"VLOOKUP($B431,#REF!,2,FALSE)","v":{"$error":"#REF!"}},{"$f":"VLOOKUP($B431,#REF!,3,FALSE)","v":{"$error":"#REF!"}},{"$f":"VLOOKUP($B431,#REF!,5,FALSE)","v":{"$error":"#REF!"}},{"$f":"VLOOKUP($B431,#REF!,6,FALSE)","v":{"$error":"#REF!"}},"-",{"$error":"#REF!"},null,{"$f":"VLOOKUP($B431,#REF!,13,FALSE)","v":{"$error":"#REF!"}},{"$f":"VLOOKUP($B431,#REF!,10,FALSE)","v":{"$error":"#REF!"}},{"$f":"VLOOKUP($B431,#REF!,17,FALSE)","v":{"$error":"#REF!"}},{"$f":"IFERROR(VLOOKUP($B431,#REF!,2,FALSE),\"-\")","v":"-"}]
[null,429,{"$f":"VLOOKUP($B432,#REF!,2,FALSE)","v":{"$error":"#REF!"}},{"$f":"VLOOKUP($B432,#REF!,3,FALSE)","v":{"$error":"#REF!"}},{"$f":"VLOOKUP($B432,#REF!,5,FALSE)","v":{"$error":"#REF!"}},{"$f":"VLOOKUP($B432,#REF!,6,FALSE)","v":{"$error":"#REF!"}},"-",{"$error":"#REF!"},null,{"$f":"VLOOKUP($B432,#REF!,13,FALSE)","v":{"$error":"#REF!"}},{"$f":"VLOOKUP($B432,#REF!,10,FALSE)","v":{"$error":"#REF!"}},{"$f":"VLOOKUP($B432,#REF!,17,FALSE)","v":{"$error":"#REF!"}},{"$f":"IFERROR(VLOOKUP($B432,#REF!,2,FALSE),\"-\")","v":"-"}]
[null,430,{"$f":"VLOOKUP($B433,#REF!,2,FALSE)","v":{"$error":"#REF!"}},{"$f":"VLOOKUP($B433,#REF!,3,FALSE)","v":{"$error":"#REF!"}},{"$f":"VLOOKUP($B433,#REF!,5,FALSE)","v":{"$error":"#REF!"}},{"$f":"VLOOKUP($B433,#REF!,6,FALSE)","v":{"$error":"#REF!"}},"-",{"$error":"#REF!"},null,{"$f":"VLOOKUP($B433,#REF!,13,FALSE)","v":{"$error":"#REF!"}},{"$f":"VLOOKUP($B433,#REF!,10,FALSE)","v":{"$error":"#REF!"}},{"$f":"VLOOKUP($B433,#REF!,17,FALSE)","v":{"$error":"#REF!"}},{"$f":"IFERROR(VLOOKUP($B433,#REF!,2,FALSE),\"-\")","v":"-"}]
[null,431,{"$f":"VLOOKUP($B434,#REF!,2,FALSE)","v":{"$error":"#REF!"}},{"$f":"VLOOKUP($B434,#REF!,3,FALSE)","v":{"$error":"#REF!"}},{"$f":"VLOOKUP($B434,#REF!,5,FALSE)","v":{"$error":"#REF!"}},{"$f":"VLOOKUP($B434,#REF!,6,FALSE)","v":{"$error":"#REF!"}},"-",{"$error":"#REF!"},null,{"$f":"VLOOKUP($B434,#REF!,13,FALSE)","v":{"$error":"#REF!"}},{"$f":"VLOOKUP($B434,#REF!,10,FALSE)","v":{"$error":"#REF!"}},{"$f":"VLOOKUP($B434,#REF!,17,FALSE)","v":{"$error":"#REF!"}},{"$f":"IFERROR(VLOOKUP($B434,#REF!,2,FALSE),\"-\")","v":"-"}]
[null,432,{"$f":"VLOOKUP($B435,#REF!,2,FALSE)","v":{"$error":"#REF!"}},{"$f":"VLOOKUP($B435,#REF!,3,FALSE)","v":{"$error":"#REF!"}},{"$f":"VLOOKUP($B435,#REF!,5,FALSE)","v":{"$error":"#REF!"}},{"$f":"VLOOKUP($B435,#REF!,6,FALSE)","v":{"$error":"#REF!"}},"-",{"$error":"#REF!"},null,{"$f":"VLOOKUP($B435,#REF!,13,FALSE)","v":{"$error":"#REF!"}},{"$f":"VLOOKUP($B435,#REF!,10,FALSE)","v":{"$error":"#REF!"}},{"$f":"VLOOKUP($B435,#REF!,17,FALSE)","v":{"$error":"#REF!"}},{"$f":"IFERROR(VLOOKUP($B435,#REF!,2,FALSE),\"-\")","v":"-"}]
[null,433,{"$f":"VLOOKUP($B436,#REF!,2,FALSE)","v":{"$error":"#REF!"}},{"$f":"VLOOKUP($B436,#REF!,3,FALSE)","v":{"$error":"#REF!"}},{"$f":"VLOOKUP($B436,#REF!,5,FALSE)","v":{"$error":"#REF!"}},{"$f":"VLOOKUP($B436,#REF!,6,FALSE)","v":{"$error":"#REF!"}},"-",{"$error":"#REF!"},null,{"$f":"VLOOKUP($B436,#REF!,13,FALSE)","v":{"$error":"#REF!"}},{"$f":"VLOOKUP($B436,#REF!,10,FALSE)","v":{"$error":"#REF!"}},{"$f":"VLOOKUP($B436,#REF!,17,FALSE)","v":{"$error":"#REF!"}},{"$f":"IFERROR(VLOOKUP($B436,#REF!,2,FALSE),\"-\")","v":"-"}]
[null,434,{"$f":"VLOOKUP($B437,#REF!,2,FALSE)","v":{"$error":"#REF!"}},{"$f":"VLOOKUP($B437,#REF!,3,FALSE)","v":{"$error":"#REF!"}},{"$f":"VLOOKUP($B437,#REF!,5,FALSE)","v":{"$error":"#REF!"}},{"$f":"VLOOKUP($B437,#REF!,6,FALSE)","v":{"$error":"#REF!"}},"-",{"$error":"#REF!"},null,{"$f":"VLOOKUP($B437,#REF!,13,FALSE)","v":{"$error":"#REF!"}},{"$f":"VLOOKUP($B437,#REF!,10,FALSE)","v":{"$error":"#REF!"}},{"$f":"VLOOKUP($B437,#REF!,17,FALSE)","v":{"$error":"#REF!"}},{"$f":"IFERROR(VLOOKUP($B437,#REF!,2,FALSE),\"-\")","v":"-"}]
[null,435,{"$f":"VLOOKUP($B438,#REF!,2,FALSE)","v":{"$error":"#REF!"}},{"$f":"VLOOKUP($B438,#REF!,3,FALSE)","v":{"$error":"#REF!"}},{"$f":"VLOOKUP($B438,#REF!,5,FALSE)","v":{"$error":"#REF!"}},{"$f":"VLOOKUP($B438,#REF!,6,FALSE)","v":{"$error":"#REF!"}},"-",{"$error":"#REF!"},null,{"$f":"VLOOKUP($B438,#REF!,13,FALSE)","v":{"$error":"#REF!"}},{"$f":"VLOOKUP($B438,#REF!,10,FALSE)","v":{"$error":"#REF!"}},{"$f":"VLOOKUP($B438,#REF!,17,FALSE)","v":{"$error":"#REF!"}},{"$f":"IFERROR(VLOOKUP($B438,#REF!,2,FALSE),\"-\")","v":"-"}]
[null,436,{"$f":"VLOOKUP($B439,#REF!,2,FALSE)","v":{"$error":"#REF!"}},{"$f":"VLOOKUP($B439,#REF!,3,FALSE)","v":{"$error":"#REF!"}},{"$f":"VLOOKUP($B439,#REF!,5,FALSE)","v":{"$error":"#REF!"}},{"$f":"VLOOKUP($B439,#REF!,6,FALSE)","v":{"$error":"#REF!"}},"-",{"$error":"#REF!"},null,{"$f":"VLOOKUP($B439,#REF!,13,FALSE)","v":{"$error":"#REF!"}},{"$f":"VLOOKUP($B439,#REF!,10,FALSE)","v":{"$error":"#REF!"}},{"$f":"VLOOKUP($B439,#REF!,17,FALSE)","v":{"$error":"#REF!"}},{"$f":"IFERROR(VLOOKUP($B439,#REF!,2,FALSE),\"-\")","v":"-"}]
[null,437,{"$f":"VLOOKUP($B440,#REF!,2,FALSE)","v":{"$error":"#REF!"}},{"$f":"VLOOKUP($B440,#REF!,3,FALSE)","v":{"$error":"#REF!"}},{"$f":"VLOOKUP($B440,#REF!,5,FALSE)","v":{"$error":"#REF!"}},{"$f":"VLOOKUP($B440,#REF!,6,FALSE)","v":{"$error":"#REF!"}},"-",{"$error":"#REF!"},null,{"$f":"VLOOKUP($B440,#REF!,13,FALSE)","v":{"$error":"#REF!"}},{"$f":"VLOOKUP($B440,#REF!,10,FALSE)","v":{"$error":"#REF!"}},{"$f":"VLOOKUP($B440,#REF!,17,FALSE)","v":{"$error":"#REF!"}},{"$f":"IFERROR(VLOOKUP($B440,#REF!,2,FALSE),\"-\")","v":"-"}]
[null,438,{"$f":"VLOOKUP($B441,#REF!,2,FALSE)","v":{"$error":"#REF!"}},{"$f":"VLOOKUP($B441,#REF!,3,FALSE)","v":{"$error":"#REF!"}},{"$f":"VLOOKUP($B441,#REF!,5,FALSE)","v":{"$error":"#REF!"}},{"$f":"VLOOKUP($B441,#REF!,6,FALSE)","v":{"$error":"#REF!"}},"-",{"$error":"#REF!"},null,{"$f":"VLOOKUP($B441,#REF!,13,FALSE)","v":{"$error":"#REF!"}},{"$f":"VLOOKUP($B441,#REF!,10,FALSE)","v":{"$error":"#REF!"}},{"$f":"VLOOKUP($B441,#REF!,17,FALSE)","v":{"$error":"#REF!"}},{"$f":"IFERROR(VLOOKUP($B441,#REF!,2,FALSE),\"-\")","v":"-"}]
[null,439,{"$f":"VLOOKUP($B442,#REF!,2,FALSE)","v":{"$error":"#REF!"}},{"$f":"VLOOKUP($B442,#REF!,3,FALSE)","v":{"$error":"#REF!"}},{"$f":"VLOOKUP($B442,#REF!,5,FALSE)","v":{"$error":"#REF!"}},{"$f":"VLOOKUP($B442,#REF!,6,FALSE)","v":{"$error":"#REF!"}},"-",{"$error":"#REF!"},null,{"$f":"VLOOKUP($B442,#REF!,13,FALSE)","v":{"$error":"#REF!"}},{"$f":"VLOOKUP($B442,#REF!,10,FALSE)","v":{"$error":"#REF!"}},{"$f":"VLOOKUP($B442,#REF!,17,FALSE)","v":{"$error":"#REF!"}},{"$f":"IFERROR(VLOOKUP($B442,#REF!,2,FALSE),\"-\")","v":"-"}]
[null,440,{"$f":"VLOOKUP($B443,#REF!,2,FALSE)","v":{"$error":"#REF!"}},{"$f":"VLOOKUP($B443,#REF!,3,FALSE)","v":{"$error":"#REF!"}},{"$f":"VLOOKUP($B443,#REF!,5,FALSE)","v":{"$error":"#REF!"}},{"$f":"VLOOKUP($B443,#REF!,6,FALSE)","v":{"$error":"#REF!"}},"-",{"$error":"#REF!"},null,{"$f":"VLOOKUP($B443,#REF!,13,FALSE)","v":{"$error":"#REF!"}},{"$f":"VLOOKUP($B443,#REF!,10,FALSE)","v":{"$error":"#REF!"}},{"$f":"VLOOKUP($B443,#REF!,17,FALSE)","v":{"$error":"#REF!"}},{"$f":"IFERROR(VLOOKUP($B443,#REF!,2,FALSE),\"-\")","v":"-"}]
[null,441,{"$f":"VLOOKUP($B444,#REF!,2,FALSE)","v":{"$error":"#REF!"}},{"$f":"VLOOKUP($B444,#REF!,3,FALSE)","v":{"$error":"#REF!"}},{"$f":"VLOOKUP($B444,#REF!,5,FALSE)","v":{"$error":"#REF!"}},{"$f":"VLOOKUP($B444,#REF!,6,FALSE)","v":{"$error":"#REF!"}},"-",{"$error":"#REF!"},null,{"$f":"VLOOKUP($B444,#REF!,13,FALSE)","v":{"$error":"#REF!"}},{"$f":"VLOOKUP($B444,#REF!,10,FALSE)","v":{"$error":"#REF!"}},{"$f":"VLOOKUP($B444,#REF!,17,FALSE)","v":{"$error":"#REF!"}},{"$f":"IFERROR(VLOOKUP($B444,#REF!,2,FALSE),\"-\")","v":"-"}]
[null,442,{"$f":"VLOOKUP($B445,#REF!,2,FALSE)","v":{"$error":"#REF!"}},{"$f":"VLOOKUP($B445,#REF!,3,FALSE)","v":{"$error":"#REF!"}},{"$f":"VLOOKUP($B445,#REF!,5,FALSE)","v":{"$error":"#REF!"}},{"$f":"VLOOKUP($B445,#REF!,6,FALSE)","v":{"$error":"#REF!"}},"-",{"$error":"#REF!"},null,{"$f":"VLOOKUP($B445,#REF!,13,FALSE)","v":{"$error":"#REF!"}},{"$f":"VLOOKUP($B445,#REF!,10,FALSE)","v":{"$error":"#REF!"}},{"$f":"VLOOKUP($B445,#REF!,17,FALSE)","v":{"$error":"#REF!"}},{"$f":"IFERROR(VLOOKUP($B445,#REF!,2,FALSE),\"-\")","v":"-"}]
[null,443,{"$f":"VLOOKUP($B446,#REF!,2,FALSE)","v":{"$error":"#REF!"}},{"$f":"VLOOKUP($B446,#REF!,3,FALSE)","v":{"$error":"#REF!"}},{"$f":"VLOOKUP($B446,#REF!,5,FALSE)","v":{"$error":"#REF!"}},{"$f":"VLOOKUP($B446,#REF!,6,FALSE)","v":{"$error":"#REF!"}},"-",{"$error":"#REF!"},null,{"$f":"VLOOKUP($B446,#REF!,13,FALSE)","v":{"$error":"#REF!"}},{"$f":"VLOOKUP($B446,#REF!,10,FALSE)","v":{"$error":"#REF!"}},{"$f":"VLOOKUP($B446,#REF!,17,FALSE)","v":{"$error":"#REF!"}},{"$f":"IFERROR(VLOOKUP($B446,#REF!,2,FALSE),\"-\")","v":"-"}]
[null,444,{"$f":"VLOOKUP($B447,#REF!,2,FALSE)","v":{"$error":"#REF!"}},{"$f":"VLOOKUP($B447,#REF!,3,FALSE)","v":{"$error":"#REF!"}},{"$f":"VLOOKUP($B447,#REF!,5,FALSE)","v":{"$error":"#REF!"}},{"$f":"VLOOKUP($B447,#REF!,6,FALSE)","v":{"$error":"#REF!"}},"-",{"$error":"#REF!"},null,{"$f":"VLOOKUP($B447,#REF!,13,FALSE)","v":{"$error":"#REF!"}},{"$f":"VLOOKUP($B447,#REF!,10,FALSE)","v":{"$error":"#REF!"}},{"$f":"VLOOKUP($B447,#REF!,17,FALSE)","v":{"$error":"#REF!"}},{"$f":"IFERROR(VLOOKUP($B447,#REF!,2,FALSE),\"-\")","v":"-"}]
[null,445,{"$f":"VLOOKUP($B448,#REF!,2,FALSE)","v":{"$error":"#REF!"}},{"$f":"VLOOKUP($B448,#REF!,3,FALSE)","v":{"$error":"#REF!"}},{"$f":"VLOOKUP($B448,#REF!,5,FALSE)","v":{"$error":"#REF!"}},{"$f":"VLOOKUP($B448,#REF!,6,FALSE)","v":{"$error":"#REF!"}},"-",{"$error":"#REF!"},null,{"$f":"VLOOKUP($B448,#REF!,13,FALSE)","v":{"$error":"#REF!"}},{"$f":"VLOOKUP($B448,#REF!,10,FALSE)","v":{"$error":"#REF!"}},{"$f":"VLOOKUP($B448,#REF!,17,FALSE)","v":{"$error":"#REF!"}},{"$f":"IFERROR(VLOOKUP($B448,#REF!,2,FALSE),\"-\")","v":"-"}]
[null,446,{"$f":"VLOOKUP($B449,#REF!,2,FALSE)","v":{"$error":"#REF!"}},{"$f":"VLOOKUP($B449,#REF!,3,FALSE)","v":{"$error":"#REF!"}},{"$f":"VLOOKUP($B449,#REF!,5,FALSE)","v":{"$error":"#REF!"}},{"$f":"VLOOKUP($B449,#REF!,6,FALSE)","v":{"$error":"#REF!"}},"-",{"$error":"#REF!"},null,{"$f":"VLOOKUP($B449,#REF!,13,FALSE)","v":{"$error":"#REF!"}},{"$f":"VLOOKUP($B449,#REF!,10,FALSE)","v":{"$error":"#REF!"}},{"$f":"VLOOKUP($B449,#REF!,17,FALSE)","v":{"$error":"#REF!"}},{"$f":"IFERROR(VLOOKUP($B449,#REF!,2,FALSE),\"-\")","v":"-"}]
[null,447,{"$f":"VLOOKUP($B450,#REF!,2,FALSE)","v":{"$error":"#REF!"}},{"$f":"VLOOKUP($B450,#REF!,3,FALSE)","v":{"$error":"#REF!"}},{"$f":"VLOOKUP($B450,#REF!,5,FALSE)","v":{"$error":"#REF!"}},{"$f":"VLOOKUP($B450,#REF!,6,FALSE)","v":{"$error":"#REF!"}},"-",{"$error":"#REF!"},null,{"$f":"VLOOKUP($B450,#REF!,13,FALSE)","v":{"$error":"#REF!"}},{"$f":"VLOOKUP($B450,#REF!,10,FALSE)","v":{"$error":"#REF!"}},{"$f":"VLOOKUP($B450,#REF!,17,FALSE)","v":{"$error":"#REF!"}},{"$f":"IFERROR(VLOOKUP($B450,#REF!,2,FALSE),\"-\")","v":"-"}]
[null,448,{"$f":"VLOOKUP($B451,#REF!,2,FALSE)","v":{"$error":"#REF!"}},{"$f":"VLOOKUP($B451,#REF!,3,FALSE)","v":{"$error":"#REF!"}},{"$f":"VLOOKUP($B451,#REF!,5,FALSE)","v":{"$error":"#REF!"}},{"$f":"VLOOKUP($B451,#REF!,6,FALSE)","v":{"$error":"#REF!"}},"-",{"$error":"#REF!"},null,{"$f":"VLOOKUP($B451,#REF!,13,FALSE)","v":{"$error":"#REF!"}},{"$f":"VLOOKUP($B451,#REF!,10,FALSE)","v":{"$error":"#REF!"}},{"$f":"VLOOKUP($B451,#REF!,17,FALSE)","v":{"$error":"#REF!"}},{"$f":"IFERROR(VLOOKUP($B451,#REF!,2,FALSE),\"-\")","v":"-"}]
[null,449,{"$f":"VLOOKUP($B452,#REF!,2,FALSE)","v":{"$error":"#REF!"}},{"$f":"VLOOKUP($B452,#REF!,3,FALSE)","v":{"$error":"#REF!"}},{"$f":"VLOOKUP($B452,#REF!,5,FALSE)","v":{"$error":"#REF!"}},{"$f":"VLOOKUP($B452,#REF!,6,FALSE)","v":{"$error":"#REF!"}},{"$f":"IF(M452=1,\"欠席\",IF(M452=9,\"空ﾚｰﾝ\",\"-\"))","v":"-"},{"$error":"#REF!"},null,{"$f":"VLOOKUP($B452,#REF!,13,FALSE)","v":{"$error":"#REF!"}},{"$f":"VLOOKUP($B452,#REF!,10,FALSE)","v":{"$error":"#REF!"}},{"$f":"VLOOKUP($B452,#REF!,17,FALSE)","v":{"$error":"#REF!"}},{"$f":"IFERROR(VLOOKUP($B452,#REF!,2,FALSE),\"-\")","v":"-"}]
[null,450,{"$f":"VLOOKUP($B453,#REF!,2,FALSE)","v":{"$error":"#REF!"}},{"$f":"VLOOKUP($B453,#REF!,3,FALSE)","v":{"$error":"#REF!"}},{"$f":"VLOOKUP($B453,#REF!,5,FALSE)","v":{"$error":"#REF!"}},{"$f":"VLOOKUP($B453,#REF!,6,FALSE)","v":{"$error":"#REF!"}},"-",{"$f":"+C453","v":{"$error":"#REF!"}},null,{"$f":"VLOOKUP($B453,#REF!,13,FALSE)","v":{"$error":"#REF!"}},{"$f":"VLOOKUP($B453,#REF!,10,FALSE)","v":{"$error":"#REF!"}},{"$f":"VLOOKUP($B453,#REF!,17,FALSE)","v":{"$error":"#REF!"}},{"$f":"IFERROR(VLOOKUP($B453,#REF!,2,FALSE),\"-\")","v":"-"}]
[null,451,{"$f":"VLOOKUP($B454,#REF!,2,FALSE)","v":{"$error":"#REF!"}},{"$f":"VLOOKUP($B454,#REF!,3,FALSE)","v":{"$error":"#REF!"}},{"$f":"VLOOKUP($B454,#REF!,5,FALSE)","v":{"$error":"#REF!"}},{"$f":"VLOOKUP($B454,#REF!,6,FALSE)","v":{"$error":"#REF!"}},"-",{"$error":"#REF!"},null,{"$f":"VLOOKUP($B454,#REF!,13,FALSE)","v":{"$error":"#REF!"}},{"$f":"VLOOKUP($B454,#REF!,10,FALSE)","v":{"$error":"#REF!"}},{"$f":"VLOOKUP($B454,#REF!,17,FALSE)","v":{"$error":"#REF!"}},{"$f":"IFERROR(VLOOKUP($B454,#REF!,2,FALSE),\"-\")","v":"-"}]
[null,452,{"$f":"VLOOKUP($B455,#REF!,2,FALSE)","v":{"$error":"#REF!"}},{"$f":"VLOOKUP($B455,#REF!,3,FALSE)","v":{"$error":"#REF!"}},{"$f":"VLOOKUP($B455,#REF!,5,FALSE)","v":{"$error":"#REF!"}},{"$f":"VLOOKUP($B455,#REF!,6,FALSE)","v":{"$error":"#REF!"}},"-",{"$error":"#REF!"},null,{"$f":"VLOOKUP($B455,#REF!,13,FALSE)","v":{"$error":"#REF!"}},{"$f":"VLOOKUP($B455,#REF!,10,FALSE)","v":{"$error":"#REF!"}},{"$f":"VLOOKUP($B455,#REF!,17,FALSE)","v":{"$error":"#REF!"}},{"$f":"IFERROR(VLOOKUP($B455,#REF!,2,FALSE),\"-\")","v":"-"}]
[null,453,{"$f":"VLOOKUP($B456,#REF!,2,FALSE)","v":{"$error":"#REF!"}},{"$f":"VLOOKUP($B456,#REF!,3,FALSE)","v":{"$error":"#REF!"}},{"$f":"VLOOKUP($B456,#REF!,5,FALSE)","v":{"$error":"#REF!"}},{"$f":"VLOOKUP($B456,#REF!,6,FALSE)","v":{"$error":"#REF!"}},"-",{"$error":"#REF!"},null,{"$f":"VLOOKUP($B456,#REF!,13,FALSE)","v":{"$error":"#REF!"}},{"$f":"VLOOKUP($B456,#REF!,10,FALSE)","v":{"$error":"#REF!"}},{"$f":"VLOOKUP($B456,#REF!,17,FALSE)","v":{"$error":"#REF!"}},{"$f":"IFERROR(VLOOKUP($B456,#REF!,2,FALSE),\"-\")","v":"-"}]
[null,454,{"$f":"VLOOKUP($B457,#REF!,2,FALSE)","v":{"$error":"#REF!"}},{"$f":"VLOOKUP($B457,#REF!,3,FALSE)","v":{"$error":"#REF!"}},{"$f":"VLOOKUP($B457,#REF!,5,FALSE)","v":{"$error":"#REF!"}},{"$f":"VLOOKUP($B457,#REF!,6,FALSE)","v":{"$error":"#REF!"}},"-",{"$error":"#REF!"},null,{"$f":"VLOOKUP($B457,#REF!,13,FALSE)","v":{"$error":"#REF!"}},{"$f":"VLOOKUP($B457,#REF!,10,FALSE)","v":{"$error":"#REF!"}},{"$f":"VLOOKUP($B457,#REF!,17,FALSE)","v":{"$error":"#REF!"}},{"$f":"IFERROR(VLOOKUP($B457,#REF!,2,FALSE),\"-\")","v":"-"}]
[null,455,{"$f":"VLOOKUP($B458,#REF!,2,FALSE)","v":{"$error":"#REF!"}},{"$f":"VLOOKUP($B458,#REF!,3,FALSE)","v":{"$error":"#REF!"}},{"$f":"VLOOKUP($B458,#REF!,5,FALSE)","v":{"$error":"#REF!"}},{"$f":"VLOOKUP($B458,#REF!,6,FALSE)","v":{"$error":"#REF!"}},"-",{"$error":"#REF!"},null,{"$f":"VLOOKUP($B458,#REF!,13,FALSE)","v":{"$error":"#REF!"}},{"$f":"VLOOKUP($B458,#REF!,10,FALSE)","v":{"$error":"#REF!"}},{"$f":"VLOOKUP($B458,#REF!,17,FALSE)","v":{"$error":"#REF!"}},{"$f":"IFERROR(VLOOKUP($B458,#REF!,2,FALSE),\"-\")","v":"-"}]
[null,456,{"$f":"VLOOKUP($B459,#REF!,2,FALSE)","v":{"$error":"#REF!"}},{"$f":"VLOOKUP($B459,#REF!,3,FALSE)","v":{"$error":"#REF!"}},{"$f":"VLOOKUP($B459,#REF!,5,FALSE)","v":{"$error":"#REF!"}},{"$f":"VLOOKUP($B459,#REF!,6,FALSE)","v":{"$error":"#REF!"}},"-",{"$error":"#REF!"},null,{"$f":"VLOOKUP($B459,#REF!,13,FALSE)","v":{"$error":"#REF!"}},{"$f":"VLOOKUP($B459,#REF!,10,FALSE)","v":{"$error":"#REF!"}},{"$f":"VLOOKUP($B459,#REF!,17,FALSE)","v":{"$error":"#REF!"}},{"$f":"IFERROR(VLOOKUP($B459,#REF!,2,FALSE),\"-\")","v":"-"}]
[null,457,{"$f":"VLOOKUP($B460,#REF!,2,FALSE)","v":{"$error":"#REF!"}},{"$f":"VLOOKUP($B460,#REF!,3,FALSE)","v":{"$error":"#REF!"}},{"$f":"VLOOKUP($B460,#REF!,5,FALSE)","v":{"$error":"#REF!"}},{"$f":"VLOOKUP($B460,#REF!,6,FALSE)","v":{"$error":"#REF!"}},"-",{"$error":"#REF!"},null,{"$f":"VLOOKUP($B460,#REF!,13,FALSE)","v":{"$error":"#REF!"}},{"$f":"VLOOKUP($B460,#REF!,10,FALSE)","v":{"$error":"#REF!"}},{"$f":"VLOOKUP($B460,#REF!,17,FALSE)","v":{"$error":"#REF!"}},{"$f":"IFERROR(VLOOKUP($B460,#REF!,2,FALSE),\"-\")","v":"-"}]
[null,458,{"$f":"VLOOKUP($B461,#REF!,2,FALSE)","v":{"$error":"#REF!"}},{"$f":"VLOOKUP($B461,#REF!,3,FALSE)","v":{"$error":"#REF!"}},{"$f":"VLOOKUP($B461,#REF!,5,FALSE)","v":{"$error":"#REF!"}},{"$f":"VLOOKUP($B461,#REF!,6,FALSE)","v":{"$error":"#REF!"}},"-",{"$error":"#REF!"},null,{"$f":"VLOOKUP($B461,#REF!,13,FALSE)","v":{"$error":"#REF!"}},{"$f":"VLOOKUP($B461,#REF!,10,FALSE)","v":{"$error":"#REF!"}},{"$f":"VLOOKUP($B461,#REF!,17,FALSE)","v":{"$error":"#REF!"}},{"$f":"IFERROR(VLOOKUP($B461,#REF!,2,FALSE),\"-\")","v":"-"}]
[null,459,{"$f":"VLOOKUP($B462,#REF!,2,FALSE)","v":{"$error":"#REF!"}},{"$f":"VLOOKUP($B462,#REF!,3,FALSE)","v":{"$error":"#REF!"}},{"$f":"VLOOKUP($B462,#REF!,5,FALSE)","v":{"$error":"#REF!"}},{"$f":"VLOOKUP($B462,#REF!,6,FALSE)","v":{"$error":"#REF!"}},"-",{"$error":"#REF!"},null,{"$f":"VLOOKUP($B462,#REF!,13,FALSE)","v":{"$error":"#REF!"}},{"$f":"VLOOKUP($B462,#REF!,10,FALSE)","v":{"$error":"#REF!"}},{"$f":"VLOOKUP($B462,#REF!,17,FALSE)","v":{"$error":"#REF!"}},{"$f":"IFERROR(VLOOKUP($B462,#REF!,2,FALSE),\"-\")","v":"-"}]
[null,460,{"$f":"VLOOKUP($B463,#REF!,2,FALSE)","v":{"$error":"#REF!"}},{"$f":"VLOOKUP($B463,#REF!,3,FALSE)","v":{"$error":"#REF!"}},{"$f":"VLOOKUP($B463,#REF!,5,FALSE)","v":{"$error":"#REF!"}},{"$f":"VLOOKUP($B463,#REF!,6,FALSE)","v":{"$error":"#REF!"}},"-",{"$error":"#REF!"},null,{"$f":"VLOOKUP($B463,#REF!,13,FALSE)","v":{"$error":"#REF!"}},{"$f":"VLOOKUP($B463,#REF!,10,FALSE)","v":{"$error":"#REF!"}},{"$f":"VLOOKUP($B463,#REF!,17,FALSE)","v":{"$error":"#REF!"}},{"$f":"IFERROR(VLOOKUP($B463,#REF!,2,FALSE),\"-\")","v":"-"}]
[null,461,{"$f":"VLOOKUP($B464,#REF!,2,FALSE)","v":{"$error":"#REF!"}},{"$f":"VLOOKUP($B464,#REF!,3,FALSE)","v":{"$error":"#REF!"}},{"$f":"VLOOKUP($B464,#REF!,5,FALSE)","v":{"$error":"#REF!"}},{"$f":"VLOOKUP($B464,#REF!,6,FALSE)","v":{"$error":"#REF!"}},"-",{"$error":"#REF!"},null,{"$f":"VLOOKUP($B464,#REF!,13,FALSE)","v":{"$error":"#REF!"}},{"$f":"VLOOKUP($B464,#REF!,10,FALSE)","v":{"$error":"#REF!"}},{"$f":"VLOOKUP($B464,#REF!,17,FALSE)","v":{"$error":"#REF!"}},{"$f":"IFERROR(VLOOKUP($B464,#REF!,2,FALSE),\"-\")","v":"-"}]
[null,462,{"$f":"VLOOKUP($B465,#REF!,2,FALSE)","v":{"$error":"#REF!"}},{"$f":"VLOOKUP($B465,#REF!,3,FALSE)","v":{"$error":"#REF!"}},{"$f":"VLOOKUP($B465,#REF!,5,FALSE)","v":{"$error":"#REF!"}},{"$f":"VLOOKUP($B465,#REF!,6,FALSE)","v":{"$error":"#REF!"}},"-",{"$error":"#REF!"},null,{"$f":"VLOOKUP($B465,#REF!,13,FALSE)","v":{"$error":"#REF!"}},{"$f":"VLOOKUP($B465,#REF!,10,FALSE)","v":{"$error":"#REF!"}},{"$f":"VLOOKUP($B465,#REF!,17,FALSE)","v":{"$error":"#REF!"}},{"$f":"IFERROR(VLOOKUP($B465,#REF!,2,FALSE),\"-\")","v":"-"}]
[null,463,{"$f":"VLOOKUP($B466,#REF!,2,FALSE)","v":{"$error":"#REF!"}},{"$f":"VLOOKUP($B466,#REF!,3,FALSE)","v":{"$error":"#REF!"}},{"$f":"VLOOKUP($B466,#REF!,5,FALSE)","v":{"$error":"#REF!"}},{"$f":"VLOOKUP($B466,#REF!,6,FALSE)","v":{"$error":"#REF!"}},"-",{"$error":"#REF!"},null,{"$f":"VLOOKUP($B466,#REF!,13,FALSE)","v":{"$error":"#REF!"}},{"$f":"VLOOKUP($B466,#REF!,10,FALSE)","v":{"$error":"#REF!"}},{"$f":"VLOOKUP($B466,#REF!,17,FALSE)","v":{"$error":"#REF!"}},{"$f":"IFERROR(VLOOKUP($B466,#REF!,2,FALSE),\"-\")","v":"-"}]
[null,464,{"$f":"VLOOKUP($B467,#REF!,2,FALSE)","v":{"$error":"#REF!"}},{"$f":"VLOOKUP($B467,#REF!,3,FALSE)","v":{"$error":"#REF!"}},{"$f":"VLOOKUP($B467,#REF!,5,FALSE)","v":{"$error":"#REF!"}},{"$f":"VLOOKUP($B467,#REF!,6,FALSE)","v":{"$error":"#REF!"}},"-",{"$error":"#REF!"},null,{"$f":"VLOOKUP($B467,#REF!,13,FALSE)","v":{"$error":"#REF!"}},{"$f":"VLOOKUP($B467,#REF!,10,FALSE)","v":{"$error":"#REF!"}},{"$f":"VLOOKUP($B467,#REF!,17,FALSE)","v":{"$error":"#REF!"}},{"$f":"IFERROR(VLOOKUP($B467,#REF!,2,FALSE),\"-\")","v":"-"}]
[null,465,{"$f":"VLOOKUP($B468,#REF!,2,FALSE)","v":{"$error":"#REF!"}},{"$f":"VLOOKUP($B468,#REF!,3,FALSE)","v":{"$error":"#REF!"}},{"$f":"VLOOKUP($B468,#REF!,5,FALSE)","v":{"$error":"#REF!"}},{"$f":"VLOOKUP($B468,#REF!,6,FALSE)","v":{"$error":"#REF!"}},"-",{"$error":"#REF!"},null,{"$f":"VLOOKUP($B468,#REF!,13,FALSE)","v":{"$error":"#REF!"}},{"$f":"VLOOKUP($B468,#REF!,10,FALSE)","v":{"$error":"#REF!"}},{"$f":"VLOOKUP($B468,#REF!,17,FALSE)","v":{"$error":"#REF!"}},{"$f":"IFERROR(VLOOKUP($B468,#REF!,2,FALSE),\"-\")","v":"-"}]
[null,466,{"$f":"VLOOKUP($B469,#REF!,2,FALSE)","v":{"$error":"#REF!"}},{"$f":"VLOOKUP($B469,#REF!,3,FALSE)","v":{"$error":"#REF!"}},{"$f":"VLOOKUP($B469,#REF!,5,FALSE)","v":{"$error":"#REF!"}},{"$f":"VLOOKUP($B469,#REF!,6,FALSE)","v":{"$error":"#REF!"}},"-",{"$error":"#REF!"},null,{"$f":"VLOOKUP($B469,#REF!,13,FALSE)","v":{"$error":"#REF!"}},{"$f":"VLOOKUP($B469,#REF!,10,FALSE)","v":{"$error":"#REF!"}},{"$f":"VLOOKUP($B469,#REF!,17,FALSE)","v":{"$error":"#REF!"}},{"$f":"IFERROR(VLOOKUP($B469,#REF!,2,FALSE),\"-\")","v":"-"}]
[null,467,{"$f":"VLOOKUP($B470,#REF!,2,FALSE)","v":{"$error":"#REF!"}},{"$f":"VLOOKUP($B470,#REF!,3,FALSE)","v":{"$error":"#REF!"}},{"$f":"VLOOKUP($B470,#REF!,5,FALSE)","v":{"$error":"#REF!"}},{"$f":"VLOOKUP($B470,#REF!,6,FALSE)","v":{"$error":"#REF!"}},"-",{"$error":"#REF!"},null,{"$f":"VLOOKUP($B470,#REF!,13,FALSE)","v":{"$error":"#REF!"}},{"$f":"VLOOKUP($B470,#REF!,10,FALSE)","v":{"$error":"#REF!"}},{"$f":"VLOOKUP($B470,#REF!,17,FALSE)","v":{"$error":"#REF!"}},{"$f":"IFERROR(VLOOKUP($B470,#REF!,2,FALSE),\"-\")","v":"-"}]
[null,468,{"$f":"VLOOKUP($B471,#REF!,2,FALSE)","v":{"$error":"#REF!"}},{"$f":"VLOOKUP($B471,#REF!,3,FALSE)","v":{"$error":"#REF!"}},{"$f":"VLOOKUP($B471,#REF!,5,FALSE)","v":{"$error":"#REF!"}},{"$f":"VLOOKUP($B471,#REF!,6,FALSE)","v":{"$error":"#REF!"}},"-",{"$error":"#REF!"},null,{"$f":"VLOOKUP($B471,#REF!,13,FALSE)","v":{"$error":"#REF!"}},{"$f":"VLOOKUP($B471,#REF!,10,FALSE)","v":{"$error":"#REF!"}},{"$f":"VLOOKUP($B471,#REF!,17,FALSE)","v":{"$error":"#REF!"}},{"$f":"IFERROR(VLOOKUP($B471,#REF!,2,FALSE),\"-\")","v":"-"}]
[null,469,{"$f":"VLOOKUP($B472,#REF!,2,FALSE)","v":{"$error":"#REF!"}},{"$f":"VLOOKUP($B472,#REF!,3,FALSE)","v":{"$error":"#REF!"}},{"$f":"VLOOKUP($B472,#REF!,5,FALSE)","v":{"$error":"#REF!"}},{"$f":"VLOOKUP($B472,#REF!,6,FALSE)","v":{"$error":"#REF!"}},"-",{"$error":"#REF!"},null,{"$f":"VLOOKUP($B472,#REF!,13,FALSE)","v":{"$error":"#REF!"}},{"$f":"VLOOKUP($B472,#REF!,10,FALSE)","v":{"$error":"#REF!"}},{"$f":"VLOOKUP($B472,#REF!,17,FALSE)","v":{"$error":"#REF!"}},{"$f":"IFERROR(VLOOKUP($B472,#REF!,2,FALSE),\"-\")","v":"-"}]
[null,470,{"$f":"VLOOKUP($B473,#REF!,2,FALSE)","v":{"$error":"#REF!"}},{"$f":"VLOOKUP($B473,#REF!,3,FALSE)","v":{"$error":"#REF!"}},{"$f":"VLOOKUP($B473,#REF!,5,FALSE)","v":{"$error":"#REF!"}},{"$f":"VLOOKUP($B473,#REF!,6,FALSE)","v":{"$error":"#REF!"}},"-",{"$error":"#REF!"},null,{"$f":"VLOOKUP($B473,#REF!,13,FALSE)","v":{"$error":"#REF!"}},{"$f":"VLOOKUP($B473,#REF!,10,FALSE)","v":{"$error":"#REF!"}},{"$f":"VLOOKUP($B473,#REF!,17,FALSE)","v":{"$error":"#REF!"}},{"$f":"IFERROR(VLOOKUP($B473,#REF!,2,FALSE),\"-\")","v":"-"}]
[null,471,{"$f":"VLOOKUP($B474,#REF!,2,FALSE)","v":{"$error":"#REF!"}},{"$f":"VLOOKUP($B474,#REF!,3,FALSE)","v":{"$error":"#REF!"}},{"$f":"VLOOKUP($B474,#REF!,5,FALSE)","v":{"$error":"#REF!"}},{"$f":"VLOOKUP($B474,#REF!,6,FALSE)","v":{"$error":"#REF!"}},"-",{"$error":"#REF!"},null,{"$f":"VLOOKUP($B474,#REF!,13,FALSE)","v":{"$error":"#REF!"}},{"$f":"VLOOKUP($B474,#REF!,10,FALSE)","v":{"$error":"#REF!"}},{"$f":"VLOOKUP($B474,#REF!,17,FALSE)","v":{"$error":"#REF!"}},{"$f":"IFERROR(VLOOKUP($B474,#REF!,2,FALSE),\"-\")","v":"-"}]
[null,472,{"$f":"VLOOKUP($B475,#REF!,2,FALSE)","v":{"$error":"#REF!"}},{"$f":"VLOOKUP($B475,#REF!,3,FALSE)","v":{"$error":"#REF!"}},{"$f":"VLOOKUP($B475,#REF!,5,FALSE)","v":{"$error":"#REF!"}},{"$f":"VLOOKUP($B475,#REF!,6,FALSE)","v":{"$error":"#REF!"}},"-",{"$error":"#REF!"},null,{"$f":"VLOOKUP($B475,#REF!,13,FALSE)","v":{"$error":"#REF!"}},{"$f":"VLOOKUP($B475,#REF!,10,FALSE)","v":{"$error":"#REF!"}},{"$f":"VLOOKUP($B475,#REF!,17,FALSE)","v":{"$error":"#REF!"}},{"$f":"IFERROR(VLOOKUP($B475,#REF!,2,FALSE),\"-\")","v":"-"}]
[null,473,{"$f":"VLOOKUP($B476,#REF!,2,FALSE)","v":{"$error":"#REF!"}},{"$f":"VLOOKUP($B476,#REF!,3,FALSE)","v":{"$error":"#REF!"}},{"$f":"VLOOKUP($B476,#REF!,5,FALSE)","v":{"$error":"#REF!"}},{"$f":"VLOOKUP($B476,#REF!,6,FALSE)","v":{"$error":"#REF!"}},"-",{"$error":"#REF!"},null,{"$f":"VLOOKUP($B476,#REF!,13,FALSE)","v":{"$error":"#REF!"}},{"$f":"VLOOKUP($B476,#REF!,10,FALSE)","v":{"$error":"#REF!"}},{"$f":"VLOOKUP($B476,#REF!,17,FALSE)","v":{"$error":"#REF!"}},{"$f":"IFERROR(VLOOKUP($B476,#REF!,2,FALSE),\"-\")","v":"-"}]
[null,474,{"$f":"VLOOKUP($B477,#REF!,2,FALSE)","v":{"$error":"#REF!"}},{"$f":"VLOOKUP($B477,#REF!,3,FALSE)","v":{"$error":"#REF!"}},{"$f":"VLOOKUP($B477,#REF!,5,FALSE)","v":{"$error":"#REF!"}},{"$f":"VLOOKUP($B477,#REF!,6,FALSE)","v":{"$error":"#REF!"}},"-",{"$error":"#REF!"},null,{"$f":"VLOOKUP($B477,#REF!,13,FALSE)","v":{"$error":"#REF!"}},{"$f":"VLOOKUP($B477,#REF!,10,FALSE)","v":{"$error":"#REF!"}},{"$f":"VLOOKUP($B477,#REF!,17,FALSE)","v":{"$error":"#REF!"}},{"$f":"IFERROR(VLOOKUP($B477,#REF!,2,FALSE),\"-\")","v":"-"}]
[null,475,{"$f":"VLOOKUP($B478,#REF!,2,FALSE)","v":{"$error":"#REF!"}},{"$f":"VLOOKUP($B478,#REF!,3,FALSE)","v":{"$error":"#REF!"}},{"$f":"VLOOKUP($B478,#REF!,5,FALSE)","v":{"$error":"#REF!"}},{"$f":"VLOOKUP($B478,#REF!,6,FALSE)","v":{"$error":"#REF!"}},"-",{"$error":"#REF!"},null,{"$f":"VLOOKUP($B478,#REF!,13,FALSE)","v":{"$error":"#REF!"}},{"$f":"VLOOKUP($B478,#REF!,10,FALSE)","v":{"$error":"#REF!"}},{"$f":"VLOOKUP($B478,#REF!,17,FALSE)","v":{"$error":"#REF!"}},{"$f":"IFERROR(VLOOKUP($B478,#REF!,2,FALSE),\"-\")","v":"-"}]
[null,476,{"$f":"VLOOKUP($B479,#REF!,2,FALSE)","v":{"$error":"#REF!"}},{"$f":"VLOOKUP($B479,#REF!,3,FALSE)","v":{"$error":"#REF!"}},{"$f":"VLOOKUP($B479,#REF!,5,FALSE)","v":{"$error":"#REF!"}},{"$f":"VLOOKUP($B479,#REF!,6,FALSE)","v":{"$error":"#REF!"}},"-",{"$error":"#REF!"},null,{"$f":"VLOOKUP($B479,#REF!,13,FALSE)","v":{"$error":"#REF!"}},{"$f":"VLOOKUP($B479,#REF!,10,FALSE)","v":{"$error":"#REF!"}},{"$f":"VLOOKUP($B479,#REF!,17,FALSE)","v":{"$error":"#REF!"}},{"$f":"IFERROR(VLOOKUP($B479,#REF!,2,FALSE),\"-\")","v":"-"}]
[null,477,{"$f":"VLOOKUP($B480,#REF!,2,FALSE)","v":{"$error":"#REF!"}},{"$f":"VLOOKUP($B480,#REF!,3,FALSE)","v":{"$error":"#REF!"}},{"$f":"VLOOKUP($B480,#REF!,5,FALSE)","v":{"$error":"#REF!"}},{"$f":"VLOOKUP($B480,#REF!,6,FALSE)","v":{"$error":"#REF!"}},"-",{"$error":"#REF!"},null,{"$f":"VLOOKUP($B480,#REF!,13,FALSE)","v":{"$error":"#REF!"}},{"$f":"VLOOKUP($B480,#REF!,10,FALSE)","v":{"$error":"#REF!"}},{"$f":"VLOOKUP($B480,#REF!,17,FALSE)","v":{"$error":"#REF!"}},{"$f":"IFERROR(VLOOKUP($B480,#REF!,2,FALSE),\"-\")","v":"-"}]
[null,478,{"$f":"VLOOKUP($B481,#REF!,2,FALSE)","v":{"$error":"#REF!"}},{"$f":"VLOOKUP($B481,#REF!,3,FALSE)","v":{"$error":"#REF!"}},{"$f":"VLOOKUP($B481,#REF!,5,FALSE)","v":{"$error":"#REF!"}},{"$f":"VLOOKUP($B481,#REF!,6,FALSE)","v":{"$error":"#REF!"}},"-",{"$error":"#REF!"},null,{"$f":"VLOOKUP($B481,#REF!,13,FALSE)","v":{"$error":"#REF!"}},{"$f":"VLOOKUP($B481,#REF!,10,FALSE)","v":{"$error":"#REF!"}},{"$f":"VLOOKUP($B481,#REF!,17,FALSE)","v":{"$error":"#REF!"}},{"$f":"IFERROR(VLOOKUP($B481,#REF!,2,FALSE),\"-\")","v":"-"}]
[null,479,{"$f":"VLOOKUP($B482,#REF!,2,FALSE)","v":{"$error":"#REF!"}},{"$f":"VLOOKUP($B482,#REF!,3,FALSE)","v":{"$error":"#REF!"}},{"$f":"VLOOKUP($B482,#REF!,5,FALSE)","v":{"$error":"#REF!"}},{"$f":"VLOOKUP($B482,#REF!,6,FALSE)","v":{"$error":"#REF!"}},"-",{"$error":"#REF!"},null,{"$f":"VLOOKUP($B482,#REF!,13,FALSE)","v":{"$error":"#REF!"}},{"$f":"VLOOKUP($B482,#REF!,10,FALSE)","v":{"$error":"#REF!"}},{"$f":"VLOOKUP($B482,#REF!,17,FALSE)","v":{"$error":"#REF!"}},{"$f":"IFERROR(VLOOKUP($B482,#REF!,2,FALSE),\"-\")","v":"-"}]
[null,480,{"$f":"VLOOKUP($B483,#REF!,2,FALSE)","v":{"$error":"#REF!"}},{"$f":"VLOOKUP($B483,#REF!,3,FALSE)","v":{"$error":"#REF!"}},{"$f":"VLOOKUP($B483,#REF!,5,FALSE)","v":{"$error":"#REF!"}},{"$f":"VLOOKUP($B483,#REF!,6,FALSE)","v":{"$error":"#REF!"}},"-",{"$error":"#REF!"},null,{"$f":"VLOOKUP($B483,#REF!,13,FALSE)","v":{"$error":"#REF!"}},{"$f":"VLOOKUP($B483,#REF!,10,FALSE)","v":{"$error":"#REF!"}},{"$f":"VLOOKUP($B483,#REF!,17,FALSE)","v":{"$error":"#REF!"}},{"$f":"IFERROR(VLOOKUP($B483,#REF!,2,FALSE),\"-\")","v":"-"}]
[null,481,{"$f":"VLOOKUP($B484,#REF!,2,FALSE)","v":{"$error":"#REF!"}},{"$f":"VLOOKUP($B484,#REF!,3,FALSE)","v":{"$error":"#REF!"}},{"$f":"VLOOKUP($B484,#REF!,5,FALSE)","v":{"$error":"#REF!"}},{"$f":"VLOOKUP($B484,#REF!,6,FALSE)","v":{"$error":"#REF!"}},"-",{"$error":"#REF!"},null,{"$f":"VLOOKUP($B484,#REF!,13,FALSE)","v":{"$error":"#REF!"}},{"$f":"VLOOKUP($B484,#REF!,10,FALSE)","v":{"$error":"#REF!"}},{"$f":"VLOOKUP($B484,#REF!,17,FALSE)","v":{"$error":"#REF!"}},{"$f":"IFERROR(VLOOKUP($B484,#REF!,2,FALSE),\"-\")","v":"-"}]
[null,482,{"$f":"VLOOKUP($B485,#REF!,2,FALSE)","v":{"$error":"#REF!"}},{"$f":"VLOOKUP($B485,#REF!,3,FALSE)","v":{"$error":"#REF!"}},{"$f":"VLOOKUP($B485,#REF!,5,FALSE)","v":{"$error":"#REF!"}},{"$f":"VLOOKUP($B485,#REF!,6,FALSE)","v":{"$error":"#REF!"}},"-",{"$error":"#REF!"},null,{"$f":"VLOOKUP($B485,#REF!,13,FALSE)","v":{"$error":"#REF!"}},{"$f":"VLOOKUP($B485,#REF!,10,FALSE)","v":{"$error":"#REF!"}},{"$f":"VLOOKUP($B485,#REF!,17,FALSE)","v":{"$error":"#REF!"}},{"$f":"IFERROR(VLOOKUP($B485,#REF!,2,FALSE),\"-\")","v":"-"}]
[null,483,{"$f":"VLOOKUP($B486,#REF!,2,FALSE)","v":{"$error":"#REF!"}},{"$f":"VLOOKUP($B486,#REF!,3,FALSE)","v":{"$error":"#REF!"}},{"$f":"VLOOKUP($B486,#REF!,5,FALSE)","v":{"$error":"#REF!"}},{"$f":"VLOOKUP($B486,#REF!,6,FALSE)","v":{"$error":"#REF!"}},"-",{"$error":"#REF!"},null,{"$f":"VLOOKUP($B486,#REF!,13,FALSE)","v":{"$error":"#REF!"}},{"$f":"VLOOKUP($B486,#REF!,10,FALSE)","v":{"$error":"#REF!"}},{"$f":"VLOOKUP($B486,#REF!,17,FALSE)","v":{"$error":"#REF!"}},{"$f":"IFERROR(VLOOKUP($B486,#REF!,2,FALSE),\"-\")","v":"-"}]
[null,484,{"$f":"VLOOKUP($B487,#REF!,2,FALSE)","v":{"$error":"#REF!"}},{"$f":"VLOOKUP($B487,#REF!,3,FALSE)","v":{"$error":"#REF!"}},{"$f":"VLOOKUP($B487,#REF!,5,FALSE)","v":{"$error":"#REF!"}},{"$f":"VLOOKUP($B487,#REF!,6,FALSE)","v":{"$error":"#REF!"}},"-",{"$error":"#REF!"},null,{"$f":"VLOOKUP($B487,#REF!,13,FALSE)","v":{"$error":"#REF!"}},{"$f":"VLOOKUP($B487,#REF!,10,FALSE)","v":{"$error":"#REF!"}},{"$f":"VLOOKUP($B487,#REF!,17,FALSE)","v":{"$error":"#REF!"}},{"$f":"IFERROR(VLOOKUP($B487,#REF!,2,FALSE),\"-\")","v":"-"}]
[null,485,{"$f":"VLOOKUP($B488,#REF!,2,FALSE)","v":{"$error":"#REF!"}},{"$f":"VLOOKUP($B488,#REF!,3,FALSE)","v":{"$error":"#REF!"}},{"$f":"VLOOKUP($B488,#REF!,5,FALSE)","v":{"$error":"#REF!"}},{"$f":"VLOOKUP($B488,#REF!,6,FALSE)","v":{"$error":"#REF!"}},"-",{"$error":"#REF!"},null,{"$f":"VLOOKUP($B488,#REF!,13,FALSE)","v":{"$error":"#REF!"}},{"$f":"VLOOKUP($B488,#REF!,10,FALSE)","v":{"$error":"#REF!"}},{"$f":"VLOOKUP($B488,#REF!,17,FALSE)","v":{"$error":"#REF!"}},{"$f":"IFERROR(VLOOKUP($B488,#REF!,2,FALSE),\"-\")","v":"-"}]
[null,486,{"$f":"VLOOKUP($B489,#REF!,2,FALSE)","v":{"$error":"#REF!"}},{"$f":"VLOOKUP($B489,#REF!,3,FALSE)","v":{"$error":"#REF!"}},{"$f":"VLOOKUP($B489,#REF!,5,FALSE)","v":{"$error":"#REF!"}},{"$f":"VLOOKUP($B489,#REF!,6,FALSE)","v":{"$error":"#REF!"}},"-",{"$error":"#REF!"},null,{"$f":"VLOOKUP($B489,#REF!,13,FALSE)","v":{"$error":"#REF!"}},{"$f":"VLOOKUP($B489,#REF!,10,FALSE)","v":{"$error":"#REF!"}},{"$f":"VLOOKUP($B489,#REF!,17,FALSE)","v":{"$error":"#REF!"}},{"$f":"IFERROR(VLOOKUP($B489,#REF!,2,FALSE),\"-\")","v":"-"}]
[null,487,{"$f":"VLOOKUP($B490,#REF!,2,FALSE)","v":{"$error":"#REF!"}},{"$f":"VLOOKUP($B490,#REF!,3,FALSE)","v":{"$error":"#REF!"}},{"$f":"VLOOKUP($B490,#REF!,5,FALSE)","v":{"$error":"#REF!"}},{"$f":"VLOOKUP($B490,#REF!,6,FALSE)","v":{"$error":"#REF!"}},"-",{"$error":"#REF!"},null,{"$f":"VLOOKUP($B490,#REF!,13,FALSE)","v":{"$error":"#REF!"}},{"$f":"VLOOKUP($B490,#REF!,10,FALSE)","v":{"$error":"#REF!"}},{"$f":"VLOOKUP($B490,#REF!,17,FALSE)","v":{"$error":"#REF!"}},{"$f":"IFERROR(VLOOKUP($B490,#REF!,2,FALSE),\"-\")","v":"-"}]
[null,488,{"$f":"VLOOKUP($B491,#REF!,2,FALSE)","v":{"$error":"#REF!"}},{"$f":"VLOOKUP($B491,#REF!,3,FALSE)","v":{"$error":"#REF!"}},{"$f":"VLOOKUP($B491,#REF!,5,FALSE)","v":{"$error":"#REF!"}},{"$f":"VLOOKUP($B491,#REF!,6,FALSE)","v":{"$error":"#REF!"}},"-",{"$error":"#REF!"},null,{"$f":"VLOOKUP($B491,#REF!,13,FALSE)","v":{"$error":"#REF!"}},{"$f":"VLOOKUP($B491,#REF!,10,FALSE)","v":{"$error":"#REF!"}},{"$f":"VLOOKUP($B491,#REF!,17,FALSE)","v":{"$error":"#REF!"}},{"$f":"IFERROR(VLOOKUP($B491,#REF!,2,FALSE),\"-\")","v":"-"}]
[null,489,{"$f":"VLOOKUP($B492,#REF!,2,FALSE)","v":{"$error":"#REF!"}},{"$f":"VLOOKUP($B492,#REF!,3,FALSE)","v":{"$error":"#REF!"}},{"$f":"VLOOKUP($B492,#REF!,5,FALSE)","v":{"$error":"#REF!"}},{"$f":"VLOOKUP($B492,#REF!,6,FALSE)","v":{"$error":"#REF!"}},"-",{"$error":"#REF!"},null,{"$f":"VLOOKUP($B492,#REF!,13,FALSE)","v":{"$error":"#REF!"}},{"$f":"VLOOKUP($B492,#REF!,10,FALSE)","v":{"$error":"#REF!"}},{"$f":"VLOOKUP($B492,#REF!,17,FALSE)","v":{"$error":"#REF!"}},{"$f":"IFERROR(VLOOKUP($B492,#REF!,2,FALSE),\"-\")","v":"-"}]
[null,490,{"$f":"VLOOKUP($B493,#REF!,2,FALSE)","v":{"$error":"#REF!"}},{"$f":"VLOOKUP($B493,#REF!,3,FALSE)","v":{"$error":"#REF!"}},{"$f":"VLOOKUP($B493,#REF!,5,FALSE)","v":{"$error":"#REF!"}},{"$f":"VLOOKUP($B493,#REF!,6,FALSE)","v":{"$error":"#REF!"}},"-",{"$error":"#REF!"},null,{"$f":"VLOOKUP($B493,#REF!,13,FALSE)","v":{"$error":"#REF!"}},{"$f":"VLOOKUP($B493,#REF!,10,FALSE)","v":{"$error":"#REF!"}},{"$f":"VLOOKUP($B493,#REF!,17,FALSE)","v":{"$error":"#REF!"}},{"$f":"IFERROR(VLOOKUP($B493,#REF!,2,FALSE),\"-\")","v":"-"}]
[null,491,{"$f":"VLOOKUP($B494,#REF!,2,FALSE)","v":{"$error":"#REF!"}},{"$f":"VLOOKUP($B494,#REF!,3,FALSE)","v":{"$error":"#REF!"}},{"$f":"VLOOKUP($B494,#REF!,5,FALSE)","v":{"$error":"#REF!"}},{"$f":"VLOOKUP($B494,#REF!,6,FALSE)","v":{"$error":"#REF!"}},"-",{"$error":"#REF!"},null,{"$f":"VLOOKUP($B494,#REF!,13,FALSE)","v":{"$error":"#REF!"}},{"$f":"VLOOKUP($B494,#REF!,10,FALSE)","v":{"$error":"#REF!"}},{"$f":"VLOOKUP($B494,#REF!,17,FALSE)","v":{"$error":"#REF!"}},{"$f":"IFERROR(VLOOKUP($B494,#REF!,2,FALSE),\"-\")","v":"-"}]
[null,492,{"$f":"VLOOKUP($B495,#REF!,2,FALSE)","v":{"$error":"#REF!"}},{"$f":"VLOOKUP($B495,#REF!,3,FALSE)","v":{"$error":"#REF!"}},{"$f":"VLOOKUP($B495,#REF!,5,FALSE)","v":{"$error":"#REF!"}},{"$f":"VLOOKUP($B495,#REF!,6,FALSE)","v":{"$error":"#REF!"}},"-",{"$error":"#REF!"},null,{"$f":"VLOOKUP($B495,#REF!,13,FALSE)","v":{"$error":"#REF!"}},{"$f":"VLOOKUP($B495,#REF!,10,FALSE)","v":{"$error":"#REF!"}},{"$f":"VLOOKUP($B495,#REF!,17,FALSE)","v":{"$error":"#REF!"}},{"$f":"IFERROR(VLOOKUP($B495,#REF!,2,FALSE),\"-\")","v":"-"}]
[null,493,{"$f":"VLOOKUP($B496,#REF!,2,FALSE)","v":{"$error":"#REF!"}},{"$f":"VLOOKUP($B496,#REF!,3,FALSE)","v":{"$error":"#REF!"}},{"$f":"VLOOKUP($B496,#REF!,5,FALSE)","v":{"$error":"#REF!"}},{"$f":"VLOOKUP($B496,#REF!,6,FALSE)","v":{"$error":"#REF!"}},"-",{"$error":"#REF!"},null,{"$f":"VLOOKUP($B496,#REF!,13,FALSE)","v":{"$error":"#REF!"}},{"$f":"VLOOKUP($B496,#REF!,10,FALSE)","v":{"$error":"#REF!"}},{"$f":"VLOOKUP($B496,#REF!,17,FALSE)","v":{"$error":"#REF!"}},{"$f":"IFERROR(VLOOKUP($B496,#REF!,2,FALSE),\"-\")","v":"-"}]
[null,494,{"$f":"VLOOKUP($B497,#REF!,2,FALSE)","v":{"$error":"#REF!"}},{"$f":"VLOOKUP($B497,#REF!,3,FALSE)","v":{"$error":"#REF!"}},{"$f":"VLOOKUP($B497,#REF!,5,FALSE)","v":{"$error":"#REF!"}},{"$f":"VLOOKUP($B497,#REF!,6,FALSE)","v":{"$error":"#REF!"}},"-",{"$error":"#REF!"},null,{"$f":"VLOOKUP($B497,#REF!,13,FALSE)","v":{"$error":"#REF!"}},{"$f":"VLOOKUP($B497,#REF!,10,FALSE)","v":{"$error":"#REF!"}},{"$f":"VLOOKUP($B497,#REF!,17,FALSE)","v":{"$error":"#REF!"}},{"$f":"IFERROR(VLOOKUP($B497,#REF!,2,FALSE),\"-\")","v":"-"}]
[null,495,{"$f":"VLOOKUP($B498,#REF!,2,FALSE)","v":{"$error":"#REF!"}},{"$f":"VLOOKUP($B498,#REF!,3,FALSE)","v":{"$error":"#REF!"}},{"$f":"VLOOKUP($B498,#REF!,5,FALSE)","v":{"$error":"#REF!"}},{"$f":"VLOOKUP($B498,#REF!,6,FALSE)","v":{"$error":"#REF!"}},"-",{"$error":"#REF!"},null,{"$f":"VLOOKUP($B498,#REF!,13,FALSE)","v":{"$error":"#REF!"}},{"$f":"VLOOKUP($B498,#REF!,10,FALSE)","v":{"$error":"#REF!"}},{"$f":"VLOOKUP($B498,#REF!,17,FALSE)","v":{"$error":"#REF!"}},{"$f":"IFERROR(VLOOKUP($B498,#REF!,2,FALSE),\"-\")","v":"-"}]
[null,496,{"$f":"VLOOKUP($B499,#REF!,2,FALSE)","v":{"$error":"#REF!"}},{"$f":"VLOOKUP($B499,#REF!,3,FALSE)","v":{"$error":"#REF!"}},{"$f":"VLOOKUP($B499,#REF!,5,FALSE)","v":{"$error":"#REF!"}},{"$f":"VLOOKUP($B499,#REF!,6,FALSE)","v":{"$error":"#REF!"}},"-",{"$error":"#REF!"},null,{"$f":"VLOOKUP($B499,#REF!,13,FALSE)","v":{"$error":"#REF!"}},{"$f":"VLOOKUP($B499,#REF!,10,FALSE)","v":{"$error":"#REF!"}},{"$f":"VLOOKUP($B499,#REF!,17,FALSE)","v":{"$error":"#REF!"}},{"$f":"IFERROR(VLOOKUP($B499,#REF!,2,FALSE),\"-\")","v":"-"}]
[null,497,{"$f":"VLOOKUP($B500,#REF!,2,FALSE)","v":{"$error":"#REF!"}},{"$f":"VLOOKUP($B500,#REF!,3,FALSE)","v":{"$error":"#REF!"}},{"$f":"VLOOKUP($B500,#REF!,5,FALSE)","v":{"$error":"#REF!"}},{"$f":"VLOOKUP($B500,#REF!,6,FALSE)","v":{"$error":"#REF!"}},"-",{"$error":"#REF!"},null,{"$f":"VLOOKUP($B500,#REF!,13,FALSE)","v":{"$error":"#REF!"}},{"$f":"VLOOKUP($B500,#REF!,10,FALSE)","v":{"$error":"#REF!"}},{"$f":"VLOOKUP($B500,#REF!,17,FALSE)","v":{"$error":"#REF!"}},{"$f":"IFERROR(VLOOKUP($B500,#REF!,2,FALSE),\"-\")","v":"-"}]
[null,498,{"$f":"VLOOKUP($B501,#REF!,2,FALSE)","v":{"$error":"#REF!"}},{"$f":"VLOOKUP($B501,#REF!,3,FALSE)","v":{"$error":"#REF!"}},{"$f":"VLOOKUP($B501,#REF!,5,FALSE)","v":{"$error":"#REF!"}},{"$f":"VLOOKUP($B501,#REF!,6,FALSE)","v":{"$error":"#REF!"}},"-",{"$error":"#REF!"},null,{"$f":"VLOOKUP($B501,#REF!,13,FALSE)","v":{"$error":"#REF!"}},{"$f":"VLOOKUP($B501,#REF!,10,FALSE)","v":{"$error":"#REF!"}},{"$f":"VLOOKUP($B501,#REF!,17,FALSE)","v":{"$error":"#REF!"}},{"$f":"IFERROR(VLOOKUP($B501,#REF!,2,FALSE),\"-\")","v":"-"}]
[null,499,{"$f":"VLOOKUP($B502,#REF!,2,FALSE)","v":{"$error":"#REF!"}},{"$f":"VLOOKUP($B502,#REF!,3,FALSE)","v":{"$error":"#REF!"}},{"$f":"VLOOKUP($B502,#REF!,5,FALSE)","v":{"$error":"#REF!"}},{"$f":"VLOOKUP($B502,#REF!,6,FALSE)","v":{"$error":"#REF!"}},"-",{"$error":"#REF!"},null,{"$f":"VLOOKUP($B502,#REF!,13,FALSE)","v":{"$error":"#REF!"}},{"$f":"VLOOKUP($B502,#REF!,10,FALSE)","v":{"$error":"#REF!"}},{"$f":"VLOOKUP($B502,#REF!,17,FALSE)","v":{"$error":"#REF!"}},{"$f":"IFERROR(VLOOKUP($B502,#REF!,2,FALSE),\"-\")","v":"-"}]
[null,500,{"$f":"VLOOKUP($B503,#REF!,2,FALSE)","v":{"$error":"#REF!"}},{"$f":"VLOOKUP($B503,#REF!,3,FALSE)","v":{"$error":"#REF!"}},{"$f":"VLOOKUP($B503,#REF!,5,FALSE)","v":{"$error":"#REF!"}},{"$f":"VLOOKUP($B503,#REF!,6,FALSE)","v":{"$error":"#REF!"}},"-",{"$error":"#REF!"},null,{"$f":"VLOOKUP($B503,#REF!,13,FALSE)","v":{"$error":"#REF!"}},{"$f":"VLOOKUP($B503,#REF!,10,FALSE)","v":{"$error":"#REF!"}},{"$f":"VLOOKUP($B503,#REF!,17,FALSE)","v":{"$error":"#REF!"}},{"$f":"IFERROR(VLOOKUP($B503,#REF!,2,FALSE),\"-\")","v":"-"}]
[null,501,{"$f":"VLOOKUP($B504,#REF!,2,FALSE)","v":{"$error":"#REF!"}},{"$f":"VLOOKUP($B504,#REF!,3,FALSE)","v":{"$error":"#REF!"}},{"$f":"VLOOKUP($B504,#REF!,5,FALSE)","v":{"$error":"#REF!"}},{"$f":"VLOOKUP($B504,#REF!,6,FALSE)","v":{"$error":"#REF!"}},"-",{"$error":"#REF!"},null,{"$f":"VLOOKUP($B504,#REF!,13,FALSE)","v":{"$error":"#REF!"}},{"$f":"VLOOKUP($B504,#REF!,10,FALSE)","v":{"$error":"#REF!"}},{"$f":"VLOOKUP($B504,#REF!,17,FALSE)","v":{"$error":"#REF!"}},{"$f":"IFERROR(VLOOKUP($B504,#REF!,2,FALSE),\"-\")","v":"-"}]
[null,502,{"$f":"VLOOKUP($B505,#REF!,2,FALSE)","v":{"$error":"#REF!"}},{"$f":"VLOOKUP($B505,#REF!,3,FALSE)","v":{"$error":"#REF!"}},{"$f":"VLOOKUP($B505,#REF!,5,FALSE)","v":{"$error":"#REF!"}},{"$f":"VLOOKUP($B505,#REF!,6,FALSE)","v":{"$error":"#REF!"}},"-",{"$error":"#REF!"},null,{"$f":"VLOOKUP($B505,#REF!,13,FALSE)","v":{"$error":"#REF!"}},{"$f":"VLOOKUP($B505,#REF!,10,FALSE)","v":{"$error":"#REF!"}},{"$f":"VLOOKUP($B505,#REF!,17,FALSE)","v":{"$error":"#REF!"}},{"$f":"IFERROR(VLOOKUP($B505,#REF!,2,FALSE),\"-\")","v":"-"}]
[null,503,{"$f":"VLOOKUP($B506,#REF!,2,FALSE)","v":{"$error":"#REF!"}},{"$f":"VLOOKUP($B506,#REF!,3,FALSE)","v":{"$error":"#REF!"}},{"$f":"VLOOKUP($B506,#REF!,5,FALSE)","v":{"$error":"#REF!"}},{"$f":"VLOOKUP($B506,#REF!,6,FALSE)","v":{"$error":"#REF!"}},"-",{"$error":"#REF!"},null,{"$f":"VLOOKUP($B506,#REF!,13,FALSE)","v":{"$error":"#REF!"}},{"$f":"VLOOKUP($B506,#REF!,10,FALSE)","v":{"$error":"#REF!"}},{"$f":"VLOOKUP($B506,#REF!,17,FALSE)","v":{"$error":"#REF!"}},{"$f":"IFERROR(VLOOKUP($B506,#REF!,2,FALSE),\"-\")","v":"-"}]
[null,504,{"$f":"VLOOKUP($B507,#REF!,2,FALSE)","v":{"$error":"#REF!"}},{"$f":"VLOOKUP($B507,#REF!,3,FALSE)","v":{"$error":"#REF!"}},{"$f":"VLOOKUP($B507,#REF!,5,FALSE)","v":{"$error":"#REF!"}},{"$f":"VLOOKUP($B507,#REF!,6,FALSE)","v":{"$error":"#REF!"}},"-",{"$error":"#REF!"},null,{"$f":"VLOOKUP($B507,#REF!,13,FALSE)","v":{"$error":"#REF!"}},{"$f":"VLOOKUP($B507,#REF!,10,FALSE)","v":{"$error":"#REF!"}},{"$f":"VLOOKUP($B507,#REF!,17,FALSE)","v":{"$error":"#REF!"}},{"$f":"IFERROR(VLOOKUP($B507,#REF!,2,FALSE),\"-\")","v":"-"}]
[null,505,{"$f":"VLOOKUP($B508,#REF!,2,FALSE)","v":{"$error":"#REF!"}},{"$f":"VLOOKUP($B508,#REF!,3,FALSE)","v":{"$error":"#REF!"}},{"$f":"VLOOKUP($B508,#REF!,5,FALSE)","v":{"$error":"#REF!"}},{"$f":"VLOOKUP($B508,#REF!,6,FALSE)","v":{"$error":"#REF!"}},"-",{"$error":"#REF!"},null,{"$f":"VLOOKUP($B508,#REF!,13,FALSE)","v":{"$error":"#REF!"}},{"$f":"VLOOKUP($B508,#REF!,10,FALSE)","v":{"$error":"#REF!"}},{"$f":"VLOOKUP($B508,#REF!,17,FALSE)","v":{"$error":"#REF!"}},{"$f":"IFERROR(VLOOKUP($B508,#REF!,2,FALSE),\"-\")","v":"-"}]
[null,506,{"$f":"VLOOKUP($B509,#REF!,2,FALSE)","v":{"$error":"#REF!"}},{"$f":"VLOOKUP($B509,#REF!,3,FALSE)","v":{"$error":"#REF!"}},{"$f":"VLOOKUP($B509,#REF!,5,FALSE)","v":{"$error":"#REF!"}},{"$f":"VLOOKUP($B509,#REF!,6,FALSE)","v":{"$error":"#REF!"}},"-",{"$error":"#REF!"},null,{"$f":"VLOOKUP($B509,#REF!,13,FALSE)","v":{"$error":"#REF!"}},{"$f":"VLOOKUP($B509,#REF!,10,FALSE)","v":{"$error":"#REF!"}},{"$f":"VLOOKUP($B509,#REF!,17,FALSE)","v":{"$error":"#REF!"}},{"$f":"IFERROR(VLOOKUP($B509,#REF!,2,FALSE),\"-\")","v":"-"}]
[null,507,{"$f":"VLOOKUP($B510,#REF!,2,FALSE)","v":{"$error":"#REF!"}},{"$f":"VLOOKUP($B510,#REF!,3,FALSE)","v":{"$error":"#REF!"}},{"$f":"VLOOKUP($B510,#REF!,5,FALSE)","v":{"$error":"#REF!"}},{"$f":"VLOOKUP($B510,#REF!,6,FALSE)","v":{"$error":"#REF!"}},"-",{"$error":"#REF!"},null,{"$f":"VLOOKUP($B510,#REF!,13,FALSE)","v":{"$error":"#REF!"}},{"$f":"VLOOKUP($B510,#REF!,10,FALSE)","v":{"$error":"#REF!"}},{"$f":"VLOOKUP($B510,#REF!,17,FALSE)","v":{"$error":"#REF!"}},{"$f":"IFERROR(VLOOKUP($B510,#REF!,2,FALSE),\"-\")","v":"-"}]
[null,508,{"$f":"VLOOKUP($B511,#REF!,2,FALSE)","v":{"$error":"#REF!"}},{"$f":"VLOOKUP($B511,#REF!,3,FALSE)","v":{"$error":"#REF!"}},{"$f":"VLOOKUP($B511,#REF!,5,FALSE)","v":{"$error":"#REF!"}},{"$f":"VLOOKUP($B511,#REF!,6,FALSE)","v":{"$error":"#REF!"}},"-",{"$error":"#REF!"},null,{"$f":"VLOOKUP($B511,#REF!,13,FALSE)","v":{"$error":"#REF!"}},{"$f":"VLOOKUP($B511,#REF!,10,FALSE)","v":{"$error":"#REF!"}},{"$f":"VLOOKUP($B511,#REF!,17,FALSE)","v":{"$error":"#REF!"}},{"$f":"IFERROR(VLOOKUP($B511,#REF!,2,FALSE),\"-\")","v":"-"}]
[null,509,{"$f":"VLOOKUP($B512,#REF!,2,FALSE)","v":{"$error":"#REF!"}},{"$f":"VLOOKUP($B512,#REF!,3,FALSE)","v":{"$error":"#REF!"}},{"$f":"VLOOKUP($B512,#REF!,5,FALSE)","v":{"$error":"#REF!"}},{"$f":"VLOOKUP($B512,#REF!,6,FALSE)","v":{"$error":"#REF!"}},"-",{"$error":"#REF!"},null,{"$f":"VLOOKUP($B512,#REF!,13,FALSE)","v":{"$error":"#REF!"}},{"$f":"VLOOKUP($B512,#REF!,10,FALSE)","v":{"$error":"#REF!"}},{"$f":"VLOOKUP($B512,#REF!,17,FALSE)","v":{"$error":"#REF!"}},{"$f":"IFERROR(VLOOKUP($B512,#REF!,2,FALSE),\"-\")","v":"-"}]
[null,510,{"$f":"VLOOKUP($B513,#REF!,2,FALSE)","v":{"$error":"#REF!"}},{"$f":"VLOOKUP($B513,#REF!,3,FALSE)","v":{"$error":"#REF!"}},{"$f":"VLOOKUP($B513,#REF!,5,FALSE)","v":{"$error":"#REF!"}},{"$f":"VLOOKUP($B513,#REF!,6,FALSE)","v":{"$error":"#REF!"}},"-",{"$error":"#REF!"},null,{"$f":"VLOOKUP($B513,#REF!,13,FALSE)","v":{"$error":"#REF!"}},{"$f":"VLOOKUP($B513,#REF!,10,FALSE)","v":{"$error":"#REF!"}},{"$f":"VLOOKUP($B513,#REF!,17,FALSE)","v":{"$error":"#REF!"}},{"$f":"IFERROR(VLOOKUP($B513,#REF!,2,FALSE),\"-\")","v":"-"}]
[null,511,{"$f":"VLOOKUP($B514,#REF!,2,FALSE)","v":{"$error":"#REF!"}},{"$f":"VLOOKUP($B514,#REF!,3,FALSE)","v":{"$error":"#REF!"}},{"$f":"VLOOKUP($B514,#REF!,5,FALSE)","v":{"$error":"#REF!"}},{"$f":"VLOOKUP($B514,#REF!,6,FALSE)","v":{"$error":"#REF!"}},"-",{"$error":"#REF!"},null,{"$f":"VLOOKUP($B514,#REF!,13,FALSE)","v":{"$error":"#REF!"}},{"$f":"VLOOKUP($B514,#REF!,10,FALSE)","v":{"$error":"#REF!"}},{"$f":"VLOOKUP($B514,#REF!,17,FALSE)","v":{"$error":"#REF!"}},{"$f":"IFERROR(VLOOKUP($B514,#REF!,2,FALSE),\"-\")","v":"-"}]
[null,512,{"$f":"VLOOKUP($B515,#REF!,2,FALSE)","v":{"$error":"#REF!"}},{"$f":"VLOOKUP($B515,#REF!,3,FALSE)","v":{"$error":"#REF!"}},{"$f":"VLOOKUP($B515,#REF!,5,FALSE)","v":{"$error":"#REF!"}},{"$f":"VLOOKUP($B515,#REF!,6,FALSE)","v":{"$error":"#REF!"}},"-",{"$error":"#REF!"},null,{"$f":"VLOOKUP($B515,#REF!,13,FALSE)","v":{"$error":"#REF!"}},{"$f":"VLOOKUP($B515,#REF!,10,FALSE)","v":{"$error":"#REF!"}},{"$f":"VLOOKUP($B515,#REF!,17,FALSE)","v":{"$error":"#REF!"}},{"$f":"IFERROR(VLOOKUP($B515,#REF!,2,FALSE),\"-\")","v":"-"}]
[null,513,{"$f":"VLOOKUP($B516,#REF!,2,FALSE)","v":{"$error":"#REF!"}},{"$f":"VLOOKUP($B516,#REF!,3,FALSE)","v":{"$error":"#REF!"}},{"$f":"VLOOKUP($B516,#REF!,5,FALSE)","v":{"$error":"#REF!"}},{"$f":"VLOOKUP($B516,#REF!,6,FALSE)","v":{"$error":"#REF!"}},{"$f":"IF(M516=1,\"欠席\",IF(M516=9,\"空ﾚｰﾝ\",\"-\"))","v":"-"},{"$error":"#REF!"},null,{"$f":"VLOOKUP($B516,#REF!,13,FALSE)","v":{"$error":"#REF!"}},{"$f":"VLOOKUP($B516,#REF!,10,FALSE)","v":{"$error":"#REF!"}},{"$f":"VLOOKUP($B516,#REF!,17,FALSE)","v":{"$error":"#REF!"}},{"$f":"IFERROR(VLOOKUP($B516,#REF!,2,FALSE),\"-\")","v":"-"}]
[null,514,{"$f":"VLOOKUP($B517,#REF!,2,FALSE)","v":{"$error":"#REF!"}},{"$f":"VLOOKUP($B517,#REF!,3,FALSE)","v":{"$error":"#REF!"}},{"$f":"VLOOKUP($B517,#REF!,5,FALSE)","v":{"$error":"#REF!"}},{"$f":"VLOOKUP($B517,#REF!,6,FALSE)","v":{"$error":"#REF!"}},"-",{"$f":"+C517","v":{"$error":"#REF!"}},null,{"$f":"VLOOKUP($B517,#REF!,13,FALSE)","v":{"$error":"#REF!"}},{"$f":"VLOOKUP($B517,#REF!,10,FALSE)","v":{"$error":"#REF!"}},{"$f":"VLOOKUP($B517,#REF!,17,FALSE)","v":{"$error":"#REF!"}},{"$f":"IFERROR(VLOOKUP($B517,#REF!,2,FALSE),\"-\")","v":"-"}]
[null,515,{"$f":"VLOOKUP($B518,#REF!,2,FALSE)","v":{"$error":"#REF!"}},{"$f":"VLOOKUP($B518,#REF!,3,FALSE)","v":{"$error":"#REF!"}},{"$f":"VLOOKUP($B518,#REF!,5,FALSE)","v":{"$error":"#REF!"}},{"$f":"VLOOKUP($B518,#REF!,6,FALSE)","v":{"$error":"#REF!"}},"-",{"$error":"#REF!"},null,{"$f":"VLOOKUP($B518,#REF!,13,FALSE)","v":{"$error":"#REF!"}},{"$f":"VLOOKUP($B518,#REF!,10,FALSE)","v":{"$error":"#REF!"}},{"$f":"VLOOKUP($B518,#REF!,17,FALSE)","v":{"$error":"#REF!"}},{"$f":"IFERROR(VLOOKUP($B518,#REF!,2,FALSE),\"-\")","v":"-"}]
[null,516,{"$f":"VLOOKUP($B519,#REF!,2,FALSE)","v":{"$error":"#REF!"}},{"$f":"VLOOKUP($B519,#REF!,3,FALSE)","v":{"$error":"#REF!"}},{"$f":"VLOOKUP($B519,#REF!,5,FALSE)","v":{"$error":"#REF!"}},{"$f":"VLOOKUP($B519,#REF!,6,FALSE)","v":{"$error":"#REF!"}},"-",{"$error":"#REF!"},null,{"$f":"VLOOKUP($B519,#REF!,13,FALSE)","v":{"$error":"#REF!"}},{"$f":"VLOOKUP($B519,#REF!,10,FALSE)","v":{"$error":"#REF!"}},{"$f":"VLOOKUP($B519,#REF!,17,FALSE)","v":{"$error":"#REF!"}},{"$f":"IFERROR(VLOOKUP($B519,#REF!,2,FALSE),\"-\")","v":"-"}]
[null,517,{"$f":"VLOOKUP($B520,#REF!,2,FALSE)","v":{"$error":"#REF!"}},{"$f":"VLOOKUP($B520,#REF!,3,FALSE)","v":{"$error":"#REF!"}},{"$f":"VLOOKUP($B520,#REF!,5,FALSE)","v":{"$error":"#REF!"}},{"$f":"VLOOKUP($B520,#REF!,6,FALSE)","v":{"$error":"#REF!"}},"-",{"$error":"#REF!"},null,{"$f":"VLOOKUP($B520,#REF!,13,FALSE)","v":{"$error":"#REF!"}},{"$f":"VLOOKUP($B520,#REF!,10,FALSE)","v":{"$error":"#REF!"}},{"$f":"VLOOKUP($B520,#REF!,17,FALSE)","v":{"$error":"#REF!"}},{"$f":"IFERROR(VLOOKUP($B520,#REF!,2,FALSE),\"-\")","v":"-"}]
[null,518,{"$f":"VLOOKUP($B521,#REF!,2,FALSE)","v":{"$error":"#REF!"}},{"$f":"VLOOKUP($B521,#REF!,3,FALSE)","v":{"$error":"#REF!"}},{"$f":"VLOOKUP($B521,#REF!,5,FALSE)","v":{"$error":"#REF!"}},{"$f":"VLOOKUP($B521,#REF!,6,FALSE)","v":{"$error":"#REF!"}},"-",{"$error":"#REF!"},null,{"$f":"VLOOKUP($B521,#REF!,13,FALSE)","v":{"$error":"#REF!"}},{"$f":"VLOOKUP($B521,#REF!,10,FALSE)","v":{"$error":"#REF!"}},{"$f":"VLOOKUP($B521,#REF!,17,FALSE)","v":{"$error":"#REF!"}},{"$f":"IFERROR(VLOOKUP($B521,#REF!,2,FALSE),\"-\")","v":"-"}]
[null,519,{"$f":"VLOOKUP($B522,#REF!,2,FALSE)","v":{"$error":"#REF!"}},{"$f":"VLOOKUP($B522,#REF!,3,FALSE)","v":{"$error":"#REF!"}},{"$f":"VLOOKUP($B522,#REF!,5,FALSE)","v":{"$error":"#REF!"}},{"$f":"VLOOKUP($B522,#REF!,6,FALSE)","v":{"$error":"#REF!"}},"-",{"$error":"#REF!"},null,{"$f":"VLOOKUP($B522,#REF!,13,FALSE)","v":{"$error":"#REF!"}},{"$f":"VLOOKUP($B522,#REF!,10,FALSE)","v":{"$error":"#REF!"}},{"$f":"VLOOKUP($B522,#REF!,17,FALSE)","v":{"$error":"#REF!"}},{"$f":"IFERROR(VLOOKUP($B522,#REF!,2,FALSE),\"-\")","v":"-"}]
[null,520,{"$f":"VLOOKUP($B523,#REF!,2,FALSE)","v":{"$error":"#REF!"}},{"$f":"VLOOKUP($B523,#REF!,3,FALSE)","v":{"$error":"#REF!"}},{"$f":"VLOOKUP($B523,#REF!,5,FALSE)","v":{"$error":"#REF!"}},{"$f":"VLOOKUP($B523,#REF!,6,FALSE)","v":{"$error":"#REF!"}},"-",{"$error":"#REF!"},null,{"$f":"VLOOKUP($B523,#REF!,13,FALSE)","v":{"$error":"#REF!"}},{"$f":"VLOOKUP($B523,#REF!,10,FALSE)","v":{"$error":"#REF!"}},{"$f":"VLOOKUP($B523,#REF!,17,FALSE)","v":{"$error":"#REF!"}},{"$f":"IFERROR(VLOOKUP($B523,#REF!,2,FALSE),\"-\")","v":"-"}]
[null,521,{"$f":"VLOOKUP($B524,#REF!,2,FALSE)","v":{"$error":"#REF!"}},{"$f":"VLOOKUP($B524,#REF!,3,FALSE)","v":{"$error":"#REF!"}},{"$f":"VLOOKUP($B524,#REF!,5,FALSE)","v":{"$error":"#REF!"}},{"$f":"VLOOKUP($B524,#REF!,6,FALSE)","v":{"$error":"#REF!"}},"-",{"$error":"#REF!"},0,{"$f":"VLOOKUP($B524,#REF!,13,FALSE)","v":{"$error":"#REF!"}},{"$f":"VLOOKUP($B524,#REF!,10,FALSE)","v":{"$error":"#REF!"}},{"$f":"VLOOKUP($B524,#REF!,17,FALSE)","v":{"$error":"#REF!"}},{"$f":"IFERROR(VLOOKUP($B524,#REF!,2,FALSE),\"-\")","v":"-"}]
[null,522,{"$f":"VLOOKUP($B525,#REF!,2,FALSE)","v":{"$error":"#REF!"}},{"$f":"VLOOKUP($B525,#REF!,3,FALSE)","v":{"$error":"#REF!"}},{"$f":"VLOOKUP($B525,#REF!,5,FALSE)","v":{"$error":"#REF!"}},{"$f":"VLOOKUP($B525,#REF!,6,FALSE)","v":{"$error":"#REF!"}},"-",{"$error":"#REF!"},null,{"$f":"VLOOKUP($B525,#REF!,13,FALSE)","v":{"$error":"#REF!"}},{"$f":"VLOOKUP($B525,#REF!,10,FALSE)","v":{"$error":"#REF!"}},{"$f":"VLOOKUP($B525,#REF!,17,FALSE)","v":{"$error":"#REF!"}},{"$f":"IFERROR(VLOOKUP($B525,#REF!,2,FALSE),\"-\")","v":"-"}]
[null,523,{"$f":"VLOOKUP($B526,#REF!,2,FALSE)","v":{"$error":"#REF!"}},{"$f":"VLOOKUP($B526,#REF!,3,FALSE)","v":{"$error":"#REF!"}},{"$f":"VLOOKUP($B526,#REF!,5,FALSE)","v":{"$error":"#REF!"}},{"$f":"VLOOKUP($B526,#REF!,6,FALSE)","v":{"$error":"#REF!"}},"-",{"$error":"#REF!"},null,{"$f":"VLOOKUP($B526,#REF!,13,FALSE)","v":{"$error":"#REF!"}},{"$f":"VLOOKUP($B526,#REF!,10,FALSE)","v":{"$error":"#REF!"}},{"$f":"VLOOKUP($B526,#REF!,17,FALSE)","v":{"$error":"#REF!"}},{"$f":"IFERROR(VLOOKUP($B526,#REF!,2,FALSE),\"-\")","v":"-"}]
[null,524,{"$f":"VLOOKUP($B527,#REF!,2,FALSE)","v":{"$error":"#REF!"}},{"$f":"VLOOKUP($B527,#REF!,3,FALSE)","v":{"$error":"#REF!"}},{"$f":"VLOOKUP($B527,#REF!,5,FALSE)","v":{"$error":"#REF!"}},{"$f":"VLOOKUP($B527,#REF!,6,FALSE)","v":{"$error":"#REF!"}},"-",{"$error":"#REF!"},null,{"$f":"VLOOKUP($B527,#REF!,13,FALSE)","v":{"$error":"#REF!"}},{"$f":"VLOOKUP($B527,#REF!,10,FALSE)","v":{"$error":"#REF!"}},{"$f":"VLOOKUP($B527,#REF!,17,FALSE)","v":{"$error":"#REF!"}},{"$f":"IFERROR(VLOOKUP($B527,#REF!,2,FALSE),\"-\")","v":"-"}]
[null,525,{"$f":"VLOOKUP($B528,#REF!,2,FALSE)","v":{"$error":"#REF!"}},{"$f":"VLOOKUP($B528,#REF!,3,FALSE)","v":{"$error":"#REF!"}},{"$f":"VLOOKUP($B528,#REF!,5,FALSE)","v":{"$error":"#REF!"}},{"$f":"VLOOKUP($B528,#REF!,6,FALSE)","v":{"$error":"#REF!"}},"-",{"$error":"#REF!"},null,{"$f":"VLOOKUP($B528,#REF!,13,FALSE)","v":{"$error":"#REF!"}},{"$f":"VLOOKUP($B528,#REF!,10,FALSE)","v":{"$error":"#REF!"}},{"$f":"VLOOKUP($B528,#REF!,17,FALSE)","v":{"$error":"#REF!"}},{"$f":"IFERROR(VLOOKUP($B528,#REF!,2,FALSE),\"-\")","v":"-"}]
[null,526,{"$f":"VLOOKUP($B529,#REF!,2,FALSE)","v":{"$error":"#REF!"}},{"$f":"VLOOKUP($B529,#REF!,3,FALSE)","v":{"$error":"#REF!"}},{"$f":"VLOOKUP($B529,#REF!,5,FALSE)","v":{"$error":"#REF!"}},{"$f":"VLOOKUP($B529,#REF!,6,FALSE)","v":{"$error":"#REF!"}},"-",{"$error":"#REF!"},null,{"$f":"VLOOKUP($B529,#REF!,13,FALSE)","v":{"$error":"#REF!"}},{"$f":"VLOOKUP($B529,#REF!,10,FALSE)","v":{"$error":"#REF!"}},{"$f":"VLOOKUP($B529,#REF!,17,FALSE)","v":{"$error":"#REF!"}},{"$f":"IFERROR(VLOOKUP($B529,#REF!,2,FALSE),\"-\")","v":"-"}]

{"sheet":"成績表印刷","index":2,"n_rows":69,"n_cols":15,"rows_kept":69,"cut":false,"hidden":false,"merged":[[1,1,1,14]]}
[]
[null,"第34回　都民スポレクふれあい大会　【スポーツウエルネス吹矢】　開催：2022.9.20"]
[null,"成績表　"]
[null,"チーム数＝64"]
[null,"順位","団体戦チーム名","得点\n4人計","氏　名　1","得点","氏　名　2","得点","氏　名　3","得点","氏　名　4","得点","氏　名　5","得点","得点\n5人計"]
[null,"優  勝","NHK国立　B",514,"石川 茂子",136,"樋坂　則夫",104,"逸見 正幸",130,"原　和博",126,"鳥越 眞由美",122,618]
[null,"準優勝","東村山センター支部　Ａ",508,"斎藤　章",118,"乾　貴志",128,"鷹箸　淳",118,"長原　信二",132,"梶原　敏明",130,626]
[null,"3  位","くにたち吹矢’’３５　B",506,"小俣　清知",122,"生島　周",130,"豊福　清二",122,"小坂　福宥",132,"門脇　郁子",122,628]
[null,"４ 位","ダーツ東和（東和ーA)",506,"藤川　史彦",128,"藤田　芳男",130,"猿橋　フサ子",130,"小嶋　田鶴子",118,"福澤　稔",114,620]
[null,"５ 位","ダーツ東和（NACKーA)",506,"阿部　淳一",124,"横溝　礼子",130,"橋　弘子",120,"関　敬子",126,"関　洋三",126,626]
[null,"６ 位","ダーツ西新井大師支部",506,"吉岡　久夫",132,"上原　務",128,"島田　俊雄",128,"梅沢　千恵子",118,"佐藤　潤子",118,624]
[null,"７ 位","多摩市中央支部A",502,"山田　信彦",136,"野谷　仁",132,"佐藤　俊郎",120,"中村　智恵子",114,"杉山　敏宏",114,616]
[null,"８ 位","ダーツ北足立舎人（とねり）",498,"杉田 政男",126,"長谷川 英輝",126,"山田 道夫",122,"鈴木 務",122,"吉村 正男",124,620]
[null,9,"ダーツ東和（AH)",498,"倉田　明久",132,"田村　次雄",112,"小菅　ヒサ子",120,"武田　弘",122,"本間　和夫",124,610]
[null,10,"さんさん銀座",494,"塩谷　得男",118,"土屋　智子",116,"本吉　淑郎",124,"葉山　ゆう子",120,"小野瀬　淳子",132,610]
[null,11,"町田武相",491,"渡辺　真紀子",113,"望月　克美",112,"金子　博",136,"兵庫　洋子",130,"石橋　善子",108,599]
[null,12,"江東レッドアロー　B",488,"鈴木　登志子",122,"山口　悦子",98,"平山　真理",124,"鈴木　孝枝",130,"野口　静男",112,586]
[null,13,"杉並中央支部　A",486,"広瀬　功",128,"伊藤　猛",124,"安藤　進",112,"大野　正彦",122,"高木　誠",100,586]
[null,14,"日野新選組",484,"伊藤 友次",122,"金子マスコ",116,"萬羽 美和子",124,"松澤 和久",122,"梅澤 宜弘",112,596]
[null,15,"葛飾オリーブ支部　（C)",482,"手嶋　文子",96,"川村　慶子",116,"船山　政子",132,"伏見　啓子",128,"土屋　よし子",106,578]
[null,15,"ART(アート)35いなぎ",482,"笹子 和弘",116,"長尾 剛",110,"湯浅  弘",124,"酒井 有作",132,"花桝 等",98,580]
[null,15,"むさし国分寺",482,"山田　実",88,"矢野　一秋",122,"田辺　昭治",132,"伊藤　広行",98,"四宮　健男",130,570]
[null,18,"スターダスト銀座",480,"山﨑　エイ子",124,"伊倉　公子",100,"小泉　朋子",126,"諸橋　美知子",120,"穂積　道子",110,580]
[null,19,"ダーツ東和（NACK-B)",479,"星川　修",114,"岩澤　文夫",111,"鈴木　信明",124,"横溝　隆",130,"山中　一利",110,589]
[null,19,"板橋徳丸三凱亭　A",479,"中濱　格",138,"多田　操",117,"関村　具由",130,"関村　みね",94,"空席",0,479]
[null,21,"港区スポーツウエルネス吹矢協会　A",474,"田中　清善",95,"渡邊　　東",108,"荒井　刻城",120,"湯田　源一",124,"小野瀬　祥",122,569]
[null,22,"多摩落合くれない支部",472,"平井　威",122,"松田　百合子",110,"青木　悦子",120,"都築　德良",120,"魁生 澄雄",0,472]
[null,23,"東村山センター支部　Ｂ",470,"乾　里美",110,"又井　紀子",112,"竹田　麗子",120,"鷹箸　弘子",110,"関根　多三江",128,580]
[null,23,"NHK国立　Ａ",470," 松本 千代子",104,"石井 佳男",130,"深町 洋輔",120,"富田 きよ子",116," 渡邊 英雄",102,572]
[null,25,"武蔵都筑町田支部",469,"小林　静子",112,"大嶋　実",119,"小勝　彰",132,"柳沢　花江",98,"目黒　直美",106,567]
[null,26,"花しょうぶ葛飾支部　（A）",468,"長尾 　隆一",113,"小松　眞理子",99,"磯﨑　秀義",126,"磯﨑　久子",98,"野口　実",130,566]
[null,26,"稲城C35",468,"鈴木　幸義",104,"鶴岡　剛",126,"添野　敏彦",120,"荒木　博江",110,"原田　皓一",112,572]
[null,28,"江東レッドアロー　A",466,"井上　幸男",126,"中島　英文",86,"福島　啓二",124,"川嶋　一司",108,"髙橋　俊昭",108,552]
[null,29,"銀座月の会",464,"庭山　仁",126,"児玉　哲也",86,"山田　まゆみ",110,"荻谷　則子",92,"篠崎　久嘉",136,550]
[null,29,"ダーツ東陽町支部 B",464,"水野 友子",122,"日野 輝男",120,"中島 由美子",122,"日野 洋子",100,"松本 龍郎",95,559]
[null,29,"東村山鷹の道支部",464,"小岩　井勝一",89,"手塚　幸一郎",116,"内海　褜男",126,"瀬戸　謙治",98,"肥沼　正己",124,553]
[null,32,"港区スポーツウエルネス吹矢協会　E",460,"渡邉　喜伊子",102,"富田　幹子",112,"市川　精子",124,"深田　廸子",98,"中島　代志子",122,558]
[null,33,"港区スポーツウエルネス吹矢協会　B",458,"助川　　浩",112,"伊関　捷一",118,"澤村　泰子",110,"青木　智惠子",118,"佐々木　康夫",94,552]
[null,33,"港区スポーツウエルネス吹矢協会　D",458,"伊藤　裕通",114,"田中　　誠",114,"中原　成子",118,"郡司　敏治",110,"渡邉　英明",112,568]
[null,33,"台東ー１",458,"宮澤　克彦",120,"浅野　幸夫",112,"新井　友三郎",114,"樋口　邦彦",112,"山田　隆",106,564]
[null,36,"多摩市中央支部B",457,"長瀬　敏雄",112,"杉山　美惠子",124,"林　司朗",116,"桜井　三枝子",105,"潮　榮子",90,547]
[null,37,"葛飾オリーブ支部・金町支部　（D)",455,"川合　源四郎",118,"高瀬　京子",74,"大塚　勝雄",103,"山下　清和",108,"荒井　昭",126,529]
[null,38,"ダーツ足立鹿浜",454,"金子　龍吉",122,"浅香　弘子",120,"鴨田　敬三",88,"清水　洋子",118,"芳賀　七重",94,542]
[null,38,"ウエルネス十条　　　　　",454,"齊藤 裕大",118," 田代 茂喜",116,"細川 恒夫",106,"丸山 冨美男",114,"空席",0,454]
[null,40,"港区スポーツウエルネス吹矢協会　C",452,"田口　由之",100,"横山　道雄",112,"田中　ミツ子",126,"林　すみ子",94,"中島　廣久",114,546]
[null,41,"ダーツ東陽町支部 A",451,"米田　博",126,"大村 三枝子",105,"加藤一雄",108,"金田 弘子",102,"宮原 由実",112,553]
[null,42,"花しょうぶ葛飾支部　（Ｂ）",450,"鈴木　勲",110,"鈴木　勝子",124,"砂金　完司",122,"安達　健一",94,"内田　進",63,513]
[null,42,"練馬サンライフ支部　C",450,"太田　満知子",118,"小野　國治",94,"相原　昇",128,"長沼　廣",110,"中嶋　美惠",79,529]
[null,42,"板橋徳丸三凱亭　B",450,"加藤　寛",122,"手嶋　良夫",0,"寺尾 博美",102,"飯島　いすず",118,"古川　順一",108,450]
[null,45,"練馬サンライフ支部　A",448,"内藤　重生",104,"杉山　美枝",116,"佐々木　信次",108,"館野　知行",120,"橋本　直樹",80,528]
[null,46,"ダーツ東和（東和ーB)",447,"高橋　嗣雄",110,"内田　悦子",110,"藤田　麗子",113,"島田　さかえ",114,"山村　喜代志",100,547]
[null,47,"台東ー2",446,"押野 健",110,"杉山 久美子",104,"佐藤 幸廣",114,"深萱  静子",95,"柴﨑 貢二",118,541]
[null,48,"墨田区スポーツウエルネス吹矢協会　A",444,"佐々木　冨久",114,"白石　久子",88,"大屋　秀夫",120,"木内　庸介",92,"加藤　健二",118,532]
[null,49,"雪谷吹矢クラブ支部",441,"藤井 隆三",122,"真水 愛子",85,"沼澤 昭二",126,"渡辺 和生",89,"石塚 邦雄",104,526]
[null,50,"墨田区スポーツウエルネス吹矢協会　B",436,"宮田　美矢子",102,"村上　勝則",114,"鈴木　　充",108,"川畑　文江",0,"越沢　和子",112,436]
[null,51,"府中さつき会支部",430,"池田　三枝子",104,"生井　嘉子",99,"大平　岑富",108,"福井　洋子",114,"藤井　則義",104,529]
[null,52,"ダーツ東和（綾瀬ー１）",421,"小山　寿晴",124,"郷田　とし子",93,"小林　英子",108,"鈴木　通男",96,"河邊　靖夫",81,502]
[null,53,"練馬サンライフ支部　B",419,"遠藤　文子",104,"平木　信之",118,"三浦　暎彦",78,"島田　実",87,"柴　佳子",110,497]
[null,54,"東村山けやき　Ｂ",418,"山田　幸子",112,"安田　隆",52,"川股　成実",104,"二階堂　敏男",86,"安部　秀明",116,470]
[null,55,"くにたち吹矢’’３５　A",405,"平　和子",100,"中山　クニ子",97,"武内　幸江",118,"水谷　昭子",85,"星野　友美子",90,490]
[null,56,"小岩二東アローズ",400,"関　容朗",110,"比後　綾子",100,"磯貝　孝二",104,"志村美世子",83,"中鏡　正廉",86,483]
[null,57,"ダーツ東和（綾瀬ー2）",395,"田中　広子",62,"加藤　紀代子",94,"小山　静雄",96,"伊藤　光子",100,"河邊　セツ",105,457]
[null,58,"東村山けやき　Ａ",380,"中山　義行",102,"中山　玲子",112,"濱野　育子",69,"川島　淑子",86,"相澤　光江",80,449]
[null,59,"中野桃園支部　A",357,"戸上　紀子",74,"諏訪　恒子",91,"井口　稔",87,"成田　房雄",91,"齋藤 善信",88,431]
[null,60,"墨田区スポーツウエルネス吹矢協会　C",346,"鈴木　正枝",92,"弓野　秀子",54,"牧野　光江",98,"吉水　圭子",81,"森田　麻利子",75,400]
[null,61,"杉並中央支部　B",318,"高木　昇",66,"村山　彰男",75,"吉島　哲夫",65,"堀井　康司",112,"中村　美智子",59,377]
[null,62,"中野桃園支部　Ｂ",312,"高木　亀介",96,"星野　正夫",79,"星野　悦子",69,"伊藤　圭子　",68,"小島　修一",65,377]
[null,63,"港区スポーツウエルネス吹矢協会　F",0,"川上　美治",0,"山田　　篤",128,"田嶋　典子",116,"飯塚　正毅",0,"高橋　武夫",124,368]
[null,63,"府中さつき会支部　飯尾チーム",0,"竹鼻　みや子",114,"浦野　三枝",84,"飯尾　定雄",109,"空席",0,"空席",0,307]